BEGIN:VCALENDAR
VERSION:2.0
PRODID:-//Charlestown - ECPv6.6.4.2//NONSGML v1.0//EN
CALSCALE:GREGORIAN
METHOD:PUBLISH
X-ORIGINAL-URL:https://charlestown.ie
X-WR-CALDESC:Events for Charlestown
REFRESH-INTERVAL;VALUE=DURATION:PT1H
X-Robots-Tag:noindex
X-PUBLISHED-TTL:PT1H
BEGIN:VTIMEZONE
TZID:Europe/Dublin
BEGIN:DAYLIGHT
TZOFFSETFROM:+0000
TZOFFSETTO:+0100
TZNAME:IST
DTSTART:20250330T010000
END:DAYLIGHT
BEGIN:STANDARD
TZOFFSETFROM:+0100
TZOFFSETTO:+0000
TZNAME:GMT
DTSTART:20251026T010000
END:STANDARD
END:VTIMEZONE
BEGIN:VEVENT
DTSTART;TZID=Europe/Dublin:20251203T200000
DTEND;TZID=Europe/Dublin:20251203T220000
DTSTAMP:20260423T224626
CREATED:20250226T170301Z
LAST-MODIFIED:20250226T170418Z
UID:10001674-1764792000-1764799200@charlestown.ie
SUMMARY:Weekly Bridge Game - Walsh's Bar
DESCRIPTION:
URL:https://charlestown.ie/event/weekly-bridge-game-walshs-bar/2025-12-03/
LOCATION:Walsh’s Public House\, Main Street\, Charlestown\, Mayo\, Ireland
ATTACH;FMTTYPE=image/jpeg:https://charlestown.ie/wp-content/uploads/2025/02/20250226_165811.jpg
END:VEVENT
BEGIN:VEVENT
DTSTART;TZID=Europe/Dublin:20251126T200000
DTEND;TZID=Europe/Dublin:20251126T220000
DTSTAMP:20260423T224626
CREATED:20250226T170301Z
LAST-MODIFIED:20250226T170418Z
UID:10001673-1764187200-1764194400@charlestown.ie
SUMMARY:Weekly Bridge Game - Walsh's Bar
DESCRIPTION:
URL:https://charlestown.ie/event/weekly-bridge-game-walshs-bar/2025-11-26/
LOCATION:Walsh’s Public House\, Main Street\, Charlestown\, Mayo\, Ireland
ATTACH;FMTTYPE=image/jpeg:https://charlestown.ie/wp-content/uploads/2025/02/20250226_165811.jpg
END:VEVENT
BEGIN:VEVENT
DTSTART;TZID=Europe/Dublin:20251121T210000
DTEND;TZID=Europe/Dublin:20251121T233000
DTSTAMP:20260423T224626
CREATED:20251119T205115Z
LAST-MODIFIED:20251119T205115Z
UID:10003218-1763758800-1763767800@charlestown.ie
SUMMARY:LipSync Party
DESCRIPTION:
URL:https://charlestown.ie/event/lipsync-party/
LOCATION:Walsh’s Public House\, Main Street\, Charlestown\, Mayo\, Ireland
ATTACH;FMTTYPE=image/jpeg:https://charlestown.ie/wp-content/uploads/2025/11/Lip-Sync.jpg
END:VEVENT
BEGIN:VEVENT
DTSTART;TZID=Europe/Dublin:20251119T200000
DTEND;TZID=Europe/Dublin:20251119T220000
DTSTAMP:20260423T224626
CREATED:20250226T170301Z
LAST-MODIFIED:20250226T170418Z
UID:10001672-1763582400-1763589600@charlestown.ie
SUMMARY:Weekly Bridge Game - Walsh's Bar
DESCRIPTION:
URL:https://charlestown.ie/event/weekly-bridge-game-walshs-bar/2025-11-19/
LOCATION:Walsh’s Public House\, Main Street\, Charlestown\, Mayo\, Ireland
ATTACH;FMTTYPE=image/jpeg:https://charlestown.ie/wp-content/uploads/2025/02/20250226_165811.jpg
END:VEVENT
BEGIN:VEVENT
DTSTART;TZID=Europe/Dublin:20251112T200000
DTEND;TZID=Europe/Dublin:20251112T220000
DTSTAMP:20260423T224626
CREATED:20250226T170301Z
LAST-MODIFIED:20250226T170418Z
UID:10001671-1762977600-1762984800@charlestown.ie
SUMMARY:Weekly Bridge Game - Walsh's Bar
DESCRIPTION:
URL:https://charlestown.ie/event/weekly-bridge-game-walshs-bar/2025-11-12/
LOCATION:Walsh’s Public House\, Main Street\, Charlestown\, Mayo\, Ireland
ATTACH;FMTTYPE=image/jpeg:https://charlestown.ie/wp-content/uploads/2025/02/20250226_165811.jpg
END:VEVENT
BEGIN:VEVENT
DTSTART;TZID=Europe/Dublin:20251105T200000
DTEND;TZID=Europe/Dublin:20251105T220000
DTSTAMP:20260423T224626
CREATED:20250226T170301Z
LAST-MODIFIED:20250226T170418Z
UID:10001670-1762372800-1762380000@charlestown.ie
SUMMARY:Weekly Bridge Game - Walsh's Bar
DESCRIPTION:
URL:https://charlestown.ie/event/weekly-bridge-game-walshs-bar/2025-11-05/
LOCATION:Walsh’s Public House\, Main Street\, Charlestown\, Mayo\, Ireland
ATTACH;FMTTYPE=image/jpeg:https://charlestown.ie/wp-content/uploads/2025/02/20250226_165811.jpg
END:VEVENT
BEGIN:VEVENT
DTSTART;TZID=Europe/Dublin:20251029T200000
DTEND;TZID=Europe/Dublin:20251029T220000
DTSTAMP:20260423T224626
CREATED:20250226T170301Z
LAST-MODIFIED:20250226T170418Z
UID:10001669-1761768000-1761775200@charlestown.ie
SUMMARY:Weekly Bridge Game - Walsh's Bar
DESCRIPTION:
URL:https://charlestown.ie/event/weekly-bridge-game-walshs-bar/2025-10-29/
LOCATION:Walsh’s Public House\, Main Street\, Charlestown\, Mayo\, Ireland
ATTACH;FMTTYPE=image/jpeg:https://charlestown.ie/wp-content/uploads/2025/02/20250226_165811.jpg
END:VEVENT
BEGIN:VEVENT
DTSTART;TZID=Europe/Dublin:20251022T200000
DTEND;TZID=Europe/Dublin:20251022T220000
DTSTAMP:20260423T224626
CREATED:20250226T170301Z
LAST-MODIFIED:20250226T170418Z
UID:10001668-1761163200-1761170400@charlestown.ie
SUMMARY:Weekly Bridge Game - Walsh's Bar
DESCRIPTION:
URL:https://charlestown.ie/event/weekly-bridge-game-walshs-bar/2025-10-22/
LOCATION:Walsh’s Public House\, Main Street\, Charlestown\, Mayo\, Ireland
ATTACH;FMTTYPE=image/jpeg:https://charlestown.ie/wp-content/uploads/2025/02/20250226_165811.jpg
END:VEVENT
BEGIN:VEVENT
DTSTART;TZID=Europe/Dublin:20251019T140000
DTEND;TZID=Europe/Dublin:20251019T180000
DTSTAMP:20260423T224626
CREATED:20251018T151758Z
LAST-MODIFIED:20251018T152830Z
UID:10002965-1760882400-1760896800@charlestown.ie
SUMMARY:GAA - Mayo Senior Final - ( Walsh's Bar)
DESCRIPTION:
URL:https://charlestown.ie/event/gaa-mayo-senior-final-walshs-bar/
LOCATION:Walsh’s Public House\, Main Street\, Charlestown\, Mayo\, Ireland
CATEGORIES:GAA- LGFA
ATTACH;FMTTYPE=image/jpeg:https://charlestown.ie/wp-content/uploads/2025/10/Screenshot_20251018_161334_Facebook.jpg
END:VEVENT
BEGIN:VEVENT
DTSTART;TZID=Europe/Dublin:20251015T200000
DTEND;TZID=Europe/Dublin:20251015T220000
DTSTAMP:20260423T224626
CREATED:20250226T170301Z
LAST-MODIFIED:20250226T170418Z
UID:10001667-1760558400-1760565600@charlestown.ie
SUMMARY:Weekly Bridge Game - Walsh's Bar
DESCRIPTION:
URL:https://charlestown.ie/event/weekly-bridge-game-walshs-bar/2025-10-15/
LOCATION:Walsh’s Public House\, Main Street\, Charlestown\, Mayo\, Ireland
ATTACH;FMTTYPE=image/jpeg:https://charlestown.ie/wp-content/uploads/2025/02/20250226_165811.jpg
END:VEVENT
BEGIN:VEVENT
DTSTART;TZID=Europe/Dublin:20251008T200000
DTEND;TZID=Europe/Dublin:20251008T220000
DTSTAMP:20260423T224626
CREATED:20250226T170301Z
LAST-MODIFIED:20250226T170418Z
UID:10001666-1759953600-1759960800@charlestown.ie
SUMMARY:Weekly Bridge Game - Walsh's Bar
DESCRIPTION:
URL:https://charlestown.ie/event/weekly-bridge-game-walshs-bar/2025-10-08/
LOCATION:Walsh’s Public House\, Main Street\, Charlestown\, Mayo\, Ireland
ATTACH;FMTTYPE=image/jpeg:https://charlestown.ie/wp-content/uploads/2025/02/20250226_165811.jpg
END:VEVENT
BEGIN:VEVENT
DTSTART;TZID=Europe/Dublin:20251001T200000
DTEND;TZID=Europe/Dublin:20251001T220000
DTSTAMP:20260423T224626
CREATED:20250226T170301Z
LAST-MODIFIED:20250226T170418Z
UID:10001665-1759348800-1759356000@charlestown.ie
SUMMARY:Weekly Bridge Game - Walsh's Bar
DESCRIPTION:
URL:https://charlestown.ie/event/weekly-bridge-game-walshs-bar/2025-10-01/
LOCATION:Walsh’s Public House\, Main Street\, Charlestown\, Mayo\, Ireland
ATTACH;FMTTYPE=image/jpeg:https://charlestown.ie/wp-content/uploads/2025/02/20250226_165811.jpg
END:VEVENT
BEGIN:VEVENT
DTSTART;TZID=Europe/Dublin:20250924T200000
DTEND;TZID=Europe/Dublin:20250924T220000
DTSTAMP:20260423T224626
CREATED:20250226T170301Z
LAST-MODIFIED:20250226T170418Z
UID:10001664-1758744000-1758751200@charlestown.ie
SUMMARY:Weekly Bridge Game - Walsh's Bar
DESCRIPTION:
URL:https://charlestown.ie/event/weekly-bridge-game-walshs-bar/2025-09-24/
LOCATION:Walsh’s Public House\, Main Street\, Charlestown\, Mayo\, Ireland
ATTACH;FMTTYPE=image/jpeg:https://charlestown.ie/wp-content/uploads/2025/02/20250226_165811.jpg
END:VEVENT
BEGIN:VEVENT
DTSTART;TZID=Europe/Dublin:20250917T200000
DTEND;TZID=Europe/Dublin:20250917T220000
DTSTAMP:20260423T224626
CREATED:20250226T170301Z
LAST-MODIFIED:20250226T170418Z
UID:10001663-1758139200-1758146400@charlestown.ie
SUMMARY:Weekly Bridge Game - Walsh's Bar
DESCRIPTION:
URL:https://charlestown.ie/event/weekly-bridge-game-walshs-bar/2025-09-17/
LOCATION:Walsh’s Public House\, Main Street\, Charlestown\, Mayo\, Ireland
ATTACH;FMTTYPE=image/jpeg:https://charlestown.ie/wp-content/uploads/2025/02/20250226_165811.jpg
END:VEVENT
BEGIN:VEVENT
DTSTART;TZID=Europe/Dublin:20250910T200000
DTEND;TZID=Europe/Dublin:20250910T220000
DTSTAMP:20260423T224626
CREATED:20250226T170301Z
LAST-MODIFIED:20250226T170418Z
UID:10001662-1757534400-1757541600@charlestown.ie
SUMMARY:Weekly Bridge Game - Walsh's Bar
DESCRIPTION:
URL:https://charlestown.ie/event/weekly-bridge-game-walshs-bar/2025-09-10/
LOCATION:Walsh’s Public House\, Main Street\, Charlestown\, Mayo\, Ireland
ATTACH;FMTTYPE=image/jpeg:https://charlestown.ie/wp-content/uploads/2025/02/20250226_165811.jpg
END:VEVENT
BEGIN:VEVENT
DTSTART;TZID=Europe/Dublin:20250903T200000
DTEND;TZID=Europe/Dublin:20250903T220000
DTSTAMP:20260423T224626
CREATED:20250226T170301Z
LAST-MODIFIED:20250226T170418Z
UID:10001661-1756929600-1756936800@charlestown.ie
SUMMARY:Weekly Bridge Game - Walsh's Bar
DESCRIPTION:
URL:https://charlestown.ie/event/weekly-bridge-game-walshs-bar/2025-09-03/
LOCATION:Walsh’s Public House\, Main Street\, Charlestown\, Mayo\, Ireland
ATTACH;FMTTYPE=image/jpeg:https://charlestown.ie/wp-content/uploads/2025/02/20250226_165811.jpg
END:VEVENT
BEGIN:VEVENT
DTSTART;TZID=Europe/Dublin:20250827T200000
DTEND;TZID=Europe/Dublin:20250827T220000
DTSTAMP:20260423T224626
CREATED:20250226T170301Z
LAST-MODIFIED:20250226T170418Z
UID:10001660-1756324800-1756332000@charlestown.ie
SUMMARY:Weekly Bridge Game - Walsh's Bar
DESCRIPTION:
URL:https://charlestown.ie/event/weekly-bridge-game-walshs-bar/2025-08-27/
LOCATION:Walsh’s Public House\, Main Street\, Charlestown\, Mayo\, Ireland
ATTACH;FMTTYPE=image/jpeg:https://charlestown.ie/wp-content/uploads/2025/02/20250226_165811.jpg
END:VEVENT
BEGIN:VEVENT
DTSTART;TZID=Europe/Dublin:20250820T200000
DTEND;TZID=Europe/Dublin:20250820T220000
DTSTAMP:20260423T224626
CREATED:20250226T170301Z
LAST-MODIFIED:20250226T170418Z
UID:10001659-1755720000-1755727200@charlestown.ie
SUMMARY:Weekly Bridge Game - Walsh's Bar
DESCRIPTION:
URL:https://charlestown.ie/event/weekly-bridge-game-walshs-bar/2025-08-20/
LOCATION:Walsh’s Public House\, Main Street\, Charlestown\, Mayo\, Ireland
ATTACH;FMTTYPE=image/jpeg:https://charlestown.ie/wp-content/uploads/2025/02/20250226_165811.jpg
END:VEVENT
BEGIN:VEVENT
DTSTART;TZID=Europe/Dublin:20250813T200000
DTEND;TZID=Europe/Dublin:20250813T220000
DTSTAMP:20260423T224626
CREATED:20250226T170301Z
LAST-MODIFIED:20250226T170418Z
UID:10001658-1755115200-1755122400@charlestown.ie
SUMMARY:Weekly Bridge Game - Walsh's Bar
DESCRIPTION:
URL:https://charlestown.ie/event/weekly-bridge-game-walshs-bar/2025-08-13/
LOCATION:Walsh’s Public House\, Main Street\, Charlestown\, Mayo\, Ireland
ATTACH;FMTTYPE=image/jpeg:https://charlestown.ie/wp-content/uploads/2025/02/20250226_165811.jpg
END:VEVENT
BEGIN:VEVENT
DTSTART;TZID=Europe/Dublin:20250806T200000
DTEND;TZID=Europe/Dublin:20250806T220000
DTSTAMP:20260423T224626
CREATED:20250226T170301Z
LAST-MODIFIED:20250226T170418Z
UID:10001657-1754510400-1754517600@charlestown.ie
SUMMARY:Weekly Bridge Game - Walsh's Bar
DESCRIPTION:
URL:https://charlestown.ie/event/weekly-bridge-game-walshs-bar/2025-08-06/
LOCATION:Walsh’s Public House\, Main Street\, Charlestown\, Mayo\, Ireland
ATTACH;FMTTYPE=image/jpeg:https://charlestown.ie/wp-content/uploads/2025/02/20250226_165811.jpg
END:VEVENT
BEGIN:VEVENT
DTSTART;TZID=Europe/Dublin:20250730T200000
DTEND;TZID=Europe/Dublin:20250730T220000
DTSTAMP:20260423T224626
CREATED:20250226T170301Z
LAST-MODIFIED:20250226T170418Z
UID:10001656-1753905600-1753912800@charlestown.ie
SUMMARY:Weekly Bridge Game - Walsh's Bar
DESCRIPTION:
URL:https://charlestown.ie/event/weekly-bridge-game-walshs-bar/2025-07-30/
LOCATION:Walsh’s Public House\, Main Street\, Charlestown\, Mayo\, Ireland
ATTACH;FMTTYPE=image/jpeg:https://charlestown.ie/wp-content/uploads/2025/02/20250226_165811.jpg
END:VEVENT
BEGIN:VEVENT
DTSTART;TZID=Europe/Dublin:20250723T200000
DTEND;TZID=Europe/Dublin:20250723T220000
DTSTAMP:20260423T224626
CREATED:20250226T170301Z
LAST-MODIFIED:20250226T170418Z
UID:10001655-1753300800-1753308000@charlestown.ie
SUMMARY:Weekly Bridge Game - Walsh's Bar
DESCRIPTION:
URL:https://charlestown.ie/event/weekly-bridge-game-walshs-bar/2025-07-23/
LOCATION:Walsh’s Public House\, Main Street\, Charlestown\, Mayo\, Ireland
ATTACH;FMTTYPE=image/jpeg:https://charlestown.ie/wp-content/uploads/2025/02/20250226_165811.jpg
END:VEVENT
BEGIN:VEVENT
DTSTART;TZID=Europe/Dublin:20250716T200000
DTEND;TZID=Europe/Dublin:20250716T220000
DTSTAMP:20260423T224626
CREATED:20250226T170301Z
LAST-MODIFIED:20250226T170418Z
UID:10001654-1752696000-1752703200@charlestown.ie
SUMMARY:Weekly Bridge Game - Walsh's Bar
DESCRIPTION:
URL:https://charlestown.ie/event/weekly-bridge-game-walshs-bar/2025-07-16/
LOCATION:Walsh’s Public House\, Main Street\, Charlestown\, Mayo\, Ireland
ATTACH;FMTTYPE=image/jpeg:https://charlestown.ie/wp-content/uploads/2025/02/20250226_165811.jpg
END:VEVENT
BEGIN:VEVENT
DTSTART;TZID=Europe/Dublin:20250709T200000
DTEND;TZID=Europe/Dublin:20250709T220000
DTSTAMP:20260423T224626
CREATED:20250226T170301Z
LAST-MODIFIED:20250226T170418Z
UID:10001653-1752091200-1752098400@charlestown.ie
SUMMARY:Weekly Bridge Game - Walsh's Bar
DESCRIPTION:
URL:https://charlestown.ie/event/weekly-bridge-game-walshs-bar/2025-07-09/
LOCATION:Walsh’s Public House\, Main Street\, Charlestown\, Mayo\, Ireland
ATTACH;FMTTYPE=image/jpeg:https://charlestown.ie/wp-content/uploads/2025/02/20250226_165811.jpg
END:VEVENT
BEGIN:VEVENT
DTSTART;TZID=Europe/Dublin:20250702T200000
DTEND;TZID=Europe/Dublin:20250702T220000
DTSTAMP:20260423T224626
CREATED:20250226T170301Z
LAST-MODIFIED:20250226T170418Z
UID:10001652-1751486400-1751493600@charlestown.ie
SUMMARY:Weekly Bridge Game - Walsh's Bar
DESCRIPTION:
URL:https://charlestown.ie/event/weekly-bridge-game-walshs-bar/2025-07-02/
LOCATION:Walsh’s Public House\, Main Street\, Charlestown\, Mayo\, Ireland
ATTACH;FMTTYPE=image/jpeg:https://charlestown.ie/wp-content/uploads/2025/02/20250226_165811.jpg
END:VEVENT
BEGIN:VEVENT
DTSTART;TZID=Europe/Dublin:20250625T200000
DTEND;TZID=Europe/Dublin:20250625T220000
DTSTAMP:20260423T224626
CREATED:20250226T170301Z
LAST-MODIFIED:20250226T170418Z
UID:10001651-1750881600-1750888800@charlestown.ie
SUMMARY:Weekly Bridge Game - Walsh's Bar
DESCRIPTION:
URL:https://charlestown.ie/event/weekly-bridge-game-walshs-bar/2025-06-25/
LOCATION:Walsh’s Public House\, Main Street\, Charlestown\, Mayo\, Ireland
ATTACH;FMTTYPE=image/jpeg:https://charlestown.ie/wp-content/uploads/2025/02/20250226_165811.jpg
END:VEVENT
BEGIN:VEVENT
DTSTART;TZID=Europe/Dublin:20250618T200000
DTEND;TZID=Europe/Dublin:20250618T220000
DTSTAMP:20260423T224626
CREATED:20250226T170301Z
LAST-MODIFIED:20250226T170418Z
UID:10001650-1750276800-1750284000@charlestown.ie
SUMMARY:Weekly Bridge Game - Walsh's Bar
DESCRIPTION:
URL:https://charlestown.ie/event/weekly-bridge-game-walshs-bar/2025-06-18/
LOCATION:Walsh’s Public House\, Main Street\, Charlestown\, Mayo\, Ireland
ATTACH;FMTTYPE=image/jpeg:https://charlestown.ie/wp-content/uploads/2025/02/20250226_165811.jpg
END:VEVENT
BEGIN:VEVENT
DTSTART;TZID=Europe/Dublin:20250611T200000
DTEND;TZID=Europe/Dublin:20250611T220000
DTSTAMP:20260423T224626
CREATED:20250226T170301Z
LAST-MODIFIED:20250226T170418Z
UID:10001649-1749672000-1749679200@charlestown.ie
SUMMARY:Weekly Bridge Game - Walsh's Bar
DESCRIPTION:
URL:https://charlestown.ie/event/weekly-bridge-game-walshs-bar/2025-06-11/
LOCATION:Walsh’s Public House\, Main Street\, Charlestown\, Mayo\, Ireland
ATTACH;FMTTYPE=image/jpeg:https://charlestown.ie/wp-content/uploads/2025/02/20250226_165811.jpg
END:VEVENT
BEGIN:VEVENT
DTSTART;TZID=Europe/Dublin:20250604T200000
DTEND;TZID=Europe/Dublin:20250604T220000
DTSTAMP:20260423T224626
CREATED:20250226T170301Z
LAST-MODIFIED:20250226T170418Z
UID:10001648-1749067200-1749074400@charlestown.ie
SUMMARY:Weekly Bridge Game - Walsh's Bar
DESCRIPTION:
URL:https://charlestown.ie/event/weekly-bridge-game-walshs-bar/2025-06-04/
LOCATION:Walsh’s Public House\, Main Street\, Charlestown\, Mayo\, Ireland
ATTACH;FMTTYPE=image/jpeg:https://charlestown.ie/wp-content/uploads/2025/02/20250226_165811.jpg
END:VEVENT
BEGIN:VEVENT
DTSTART;TZID=Europe/Dublin:20250528T200000
DTEND;TZID=Europe/Dublin:20250528T220000
DTSTAMP:20260423T224626
CREATED:20250226T170301Z
LAST-MODIFIED:20250226T170418Z
UID:10001647-1748462400-1748469600@charlestown.ie
SUMMARY:Weekly Bridge Game - Walsh's Bar
DESCRIPTION:
URL:https://charlestown.ie/event/weekly-bridge-game-walshs-bar/2025-05-28/
LOCATION:Walsh’s Public House\, Main Street\, Charlestown\, Mayo\, Ireland
ATTACH;FMTTYPE=image/jpeg:https://charlestown.ie/wp-content/uploads/2025/02/20250226_165811.jpg
END:VEVENT
END:VCALENDAR