BEGIN:VCALENDAR
VERSION:2.0
PRODID:-//Charlestown - ECPv6.6.4.2//NONSGML v1.0//EN
CALSCALE:GREGORIAN
METHOD:PUBLISH
X-WR-CALNAME:Charlestown
X-ORIGINAL-URL:https://charlestown.ie
X-WR-CALDESC:Events for Charlestown
REFRESH-INTERVAL;VALUE=DURATION:PT1H
X-Robots-Tag:noindex
X-PUBLISHED-TTL:PT1H
BEGIN:VTIMEZONE
TZID:Europe/Dublin
BEGIN:DAYLIGHT
TZOFFSETFROM:+0000
TZOFFSETTO:+0100
TZNAME:IST
DTSTART:20260329T010000
END:DAYLIGHT
BEGIN:STANDARD
TZOFFSETFROM:+0100
TZOFFSETTO:+0000
TZNAME:GMT
DTSTART:20261025T010000
END:STANDARD
END:VTIMEZONE
BEGIN:VEVENT
DTSTART;TZID=Europe/Dublin:20260708T200000
DTEND;TZID=Europe/Dublin:20260708T220000
DTSTAMP:20260423T194635
CREATED:20250226T170301Z
LAST-MODIFIED:20250226T170418Z
UID:10001705-1783540800-1783548000@charlestown.ie
SUMMARY:Weekly Bridge Game - Walsh's Bar
DESCRIPTION:
URL:https://charlestown.ie/event/weekly-bridge-game-walshs-bar/2026-07-08/
LOCATION:Walsh’s Public House\, Main Street\, Charlestown\, Mayo\, Ireland
ATTACH;FMTTYPE=image/jpeg:https://charlestown.ie/wp-content/uploads/2025/02/20250226_165811.jpg
END:VEVENT
BEGIN:VEVENT
DTSTART;TZID=Europe/Dublin:20260715T200000
DTEND;TZID=Europe/Dublin:20260715T220000
DTSTAMP:20260423T194635
CREATED:20250226T170301Z
LAST-MODIFIED:20250226T170418Z
UID:10001706-1784145600-1784152800@charlestown.ie
SUMMARY:Weekly Bridge Game - Walsh's Bar
DESCRIPTION:
URL:https://charlestown.ie/event/weekly-bridge-game-walshs-bar/2026-07-15/
LOCATION:Walsh’s Public House\, Main Street\, Charlestown\, Mayo\, Ireland
ATTACH;FMTTYPE=image/jpeg:https://charlestown.ie/wp-content/uploads/2025/02/20250226_165811.jpg
END:VEVENT
BEGIN:VEVENT
DTSTART;TZID=Europe/Dublin:20260722T200000
DTEND;TZID=Europe/Dublin:20260722T220000
DTSTAMP:20260423T194635
CREATED:20250226T170301Z
LAST-MODIFIED:20250226T170418Z
UID:10001707-1784750400-1784757600@charlestown.ie
SUMMARY:Weekly Bridge Game - Walsh's Bar
DESCRIPTION:
URL:https://charlestown.ie/event/weekly-bridge-game-walshs-bar/2026-07-22/
LOCATION:Walsh’s Public House\, Main Street\, Charlestown\, Mayo\, Ireland
ATTACH;FMTTYPE=image/jpeg:https://charlestown.ie/wp-content/uploads/2025/02/20250226_165811.jpg
END:VEVENT
BEGIN:VEVENT
DTSTART;TZID=Europe/Dublin:20260729T200000
DTEND;TZID=Europe/Dublin:20260729T220000
DTSTAMP:20260423T194635
CREATED:20250226T170301Z
LAST-MODIFIED:20250226T170418Z
UID:10001708-1785355200-1785362400@charlestown.ie
SUMMARY:Weekly Bridge Game - Walsh's Bar
DESCRIPTION:
URL:https://charlestown.ie/event/weekly-bridge-game-walshs-bar/2026-07-29/
LOCATION:Walsh’s Public House\, Main Street\, Charlestown\, Mayo\, Ireland
ATTACH;FMTTYPE=image/jpeg:https://charlestown.ie/wp-content/uploads/2025/02/20250226_165811.jpg
END:VEVENT
BEGIN:VEVENT
DTSTART;TZID=Europe/Dublin:20260805T200000
DTEND;TZID=Europe/Dublin:20260805T220000
DTSTAMP:20260423T194635
CREATED:20250226T170301Z
LAST-MODIFIED:20250226T170418Z
UID:10001709-1785960000-1785967200@charlestown.ie
SUMMARY:Weekly Bridge Game - Walsh's Bar
DESCRIPTION:
URL:https://charlestown.ie/event/weekly-bridge-game-walshs-bar/2026-08-05/
LOCATION:Walsh’s Public House\, Main Street\, Charlestown\, Mayo\, Ireland
ATTACH;FMTTYPE=image/jpeg:https://charlestown.ie/wp-content/uploads/2025/02/20250226_165811.jpg
END:VEVENT
BEGIN:VEVENT
DTSTART;TZID=Europe/Dublin:20260812T200000
DTEND;TZID=Europe/Dublin:20260812T220000
DTSTAMP:20260423T194635
CREATED:20250226T170301Z
LAST-MODIFIED:20250226T170418Z
UID:10001710-1786564800-1786572000@charlestown.ie
SUMMARY:Weekly Bridge Game - Walsh's Bar
DESCRIPTION:
URL:https://charlestown.ie/event/weekly-bridge-game-walshs-bar/2026-08-12/
LOCATION:Walsh’s Public House\, Main Street\, Charlestown\, Mayo\, Ireland
ATTACH;FMTTYPE=image/jpeg:https://charlestown.ie/wp-content/uploads/2025/02/20250226_165811.jpg
END:VEVENT
BEGIN:VEVENT
DTSTART;TZID=Europe/Dublin:20260819T200000
DTEND;TZID=Europe/Dublin:20260819T220000
DTSTAMP:20260423T194635
CREATED:20250226T170301Z
LAST-MODIFIED:20250226T170418Z
UID:10001711-1787169600-1787176800@charlestown.ie
SUMMARY:Weekly Bridge Game - Walsh's Bar
DESCRIPTION:
URL:https://charlestown.ie/event/weekly-bridge-game-walshs-bar/2026-08-19/
LOCATION:Walsh’s Public House\, Main Street\, Charlestown\, Mayo\, Ireland
ATTACH;FMTTYPE=image/jpeg:https://charlestown.ie/wp-content/uploads/2025/02/20250226_165811.jpg
END:VEVENT
BEGIN:VEVENT
DTSTART;TZID=Europe/Dublin:20260826T200000
DTEND;TZID=Europe/Dublin:20260826T220000
DTSTAMP:20260423T194635
CREATED:20250226T170301Z
LAST-MODIFIED:20250226T170418Z
UID:10001712-1787774400-1787781600@charlestown.ie
SUMMARY:Weekly Bridge Game - Walsh's Bar
DESCRIPTION:
URL:https://charlestown.ie/event/weekly-bridge-game-walshs-bar/2026-08-26/
LOCATION:Walsh’s Public House\, Main Street\, Charlestown\, Mayo\, Ireland
ATTACH;FMTTYPE=image/jpeg:https://charlestown.ie/wp-content/uploads/2025/02/20250226_165811.jpg
END:VEVENT
BEGIN:VEVENT
DTSTART;TZID=Europe/Dublin:20260902T200000
DTEND;TZID=Europe/Dublin:20260902T220000
DTSTAMP:20260423T194635
CREATED:20250226T170301Z
LAST-MODIFIED:20250226T170418Z
UID:10001713-1788379200-1788386400@charlestown.ie
SUMMARY:Weekly Bridge Game - Walsh's Bar
DESCRIPTION:
URL:https://charlestown.ie/event/weekly-bridge-game-walshs-bar/2026-09-02/
LOCATION:Walsh’s Public House\, Main Street\, Charlestown\, Mayo\, Ireland
ATTACH;FMTTYPE=image/jpeg:https://charlestown.ie/wp-content/uploads/2025/02/20250226_165811.jpg
END:VEVENT
BEGIN:VEVENT
DTSTART;TZID=Europe/Dublin:20260909T200000
DTEND;TZID=Europe/Dublin:20260909T220000
DTSTAMP:20260423T194635
CREATED:20250226T170301Z
LAST-MODIFIED:20250226T170418Z
UID:10001714-1788984000-1788991200@charlestown.ie
SUMMARY:Weekly Bridge Game - Walsh's Bar
DESCRIPTION:
URL:https://charlestown.ie/event/weekly-bridge-game-walshs-bar/2026-09-09/
LOCATION:Walsh’s Public House\, Main Street\, Charlestown\, Mayo\, Ireland
ATTACH;FMTTYPE=image/jpeg:https://charlestown.ie/wp-content/uploads/2025/02/20250226_165811.jpg
END:VEVENT
BEGIN:VEVENT
DTSTART;TZID=Europe/Dublin:20260916T200000
DTEND;TZID=Europe/Dublin:20260916T220000
DTSTAMP:20260423T194635
CREATED:20250226T170301Z
LAST-MODIFIED:20250226T170418Z
UID:10001715-1789588800-1789596000@charlestown.ie
SUMMARY:Weekly Bridge Game - Walsh's Bar
DESCRIPTION:
URL:https://charlestown.ie/event/weekly-bridge-game-walshs-bar/2026-09-16/
LOCATION:Walsh’s Public House\, Main Street\, Charlestown\, Mayo\, Ireland
ATTACH;FMTTYPE=image/jpeg:https://charlestown.ie/wp-content/uploads/2025/02/20250226_165811.jpg
END:VEVENT
BEGIN:VEVENT
DTSTART;TZID=Europe/Dublin:20260923T200000
DTEND;TZID=Europe/Dublin:20260923T220000
DTSTAMP:20260423T194635
CREATED:20250226T170301Z
LAST-MODIFIED:20250226T170418Z
UID:10001716-1790193600-1790200800@charlestown.ie
SUMMARY:Weekly Bridge Game - Walsh's Bar
DESCRIPTION:
URL:https://charlestown.ie/event/weekly-bridge-game-walshs-bar/2026-09-23/
LOCATION:Walsh’s Public House\, Main Street\, Charlestown\, Mayo\, Ireland
ATTACH;FMTTYPE=image/jpeg:https://charlestown.ie/wp-content/uploads/2025/02/20250226_165811.jpg
END:VEVENT
BEGIN:VEVENT
DTSTART;TZID=Europe/Dublin:20260930T200000
DTEND;TZID=Europe/Dublin:20260930T220000
DTSTAMP:20260423T194635
CREATED:20250226T170301Z
LAST-MODIFIED:20250226T170418Z
UID:10001717-1790798400-1790805600@charlestown.ie
SUMMARY:Weekly Bridge Game - Walsh's Bar
DESCRIPTION:
URL:https://charlestown.ie/event/weekly-bridge-game-walshs-bar/2026-09-30/
LOCATION:Walsh’s Public House\, Main Street\, Charlestown\, Mayo\, Ireland
ATTACH;FMTTYPE=image/jpeg:https://charlestown.ie/wp-content/uploads/2025/02/20250226_165811.jpg
END:VEVENT
BEGIN:VEVENT
DTSTART;TZID=Europe/Dublin:20261007T200000
DTEND;TZID=Europe/Dublin:20261007T220000
DTSTAMP:20260423T194635
CREATED:20250226T170301Z
LAST-MODIFIED:20250226T170418Z
UID:10001718-1791403200-1791410400@charlestown.ie
SUMMARY:Weekly Bridge Game - Walsh's Bar
DESCRIPTION:
URL:https://charlestown.ie/event/weekly-bridge-game-walshs-bar/2026-10-07/
LOCATION:Walsh’s Public House\, Main Street\, Charlestown\, Mayo\, Ireland
ATTACH;FMTTYPE=image/jpeg:https://charlestown.ie/wp-content/uploads/2025/02/20250226_165811.jpg
END:VEVENT
BEGIN:VEVENT
DTSTART;TZID=Europe/Dublin:20261014T200000
DTEND;TZID=Europe/Dublin:20261014T220000
DTSTAMP:20260423T194635
CREATED:20250226T170301Z
LAST-MODIFIED:20250226T170418Z
UID:10001719-1792008000-1792015200@charlestown.ie
SUMMARY:Weekly Bridge Game - Walsh's Bar
DESCRIPTION:
URL:https://charlestown.ie/event/weekly-bridge-game-walshs-bar/2026-10-14/
LOCATION:Walsh’s Public House\, Main Street\, Charlestown\, Mayo\, Ireland
ATTACH;FMTTYPE=image/jpeg:https://charlestown.ie/wp-content/uploads/2025/02/20250226_165811.jpg
END:VEVENT
BEGIN:VEVENT
DTSTART;TZID=Europe/Dublin:20261021T200000
DTEND;TZID=Europe/Dublin:20261021T220000
DTSTAMP:20260423T194635
CREATED:20250226T170301Z
LAST-MODIFIED:20250226T170418Z
UID:10001720-1792612800-1792620000@charlestown.ie
SUMMARY:Weekly Bridge Game - Walsh's Bar
DESCRIPTION:
URL:https://charlestown.ie/event/weekly-bridge-game-walshs-bar/2026-10-21/
LOCATION:Walsh’s Public House\, Main Street\, Charlestown\, Mayo\, Ireland
ATTACH;FMTTYPE=image/jpeg:https://charlestown.ie/wp-content/uploads/2025/02/20250226_165811.jpg
END:VEVENT
BEGIN:VEVENT
DTSTART;TZID=Europe/Dublin:20261028T200000
DTEND;TZID=Europe/Dublin:20261028T220000
DTSTAMP:20260423T194635
CREATED:20250226T170301Z
LAST-MODIFIED:20250226T170418Z
UID:10001721-1793217600-1793224800@charlestown.ie
SUMMARY:Weekly Bridge Game - Walsh's Bar
DESCRIPTION:
URL:https://charlestown.ie/event/weekly-bridge-game-walshs-bar/2026-10-28/
LOCATION:Walsh’s Public House\, Main Street\, Charlestown\, Mayo\, Ireland
ATTACH;FMTTYPE=image/jpeg:https://charlestown.ie/wp-content/uploads/2025/02/20250226_165811.jpg
END:VEVENT
BEGIN:VEVENT
DTSTART;TZID=Europe/Dublin:20261104T200000
DTEND;TZID=Europe/Dublin:20261104T220000
DTSTAMP:20260423T194635
CREATED:20250226T170301Z
LAST-MODIFIED:20250226T170418Z
UID:10001722-1793822400-1793829600@charlestown.ie
SUMMARY:Weekly Bridge Game - Walsh's Bar
DESCRIPTION:
URL:https://charlestown.ie/event/weekly-bridge-game-walshs-bar/2026-11-04/
LOCATION:Walsh’s Public House\, Main Street\, Charlestown\, Mayo\, Ireland
ATTACH;FMTTYPE=image/jpeg:https://charlestown.ie/wp-content/uploads/2025/02/20250226_165811.jpg
END:VEVENT
BEGIN:VEVENT
DTSTART;TZID=Europe/Dublin:20261111T200000
DTEND;TZID=Europe/Dublin:20261111T220000
DTSTAMP:20260423T194635
CREATED:20250226T170301Z
LAST-MODIFIED:20250226T170418Z
UID:10001723-1794427200-1794434400@charlestown.ie
SUMMARY:Weekly Bridge Game - Walsh's Bar
DESCRIPTION:
URL:https://charlestown.ie/event/weekly-bridge-game-walshs-bar/2026-11-11/
LOCATION:Walsh’s Public House\, Main Street\, Charlestown\, Mayo\, Ireland
ATTACH;FMTTYPE=image/jpeg:https://charlestown.ie/wp-content/uploads/2025/02/20250226_165811.jpg
END:VEVENT
BEGIN:VEVENT
DTSTART;TZID=Europe/Dublin:20261118T200000
DTEND;TZID=Europe/Dublin:20261118T220000
DTSTAMP:20260423T194635
CREATED:20250226T170301Z
LAST-MODIFIED:20250226T170418Z
UID:10001724-1795032000-1795039200@charlestown.ie
SUMMARY:Weekly Bridge Game - Walsh's Bar
DESCRIPTION:
URL:https://charlestown.ie/event/weekly-bridge-game-walshs-bar/2026-11-18/
LOCATION:Walsh’s Public House\, Main Street\, Charlestown\, Mayo\, Ireland
ATTACH;FMTTYPE=image/jpeg:https://charlestown.ie/wp-content/uploads/2025/02/20250226_165811.jpg
END:VEVENT
BEGIN:VEVENT
DTSTART;TZID=Europe/Dublin:20261125T200000
DTEND;TZID=Europe/Dublin:20261125T220000
DTSTAMP:20260423T194635
CREATED:20250226T170301Z
LAST-MODIFIED:20250226T170418Z
UID:10001725-1795636800-1795644000@charlestown.ie
SUMMARY:Weekly Bridge Game - Walsh's Bar
DESCRIPTION:
URL:https://charlestown.ie/event/weekly-bridge-game-walshs-bar/2026-11-25/
LOCATION:Walsh’s Public House\, Main Street\, Charlestown\, Mayo\, Ireland
ATTACH;FMTTYPE=image/jpeg:https://charlestown.ie/wp-content/uploads/2025/02/20250226_165811.jpg
END:VEVENT
BEGIN:VEVENT
DTSTART;TZID=Europe/Dublin:20261202T200000
DTEND;TZID=Europe/Dublin:20261202T220000
DTSTAMP:20260423T194635
CREATED:20250226T170301Z
LAST-MODIFIED:20250226T170418Z
UID:10001726-1796241600-1796248800@charlestown.ie
SUMMARY:Weekly Bridge Game - Walsh's Bar
DESCRIPTION:
URL:https://charlestown.ie/event/weekly-bridge-game-walshs-bar/2026-12-02/
LOCATION:Walsh’s Public House\, Main Street\, Charlestown\, Mayo\, Ireland
ATTACH;FMTTYPE=image/jpeg:https://charlestown.ie/wp-content/uploads/2025/02/20250226_165811.jpg
END:VEVENT
BEGIN:VEVENT
DTSTART;TZID=Europe/Dublin:20261209T200000
DTEND;TZID=Europe/Dublin:20261209T220000
DTSTAMP:20260423T194635
CREATED:20250226T170301Z
LAST-MODIFIED:20250226T170418Z
UID:10001727-1796846400-1796853600@charlestown.ie
SUMMARY:Weekly Bridge Game - Walsh's Bar
DESCRIPTION:
URL:https://charlestown.ie/event/weekly-bridge-game-walshs-bar/2026-12-09/
LOCATION:Walsh’s Public House\, Main Street\, Charlestown\, Mayo\, Ireland
ATTACH;FMTTYPE=image/jpeg:https://charlestown.ie/wp-content/uploads/2025/02/20250226_165811.jpg
END:VEVENT
END:VCALENDAR