BEGIN:VCALENDAR
VERSION:2.0
PRODID:-//Charlestown - ECPv6.6.4.2//NONSGML v1.0//EN
CALSCALE:GREGORIAN
METHOD:PUBLISH
X-ORIGINAL-URL:https://charlestown.ie
X-WR-CALDESC:Events for Charlestown
REFRESH-INTERVAL;VALUE=DURATION:PT1H
X-Robots-Tag:noindex
X-PUBLISHED-TTL:PT1H
BEGIN:VTIMEZONE
TZID:Europe/Dublin
BEGIN:DAYLIGHT
TZOFFSETFROM:+0000
TZOFFSETTO:+0100
TZNAME:IST
DTSTART:20220327T010000
END:DAYLIGHT
BEGIN:STANDARD
TZOFFSETFROM:+0100
TZOFFSETTO:+0000
TZNAME:GMT
DTSTART:20221030T010000
END:STANDARD
BEGIN:DAYLIGHT
TZOFFSETFROM:+0000
TZOFFSETTO:+0100
TZNAME:IST
DTSTART:20230326T010000
END:DAYLIGHT
BEGIN:STANDARD
TZOFFSETFROM:+0100
TZOFFSETTO:+0000
TZNAME:GMT
DTSTART:20231029T010000
END:STANDARD
BEGIN:DAYLIGHT
TZOFFSETFROM:+0000
TZOFFSETTO:+0100
TZNAME:IST
DTSTART:20240331T010000
END:DAYLIGHT
BEGIN:STANDARD
TZOFFSETFROM:+0100
TZOFFSETTO:+0000
TZNAME:GMT
DTSTART:20241027T010000
END:STANDARD
END:VTIMEZONE
BEGIN:VEVENT
DTSTART;TZID=Europe/Dublin:20241024T160000
DTEND;TZID=Europe/Dublin:20241024T180000
DTSTAMP:20260424T021356
CREATED:20241009T135756Z
LAST-MODIFIED:20241009T135756Z
UID:10001305-1729785600-1729792800@charlestown.ie
SUMMARY:Halloween Disco - Tavneena School (All Welcome)
DESCRIPTION:HALLOWEEN DISCO 🎃 🎃🎃🎃\nOur Annual Halloween Disco is taking place on Thursday the 24th of October from 4-6 pm.\nIt promises to be an evening filled with lots of music \, treats and some very spooky characters.\n€5 per child or €10 per family.\nAll are welcome 🎃🎃🎃
URL:https://charlestown.ie/event/halloween-disco-tavneena-school-all-welcome/
LOCATION:Tavneena National School\, Tavneena\, Charlestown\, Mayo\, Ireland
ATTACH;FMTTYPE=image/jpeg:https://charlestown.ie/wp-content/uploads/2024/10/Screenshot_20241009_145355_Facebook.jpg
END:VEVENT
BEGIN:VEVENT
DTSTART;TZID=Europe/Dublin:20231215T173000
DTEND;TZID=Europe/Dublin:20231215T190000
DTSTAMP:20260424T021356
CREATED:20231117T113437Z
LAST-MODIFIED:20231117T113437Z
UID:10000814-1702661400-1702666800@charlestown.ie
SUMMARY:Tavneena N.S. Christmas Concert
DESCRIPTION:  \nFriday 15th Dec \n5.30pm \nAll Welcome
URL:https://charlestown.ie/event/tavneena-n-s-christmas-concert/
LOCATION:Tavneena National School\, Tavneena\, Charlestown\, Mayo\, Ireland
CATEGORIES:Children,Community,Family Event
END:VEVENT
BEGIN:VEVENT
DTSTART;TZID=Europe/Dublin:20230324T110000
DTEND;TZID=Europe/Dublin:20230324T130000
DTSTAMP:20260424T021356
CREATED:20230314T224138Z
LAST-MODIFIED:20230314T224138Z
UID:10000558-1679655600-1679662800@charlestown.ie
SUMMARY:Tavneena N.S. Bake Sale
DESCRIPTION:SAVE THE DATE – Tavneena N.S. Bake Sale\n \nOur Student Council have been very busy over the last number of weeks organising and preparing for their first Bake Sale event. \nThe children are holding the Bake Sale in the school on Friday the 24th of March from 11am-1pm. \nAll are welcome on the 24th of March for some tasty bakes and a cup of tea. \nWell done boys and girls  \n\n 
URL:https://charlestown.ie/event/tavneena-n-s-bake-sale/
LOCATION:Tavneena National School\, Tavneena\, Charlestown\, Mayo\, Ireland
CATEGORIES:Children,Family Event,Schools
END:VEVENT
BEGIN:VEVENT
DTSTART;TZID=Europe/Dublin:20221214T150000
DTEND;TZID=Europe/Dublin:20221214T170000
DTSTAMP:20260424T021356
CREATED:20221212T214009Z
LAST-MODIFIED:20221212T214158Z
UID:10000532-1671030000-1671037200@charlestown.ie
SUMMARY:Jack & the Beanstalk - Tavneena N.S. Christmas Show
DESCRIPTION:Tavneena N.S. has been a hive of activity over the last number of weeks as they prepare for their Christmas show ‘Jack and the Beanstalk’. The show takes place on Wednesday the 14th of December at 3pm. All Welcome \n\nEveryone has been busy making decorations\, designing the backdrop for our stage and preparing Santa’s Grotto.
URL:https://charlestown.ie/event/jack-the-beanstalk/
LOCATION:Tavneena National School\, Tavneena\, Charlestown\, Mayo\, Ireland
CATEGORIES:Children,Christmas,Family Event
END:VEVENT
END:VCALENDAR