BEGIN:VCALENDAR
VERSION:2.0
PRODID:-//Charlestown - ECPv6.6.4.2//NONSGML v1.0//EN
CALSCALE:GREGORIAN
METHOD:PUBLISH
X-ORIGINAL-URL:https://charlestown.ie
X-WR-CALDESC:Events for Charlestown
REFRESH-INTERVAL;VALUE=DURATION:PT1H
X-Robots-Tag:noindex
X-PUBLISHED-TTL:PT1H
BEGIN:VTIMEZONE
TZID:Europe/Dublin
BEGIN:DAYLIGHT
TZOFFSETFROM:+0000
TZOFFSETTO:+0100
TZNAME:IST
DTSTART:20220327T010000
END:DAYLIGHT
BEGIN:STANDARD
TZOFFSETFROM:+0100
TZOFFSETTO:+0000
TZNAME:GMT
DTSTART:20221030T010000
END:STANDARD
END:VTIMEZONE
BEGIN:VEVENT
DTSTART;TZID=Europe/Dublin:20221214T190000
DTEND;TZID=Europe/Dublin:20221214T200000
DTSTAMP:20260424T005154
CREATED:20221210T224535Z
LAST-MODIFIED:20221210T224535Z
UID:10000530-1671044400-1671048000@charlestown.ie
SUMMARY:Cloonlyon School - Christmas Show
DESCRIPTION:  \n\n*** Lights\, Camera\, Action! ***\n\n\nDelighted to announce our Christmas show “Straw and Order” will take place on Wednesday the 14th of December at 7pm in Bushfield Church. We would like to invite all families and friends to attend in what promises to be a fantastic show.
URL:https://charlestown.ie/event/cloonlyon-school-christmas-show/
LOCATION:St. Patrick’s Church\, Bushfield\, Charlestown\, Co. Mayo\, Ireland
CATEGORIES:Christmas
END:VEVENT
END:VCALENDAR