BEGIN:VCALENDAR
VERSION:2.0
PRODID:-//Charlestown - ECPv6.6.4.2//NONSGML v1.0//EN
CALSCALE:GREGORIAN
METHOD:PUBLISH
X-WR-CALNAME:Charlestown
X-ORIGINAL-URL:https://charlestown.ie
X-WR-CALDESC:Events for Charlestown
REFRESH-INTERVAL;VALUE=DURATION:PT1H
X-Robots-Tag:noindex
X-PUBLISHED-TTL:PT1H
BEGIN:VTIMEZONE
TZID:Europe/Dublin
BEGIN:DAYLIGHT
TZOFFSETFROM:+0000
TZOFFSETTO:+0100
TZNAME:IST
DTSTART:20260329T010000
END:DAYLIGHT
BEGIN:STANDARD
TZOFFSETFROM:+0100
TZOFFSETTO:+0000
TZNAME:GMT
DTSTART:20261025T010000
END:STANDARD
BEGIN:DAYLIGHT
TZOFFSETFROM:+0000
TZOFFSETTO:+0100
TZNAME:IST
DTSTART:20270328T010000
END:DAYLIGHT
BEGIN:STANDARD
TZOFFSETFROM:+0100
TZOFFSETTO:+0000
TZNAME:GMT
DTSTART:20271031T010000
END:STANDARD
END:VTIMEZONE
BEGIN:VEVENT
DTSTART;TZID=Europe/Dublin:20261126T190000
DTEND;TZID=Europe/Dublin:20261126T200000
DTSTAMP:20260423T213651
CREATED:20260204T193609Z
LAST-MODIFIED:20260204T193609Z
UID:10003294-1795719600-1795723200@charlestown.ie
SUMMARY:Parish Choir
DESCRIPTION:
URL:https://charlestown.ie/event/parish-choir/2026-11-26/
LOCATION:St James Church\, Charlestown\, Church St\, Charlestown\, Co Mayo\, Ireland
ATTACH;FMTTYPE=image/jpeg:https://charlestown.ie/wp-content/uploads/2026/01/file_000000006b58720ab11c32110733255a.jpg
END:VEVENT
BEGIN:VEVENT
DTSTART;TZID=Europe/Dublin:20261203T190000
DTEND;TZID=Europe/Dublin:20261203T200000
DTSTAMP:20260423T213651
CREATED:20260204T193609Z
LAST-MODIFIED:20260204T193609Z
UID:10003295-1796324400-1796328000@charlestown.ie
SUMMARY:Parish Choir
DESCRIPTION:
URL:https://charlestown.ie/event/parish-choir/2026-12-03/
LOCATION:St James Church\, Charlestown\, Church St\, Charlestown\, Co Mayo\, Ireland
ATTACH;FMTTYPE=image/jpeg:https://charlestown.ie/wp-content/uploads/2026/01/file_000000006b58720ab11c32110733255a.jpg
END:VEVENT
BEGIN:VEVENT
DTSTART;TZID=Europe/Dublin:20261210T190000
DTEND;TZID=Europe/Dublin:20261210T200000
DTSTAMP:20260423T213651
CREATED:20260204T193609Z
LAST-MODIFIED:20260204T193609Z
UID:10003296-1796929200-1796932800@charlestown.ie
SUMMARY:Parish Choir
DESCRIPTION:
URL:https://charlestown.ie/event/parish-choir/2026-12-10/
LOCATION:St James Church\, Charlestown\, Church St\, Charlestown\, Co Mayo\, Ireland
ATTACH;FMTTYPE=image/jpeg:https://charlestown.ie/wp-content/uploads/2026/01/file_000000006b58720ab11c32110733255a.jpg
END:VEVENT
BEGIN:VEVENT
DTSTART;TZID=Europe/Dublin:20261217T190000
DTEND;TZID=Europe/Dublin:20261217T200000
DTSTAMP:20260423T213651
CREATED:20260204T193609Z
LAST-MODIFIED:20260204T193609Z
UID:10003297-1797534000-1797537600@charlestown.ie
SUMMARY:Parish Choir
DESCRIPTION:
URL:https://charlestown.ie/event/parish-choir/2026-12-17/
LOCATION:St James Church\, Charlestown\, Church St\, Charlestown\, Co Mayo\, Ireland
ATTACH;FMTTYPE=image/jpeg:https://charlestown.ie/wp-content/uploads/2026/01/file_000000006b58720ab11c32110733255a.jpg
END:VEVENT
BEGIN:VEVENT
DTSTART;TZID=Europe/Dublin:20261224T190000
DTEND;TZID=Europe/Dublin:20261224T200000
DTSTAMP:20260423T213651
CREATED:20260204T193609Z
LAST-MODIFIED:20260204T193609Z
UID:10003298-1798138800-1798142400@charlestown.ie
SUMMARY:Parish Choir
DESCRIPTION:
URL:https://charlestown.ie/event/parish-choir/2026-12-24/
LOCATION:St James Church\, Charlestown\, Church St\, Charlestown\, Co Mayo\, Ireland
ATTACH;FMTTYPE=image/jpeg:https://charlestown.ie/wp-content/uploads/2026/01/file_000000006b58720ab11c32110733255a.jpg
END:VEVENT
BEGIN:VEVENT
DTSTART;TZID=Europe/Dublin:20261231T190000
DTEND;TZID=Europe/Dublin:20261231T200000
DTSTAMP:20260423T213651
CREATED:20260204T193609Z
LAST-MODIFIED:20260204T193609Z
UID:10003299-1798743600-1798747200@charlestown.ie
SUMMARY:Parish Choir
DESCRIPTION:
URL:https://charlestown.ie/event/parish-choir/2026-12-31/
LOCATION:St James Church\, Charlestown\, Church St\, Charlestown\, Co Mayo\, Ireland
ATTACH;FMTTYPE=image/jpeg:https://charlestown.ie/wp-content/uploads/2026/01/file_000000006b58720ab11c32110733255a.jpg
END:VEVENT
BEGIN:VEVENT
DTSTART;TZID=Europe/Dublin:20270107T190000
DTEND;TZID=Europe/Dublin:20270107T200000
DTSTAMP:20260423T213651
CREATED:20260204T193609Z
LAST-MODIFIED:20260204T193609Z
UID:10003300-1799348400-1799352000@charlestown.ie
SUMMARY:Parish Choir
DESCRIPTION:
URL:https://charlestown.ie/event/parish-choir/2027-01-07/
LOCATION:St James Church\, Charlestown\, Church St\, Charlestown\, Co Mayo\, Ireland
ATTACH;FMTTYPE=image/jpeg:https://charlestown.ie/wp-content/uploads/2026/01/file_000000006b58720ab11c32110733255a.jpg
END:VEVENT
BEGIN:VEVENT
DTSTART;TZID=Europe/Dublin:20270114T190000
DTEND;TZID=Europe/Dublin:20270114T200000
DTSTAMP:20260423T213651
CREATED:20260204T193609Z
LAST-MODIFIED:20260204T193609Z
UID:10003301-1799953200-1799956800@charlestown.ie
SUMMARY:Parish Choir
DESCRIPTION:
URL:https://charlestown.ie/event/parish-choir/2027-01-14/
LOCATION:St James Church\, Charlestown\, Church St\, Charlestown\, Co Mayo\, Ireland
ATTACH;FMTTYPE=image/jpeg:https://charlestown.ie/wp-content/uploads/2026/01/file_000000006b58720ab11c32110733255a.jpg
END:VEVENT
BEGIN:VEVENT
DTSTART;TZID=Europe/Dublin:20270121T190000
DTEND;TZID=Europe/Dublin:20270121T200000
DTSTAMP:20260423T213651
CREATED:20260204T193609Z
LAST-MODIFIED:20260204T193609Z
UID:10003302-1800558000-1800561600@charlestown.ie
SUMMARY:Parish Choir
DESCRIPTION:
URL:https://charlestown.ie/event/parish-choir/2027-01-21/
LOCATION:St James Church\, Charlestown\, Church St\, Charlestown\, Co Mayo\, Ireland
ATTACH;FMTTYPE=image/jpeg:https://charlestown.ie/wp-content/uploads/2026/01/file_000000006b58720ab11c32110733255a.jpg
END:VEVENT
BEGIN:VEVENT
DTSTART;TZID=Europe/Dublin:20270128T190000
DTEND;TZID=Europe/Dublin:20270128T200000
DTSTAMP:20260423T213651
CREATED:20260204T193609Z
LAST-MODIFIED:20260204T193609Z
UID:10003303-1801162800-1801166400@charlestown.ie
SUMMARY:Parish Choir
DESCRIPTION:
URL:https://charlestown.ie/event/parish-choir/2027-01-28/
LOCATION:St James Church\, Charlestown\, Church St\, Charlestown\, Co Mayo\, Ireland
ATTACH;FMTTYPE=image/jpeg:https://charlestown.ie/wp-content/uploads/2026/01/file_000000006b58720ab11c32110733255a.jpg
END:VEVENT
BEGIN:VEVENT
DTSTART;TZID=Europe/Dublin:20270204T190000
DTEND;TZID=Europe/Dublin:20270204T200000
DTSTAMP:20260423T213651
CREATED:20260204T193609Z
LAST-MODIFIED:20260204T193609Z
UID:10003304-1801767600-1801771200@charlestown.ie
SUMMARY:Parish Choir
DESCRIPTION:
URL:https://charlestown.ie/event/parish-choir/2027-02-04/
LOCATION:St James Church\, Charlestown\, Church St\, Charlestown\, Co Mayo\, Ireland
ATTACH;FMTTYPE=image/jpeg:https://charlestown.ie/wp-content/uploads/2026/01/file_000000006b58720ab11c32110733255a.jpg
END:VEVENT
BEGIN:VEVENT
DTSTART;TZID=Europe/Dublin:20270211T190000
DTEND;TZID=Europe/Dublin:20270211T200000
DTSTAMP:20260423T213651
CREATED:20260204T193609Z
LAST-MODIFIED:20260204T193609Z
UID:10003305-1802372400-1802376000@charlestown.ie
SUMMARY:Parish Choir
DESCRIPTION:
URL:https://charlestown.ie/event/parish-choir/2027-02-11/
LOCATION:St James Church\, Charlestown\, Church St\, Charlestown\, Co Mayo\, Ireland
ATTACH;FMTTYPE=image/jpeg:https://charlestown.ie/wp-content/uploads/2026/01/file_000000006b58720ab11c32110733255a.jpg
END:VEVENT
BEGIN:VEVENT
DTSTART;TZID=Europe/Dublin:20270218T190000
DTEND;TZID=Europe/Dublin:20270218T200000
DTSTAMP:20260423T213651
CREATED:20260204T193609Z
LAST-MODIFIED:20260204T193609Z
UID:10003306-1802977200-1802980800@charlestown.ie
SUMMARY:Parish Choir
DESCRIPTION:
URL:https://charlestown.ie/event/parish-choir/2027-02-18/
LOCATION:St James Church\, Charlestown\, Church St\, Charlestown\, Co Mayo\, Ireland
ATTACH;FMTTYPE=image/jpeg:https://charlestown.ie/wp-content/uploads/2026/01/file_000000006b58720ab11c32110733255a.jpg
END:VEVENT
BEGIN:VEVENT
DTSTART;TZID=Europe/Dublin:20270225T190000
DTEND;TZID=Europe/Dublin:20270225T200000
DTSTAMP:20260423T213651
CREATED:20260204T193609Z
LAST-MODIFIED:20260204T193609Z
UID:10003307-1803582000-1803585600@charlestown.ie
SUMMARY:Parish Choir
DESCRIPTION:
URL:https://charlestown.ie/event/parish-choir/2027-02-25/
LOCATION:St James Church\, Charlestown\, Church St\, Charlestown\, Co Mayo\, Ireland
ATTACH;FMTTYPE=image/jpeg:https://charlestown.ie/wp-content/uploads/2026/01/file_000000006b58720ab11c32110733255a.jpg
END:VEVENT
BEGIN:VEVENT
DTSTART;TZID=Europe/Dublin:20270304T190000
DTEND;TZID=Europe/Dublin:20270304T200000
DTSTAMP:20260423T213651
CREATED:20260204T193609Z
LAST-MODIFIED:20260204T193609Z
UID:10003308-1804186800-1804190400@charlestown.ie
SUMMARY:Parish Choir
DESCRIPTION:
URL:https://charlestown.ie/event/parish-choir/2027-03-04/
LOCATION:St James Church\, Charlestown\, Church St\, Charlestown\, Co Mayo\, Ireland
ATTACH;FMTTYPE=image/jpeg:https://charlestown.ie/wp-content/uploads/2026/01/file_000000006b58720ab11c32110733255a.jpg
END:VEVENT
BEGIN:VEVENT
DTSTART;TZID=Europe/Dublin:20270311T190000
DTEND;TZID=Europe/Dublin:20270311T200000
DTSTAMP:20260423T213651
CREATED:20260204T193609Z
LAST-MODIFIED:20260204T193609Z
UID:10003309-1804791600-1804795200@charlestown.ie
SUMMARY:Parish Choir
DESCRIPTION:
URL:https://charlestown.ie/event/parish-choir/2027-03-11/
LOCATION:St James Church\, Charlestown\, Church St\, Charlestown\, Co Mayo\, Ireland
ATTACH;FMTTYPE=image/jpeg:https://charlestown.ie/wp-content/uploads/2026/01/file_000000006b58720ab11c32110733255a.jpg
END:VEVENT
BEGIN:VEVENT
DTSTART;TZID=Europe/Dublin:20270318T190000
DTEND;TZID=Europe/Dublin:20270318T200000
DTSTAMP:20260423T213651
CREATED:20260204T193609Z
LAST-MODIFIED:20260204T193609Z
UID:10003310-1805396400-1805400000@charlestown.ie
SUMMARY:Parish Choir
DESCRIPTION:
URL:https://charlestown.ie/event/parish-choir/2027-03-18/
LOCATION:St James Church\, Charlestown\, Church St\, Charlestown\, Co Mayo\, Ireland
ATTACH;FMTTYPE=image/jpeg:https://charlestown.ie/wp-content/uploads/2026/01/file_000000006b58720ab11c32110733255a.jpg
END:VEVENT
BEGIN:VEVENT
DTSTART;TZID=Europe/Dublin:20270325T190000
DTEND;TZID=Europe/Dublin:20270325T200000
DTSTAMP:20260423T213651
CREATED:20260204T193609Z
LAST-MODIFIED:20260204T193609Z
UID:10003311-1806001200-1806004800@charlestown.ie
SUMMARY:Parish Choir
DESCRIPTION:
URL:https://charlestown.ie/event/parish-choir/2027-03-25/
LOCATION:St James Church\, Charlestown\, Church St\, Charlestown\, Co Mayo\, Ireland
ATTACH;FMTTYPE=image/jpeg:https://charlestown.ie/wp-content/uploads/2026/01/file_000000006b58720ab11c32110733255a.jpg
END:VEVENT
BEGIN:VEVENT
DTSTART;TZID=Europe/Dublin:20270401T190000
DTEND;TZID=Europe/Dublin:20270401T200000
DTSTAMP:20260423T213651
CREATED:20260204T193609Z
LAST-MODIFIED:20260204T193609Z
UID:10003312-1806606000-1806609600@charlestown.ie
SUMMARY:Parish Choir
DESCRIPTION:
URL:https://charlestown.ie/event/parish-choir/2027-04-01/
LOCATION:St James Church\, Charlestown\, Church St\, Charlestown\, Co Mayo\, Ireland
ATTACH;FMTTYPE=image/jpeg:https://charlestown.ie/wp-content/uploads/2026/01/file_000000006b58720ab11c32110733255a.jpg
END:VEVENT
BEGIN:VEVENT
DTSTART;TZID=Europe/Dublin:20270408T190000
DTEND;TZID=Europe/Dublin:20270408T200000
DTSTAMP:20260423T213651
CREATED:20260204T193609Z
LAST-MODIFIED:20260204T193609Z
UID:10003313-1807210800-1807214400@charlestown.ie
SUMMARY:Parish Choir
DESCRIPTION:
URL:https://charlestown.ie/event/parish-choir/2027-04-08/
LOCATION:St James Church\, Charlestown\, Church St\, Charlestown\, Co Mayo\, Ireland
ATTACH;FMTTYPE=image/jpeg:https://charlestown.ie/wp-content/uploads/2026/01/file_000000006b58720ab11c32110733255a.jpg
END:VEVENT
BEGIN:VEVENT
DTSTART;TZID=Europe/Dublin:20270415T190000
DTEND;TZID=Europe/Dublin:20270415T200000
DTSTAMP:20260423T213651
CREATED:20260204T193609Z
LAST-MODIFIED:20260204T193609Z
UID:10003314-1807815600-1807819200@charlestown.ie
SUMMARY:Parish Choir
DESCRIPTION:
URL:https://charlestown.ie/event/parish-choir/2027-04-15/
LOCATION:St James Church\, Charlestown\, Church St\, Charlestown\, Co Mayo\, Ireland
ATTACH;FMTTYPE=image/jpeg:https://charlestown.ie/wp-content/uploads/2026/01/file_000000006b58720ab11c32110733255a.jpg
END:VEVENT
BEGIN:VEVENT
DTSTART;TZID=Europe/Dublin:20270422T190000
DTEND;TZID=Europe/Dublin:20270422T200000
DTSTAMP:20260423T213651
CREATED:20260204T193609Z
LAST-MODIFIED:20260204T193609Z
UID:10003315-1808420400-1808424000@charlestown.ie
SUMMARY:Parish Choir
DESCRIPTION:
URL:https://charlestown.ie/event/parish-choir/2027-04-22/
LOCATION:St James Church\, Charlestown\, Church St\, Charlestown\, Co Mayo\, Ireland
ATTACH;FMTTYPE=image/jpeg:https://charlestown.ie/wp-content/uploads/2026/01/file_000000006b58720ab11c32110733255a.jpg
END:VEVENT
BEGIN:VEVENT
DTSTART;TZID=Europe/Dublin:20270429T190000
DTEND;TZID=Europe/Dublin:20270429T200000
DTSTAMP:20260423T213651
CREATED:20260204T193609Z
LAST-MODIFIED:20260204T193609Z
UID:10003316-1809025200-1809028800@charlestown.ie
SUMMARY:Parish Choir
DESCRIPTION:
URL:https://charlestown.ie/event/parish-choir/2027-04-29/
LOCATION:St James Church\, Charlestown\, Church St\, Charlestown\, Co Mayo\, Ireland
ATTACH;FMTTYPE=image/jpeg:https://charlestown.ie/wp-content/uploads/2026/01/file_000000006b58720ab11c32110733255a.jpg
END:VEVENT
BEGIN:VEVENT
DTSTART;TZID=Europe/Dublin:20270506T190000
DTEND;TZID=Europe/Dublin:20270506T200000
DTSTAMP:20260423T213651
CREATED:20260204T193609Z
LAST-MODIFIED:20260204T193609Z
UID:10003317-1809630000-1809633600@charlestown.ie
SUMMARY:Parish Choir
DESCRIPTION:
URL:https://charlestown.ie/event/parish-choir/2027-05-06/
LOCATION:St James Church\, Charlestown\, Church St\, Charlestown\, Co Mayo\, Ireland
ATTACH;FMTTYPE=image/jpeg:https://charlestown.ie/wp-content/uploads/2026/01/file_000000006b58720ab11c32110733255a.jpg
END:VEVENT
BEGIN:VEVENT
DTSTART;TZID=Europe/Dublin:20270513T190000
DTEND;TZID=Europe/Dublin:20270513T200000
DTSTAMP:20260423T213651
CREATED:20260204T193609Z
LAST-MODIFIED:20260204T193609Z
UID:10003318-1810234800-1810238400@charlestown.ie
SUMMARY:Parish Choir
DESCRIPTION:
URL:https://charlestown.ie/event/parish-choir/2027-05-13/
LOCATION:St James Church\, Charlestown\, Church St\, Charlestown\, Co Mayo\, Ireland
ATTACH;FMTTYPE=image/jpeg:https://charlestown.ie/wp-content/uploads/2026/01/file_000000006b58720ab11c32110733255a.jpg
END:VEVENT
BEGIN:VEVENT
DTSTART;TZID=Europe/Dublin:20270520T190000
DTEND;TZID=Europe/Dublin:20270520T200000
DTSTAMP:20260423T213651
CREATED:20260204T193609Z
LAST-MODIFIED:20260204T193609Z
UID:10003319-1810839600-1810843200@charlestown.ie
SUMMARY:Parish Choir
DESCRIPTION:
URL:https://charlestown.ie/event/parish-choir/2027-05-20/
LOCATION:St James Church\, Charlestown\, Church St\, Charlestown\, Co Mayo\, Ireland
ATTACH;FMTTYPE=image/jpeg:https://charlestown.ie/wp-content/uploads/2026/01/file_000000006b58720ab11c32110733255a.jpg
END:VEVENT
BEGIN:VEVENT
DTSTART;TZID=Europe/Dublin:20270527T190000
DTEND;TZID=Europe/Dublin:20270527T200000
DTSTAMP:20260423T213651
CREATED:20260204T193609Z
LAST-MODIFIED:20260204T193609Z
UID:10003320-1811444400-1811448000@charlestown.ie
SUMMARY:Parish Choir
DESCRIPTION:
URL:https://charlestown.ie/event/parish-choir/2027-05-27/
LOCATION:St James Church\, Charlestown\, Church St\, Charlestown\, Co Mayo\, Ireland
ATTACH;FMTTYPE=image/jpeg:https://charlestown.ie/wp-content/uploads/2026/01/file_000000006b58720ab11c32110733255a.jpg
END:VEVENT
BEGIN:VEVENT
DTSTART;TZID=Europe/Dublin:20270603T190000
DTEND;TZID=Europe/Dublin:20270603T200000
DTSTAMP:20260423T213651
CREATED:20260204T193609Z
LAST-MODIFIED:20260204T193609Z
UID:10003321-1812049200-1812052800@charlestown.ie
SUMMARY:Parish Choir
DESCRIPTION:
URL:https://charlestown.ie/event/parish-choir/2027-06-03/
LOCATION:St James Church\, Charlestown\, Church St\, Charlestown\, Co Mayo\, Ireland
ATTACH;FMTTYPE=image/jpeg:https://charlestown.ie/wp-content/uploads/2026/01/file_000000006b58720ab11c32110733255a.jpg
END:VEVENT
BEGIN:VEVENT
DTSTART;TZID=Europe/Dublin:20270610T190000
DTEND;TZID=Europe/Dublin:20270610T200000
DTSTAMP:20260423T213651
CREATED:20260204T193609Z
LAST-MODIFIED:20260204T193609Z
UID:10003322-1812654000-1812657600@charlestown.ie
SUMMARY:Parish Choir
DESCRIPTION:
URL:https://charlestown.ie/event/parish-choir/2027-06-10/
LOCATION:St James Church\, Charlestown\, Church St\, Charlestown\, Co Mayo\, Ireland
ATTACH;FMTTYPE=image/jpeg:https://charlestown.ie/wp-content/uploads/2026/01/file_000000006b58720ab11c32110733255a.jpg
END:VEVENT
BEGIN:VEVENT
DTSTART;TZID=Europe/Dublin:20270617T190000
DTEND;TZID=Europe/Dublin:20270617T200000
DTSTAMP:20260423T213651
CREATED:20260204T193609Z
LAST-MODIFIED:20260204T193609Z
UID:10003323-1813258800-1813262400@charlestown.ie
SUMMARY:Parish Choir
DESCRIPTION:
URL:https://charlestown.ie/event/parish-choir/2027-06-17/
LOCATION:St James Church\, Charlestown\, Church St\, Charlestown\, Co Mayo\, Ireland
ATTACH;FMTTYPE=image/jpeg:https://charlestown.ie/wp-content/uploads/2026/01/file_000000006b58720ab11c32110733255a.jpg
END:VEVENT
END:VCALENDAR