BEGIN:VCALENDAR
VERSION:2.0
PRODID:-//Charlestown - ECPv6.6.4.2//NONSGML v1.0//EN
CALSCALE:GREGORIAN
METHOD:PUBLISH
X-WR-CALNAME:Charlestown
X-ORIGINAL-URL:https://charlestown.ie
X-WR-CALDESC:Events for Charlestown
REFRESH-INTERVAL;VALUE=DURATION:PT1H
X-Robots-Tag:noindex
X-PUBLISHED-TTL:PT1H
BEGIN:VTIMEZONE
TZID:Europe/Dublin
BEGIN:DAYLIGHT
TZOFFSETFROM:+0000
TZOFFSETTO:+0100
TZNAME:IST
DTSTART:20220327T010000
END:DAYLIGHT
BEGIN:STANDARD
TZOFFSETFROM:+0100
TZOFFSETTO:+0000
TZNAME:GMT
DTSTART:20221030T010000
END:STANDARD
BEGIN:DAYLIGHT
TZOFFSETFROM:+0000
TZOFFSETTO:+0100
TZNAME:IST
DTSTART:20230326T010000
END:DAYLIGHT
BEGIN:STANDARD
TZOFFSETFROM:+0100
TZOFFSETTO:+0000
TZNAME:GMT
DTSTART:20231029T010000
END:STANDARD
BEGIN:DAYLIGHT
TZOFFSETFROM:+0000
TZOFFSETTO:+0100
TZNAME:IST
DTSTART:20240331T010000
END:DAYLIGHT
BEGIN:STANDARD
TZOFFSETFROM:+0100
TZOFFSETTO:+0000
TZNAME:GMT
DTSTART:20241027T010000
END:STANDARD
BEGIN:DAYLIGHT
TZOFFSETFROM:+0000
TZOFFSETTO:+0100
TZNAME:IST
DTSTART:20250330T010000
END:DAYLIGHT
BEGIN:STANDARD
TZOFFSETFROM:+0100
TZOFFSETTO:+0000
TZNAME:GMT
DTSTART:20251026T010000
END:STANDARD
BEGIN:DAYLIGHT
TZOFFSETFROM:+0000
TZOFFSETTO:+0100
TZNAME:IST
DTSTART:20260329T010000
END:DAYLIGHT
BEGIN:STANDARD
TZOFFSETFROM:+0100
TZOFFSETTO:+0000
TZNAME:GMT
DTSTART:20261025T010000
END:STANDARD
END:VTIMEZONE
BEGIN:VEVENT
DTSTART;TZID=Europe/Dublin:20260212T190000
DTEND;TZID=Europe/Dublin:20260212T200000
DTSTAMP:20260423T234359
CREATED:20260204T193609Z
LAST-MODIFIED:20260204T193609Z
UID:10003253-1770922800-1770926400@charlestown.ie
SUMMARY:Parish Choir
DESCRIPTION:
URL:https://charlestown.ie/event/parish-choir/2026-02-12/
LOCATION:St James Church\, Charlestown\, Church St\, Charlestown\, Co Mayo\, Ireland
ATTACH;FMTTYPE=image/jpeg:https://charlestown.ie/wp-content/uploads/2026/01/file_000000006b58720ab11c32110733255a.jpg
END:VEVENT
BEGIN:VEVENT
DTSTART;TZID=Europe/Dublin:20260205T190000
DTEND;TZID=Europe/Dublin:20260205T200000
DTSTAMP:20260423T234359
CREATED:20260204T193609Z
LAST-MODIFIED:20260204T193609Z
UID:10003252-1770318000-1770321600@charlestown.ie
SUMMARY:Parish Choir
DESCRIPTION:
URL:https://charlestown.ie/event/parish-choir/2026-02-05/
LOCATION:St James Church\, Charlestown\, Church St\, Charlestown\, Co Mayo\, Ireland
ATTACH;FMTTYPE=image/jpeg:https://charlestown.ie/wp-content/uploads/2026/01/file_000000006b58720ab11c32110733255a.jpg
END:VEVENT
BEGIN:VEVENT
DTSTART;TZID=Europe/Dublin:20240331T130000
DTEND;TZID=Europe/Dublin:20240331T130000
DTSTAMP:20260423T234359
CREATED:20240325T222009Z
LAST-MODIFIED:20240325T224246Z
UID:10000905-1711890000-1711890000@charlestown.ie
SUMMARY:Easter Bake Sale
DESCRIPTION:  \nCharlestown Foróige 3rd year group are hosting a Bake Sale after 12 noon Mass on Easter Sunday\, 31st March. \nPlease support.
URL:https://charlestown.ie/event/easter-bake-sale/
LOCATION:St James Church\, Charlestown\, Church St\, Charlestown\, Co Mayo\, Ireland
CATEGORIES:Children,Community,Easter,Family Event,Schools
ATTACH;FMTTYPE=image/jpeg:https://charlestown.ie/wp-content/uploads/2024/03/Easter-Bake-Sale.jpg
END:VEVENT
BEGIN:VEVENT
DTSTART;TZID=Europe/Dublin:20230725T200000
DTEND;TZID=Europe/Dublin:20230725T200000
DTSTAMP:20260423T234359
CREATED:20230718T100629Z
LAST-MODIFIED:20230718T101625Z
UID:10000701-1690315200-1690315200@charlestown.ie
SUMMARY:St. James' Church - Anniversary Mass
DESCRIPTION:To mark the 167th Anniversary of the placing of the foundation stone for Charlestown Parish Church\, a Mass of Thanksgiving will take place on Tuesday\, 25th July at 8pm in St. James’ Church. \nAll are welcome to attend this Mass of Thanksgiving.
URL:https://charlestown.ie/event/st-james-church-anniversary-mass/
LOCATION:St James Church\, Charlestown\, Church St\, Charlestown\, Co Mayo\, Ireland
CATEGORIES:Community
END:VEVENT
BEGIN:VEVENT
DTSTART;TZID=Europe/Dublin:20230722T200000
DTEND;TZID=Europe/Dublin:20230722T200000
DTSTAMP:20260423T234359
CREATED:20230718T101525Z
LAST-MODIFIED:20230718T101525Z
UID:10000702-1690056000-1690056000@charlestown.ie
SUMMARY:Derry Peace Walkers
DESCRIPTION:Looking forward to welcoming the Derry Peace Walkers to Charlestown again this year. \nPlease join us for Mass on Saturday\, 22nd July at 8pm.
URL:https://charlestown.ie/event/derry-peace-walkers/
LOCATION:St James Church\, Charlestown\, Church St\, Charlestown\, Co Mayo\, Ireland
CATEGORIES:Community
END:VEVENT
BEGIN:VEVENT
DTSTART;TZID=Europe/Dublin:20230426T200000
DTEND;TZID=Europe/Dublin:20230426T200000
DTSTAMP:20260423T234359
CREATED:20230425T104241Z
LAST-MODIFIED:20230425T104241Z
UID:10000595-1682539200-1682539200@charlestown.ie
SUMMARY:Mass of Thanksgiving for Volunteers within Our Community
DESCRIPTION:Thank You Mass \n           for all who volunteer in our community takes place on \nWednesday\, April 26th at 8pm. \nPlease leave a symbol of your group/activity along with a label\, on the table in front of the altar on the day. Everyone is welcome as we say a long over-due thanks to our wonderful volunteers. Light refreshments in the Pastoral Centre after Mass.
URL:https://charlestown.ie/event/mass-of-thanksgiving-for-volunteers-within-our-community/
LOCATION:St James Church\, Charlestown\, Church St\, Charlestown\, Co Mayo\, Ireland
CATEGORIES:Community
END:VEVENT
BEGIN:VEVENT
DTSTART;TZID=Europe/Dublin:20230313T103000
DTEND;TZID=Europe/Dublin:20230316T193000
DTSTAMP:20260423T234359
CREATED:20230301T120352Z
LAST-MODIFIED:20230309T120104Z
UID:10000547-1678703400-1678995000@charlestown.ie
SUMMARY:Charlestown Parish Mission
DESCRIPTION:The Mission is to be conducted by the Franciscan Friars Of the Renewal from Moyross in Limerick. \nMass will be celebrated each day at 10 am and 7.30 pm. \nAll in the parish and surrounding areas are very welcome to attend.
URL:https://charlestown.ie/event/charlestown-parish-mission/
LOCATION:St James Church\, Charlestown\, Church St\, Charlestown\, Co Mayo\, Ireland
END:VEVENT
BEGIN:VEVENT
DTSTART;TZID=Europe/Dublin:20221219T190000
DTEND;TZID=Europe/Dublin:20221219T200000
DTSTAMP:20260423T234359
CREATED:20221217T174423Z
LAST-MODIFIED:20221217T174553Z
UID:10000533-1671476400-1671480000@charlestown.ie
SUMMARY:The Christmas Story Through Song - St Attracta's N.S.
DESCRIPTION:Join us for an evening of song as we tell the story of Christmas through some of our favourite hymns & carols. Monday 19th December at 7pm in St James Church\, Charlestown. \nLooking forward to seeing all the children perform their Christmas songs. There’s no cover charge but donation boxes will be at the entrance if you wish to contribute towards covering the running costs. Hope to see you all there for what promises to be an enjoyable night
URL:https://charlestown.ie/event/a-christmas-story-through-song-st-attractas-n-s/
LOCATION:St James Church\, Charlestown\, Church St\, Charlestown\, Co Mayo\, Ireland
CATEGORIES:Children,Christmas,Family Event,Schools
ATTACH;FMTTYPE=image/jpeg:https://charlestown.ie/wp-content/uploads/2022/12/St-Attractas-Christmas-Carols.jpg
ORGANIZER;CN="St. Attracta's N. S.":MAILTO:office@stattractasns.ie
END:VEVENT
END:VCALENDAR