BEGIN:VCALENDAR
VERSION:2.0
PRODID:-//Charlestown - ECPv6.6.4.2//NONSGML v1.0//EN
CALSCALE:GREGORIAN
METHOD:PUBLISH
X-ORIGINAL-URL:https://charlestown.ie
X-WR-CALDESC:Events for Charlestown
REFRESH-INTERVAL;VALUE=DURATION:PT1H
X-Robots-Tag:noindex
X-PUBLISHED-TTL:PT1H
BEGIN:VTIMEZONE
TZID:Europe/Dublin
BEGIN:DAYLIGHT
TZOFFSETFROM:+0000
TZOFFSETTO:+0100
TZNAME:IST
DTSTART:20280326T010000
END:DAYLIGHT
BEGIN:STANDARD
TZOFFSETFROM:+0100
TZOFFSETTO:+0000
TZNAME:GMT
DTSTART:20281029T010000
END:STANDARD
BEGIN:DAYLIGHT
TZOFFSETFROM:+0000
TZOFFSETTO:+0100
TZNAME:IST
DTSTART:20290325T010000
END:DAYLIGHT
BEGIN:STANDARD
TZOFFSETFROM:+0100
TZOFFSETTO:+0000
TZNAME:GMT
DTSTART:20291028T010000
END:STANDARD
END:VTIMEZONE
BEGIN:VEVENT
DTSTART;TZID=Europe/Dublin:20281026T190000
DTEND;TZID=Europe/Dublin:20281026T200000
DTSTAMP:20260424T122550
CREATED:20260204T193609Z
LAST-MODIFIED:20260204T193609Z
UID:10003394-1856199600-1856203200@charlestown.ie
SUMMARY:Parish Choir
DESCRIPTION:
URL:https://charlestown.ie/event/parish-choir/2028-10-26/
LOCATION:St James Church\, Charlestown\, Church St\, Charlestown\, Co Mayo\, Ireland
ATTACH;FMTTYPE=image/jpeg:https://charlestown.ie/wp-content/uploads/2026/01/file_000000006b58720ab11c32110733255a.jpg
END:VEVENT
BEGIN:VEVENT
DTSTART;TZID=Europe/Dublin:20281102T190000
DTEND;TZID=Europe/Dublin:20281102T200000
DTSTAMP:20260424T122550
CREATED:20260204T193609Z
LAST-MODIFIED:20260204T193609Z
UID:10003395-1856804400-1856808000@charlestown.ie
SUMMARY:Parish Choir
DESCRIPTION:
URL:https://charlestown.ie/event/parish-choir/2028-11-02/
LOCATION:St James Church\, Charlestown\, Church St\, Charlestown\, Co Mayo\, Ireland
ATTACH;FMTTYPE=image/jpeg:https://charlestown.ie/wp-content/uploads/2026/01/file_000000006b58720ab11c32110733255a.jpg
END:VEVENT
BEGIN:VEVENT
DTSTART;TZID=Europe/Dublin:20281109T190000
DTEND;TZID=Europe/Dublin:20281109T200000
DTSTAMP:20260424T122550
CREATED:20260204T193609Z
LAST-MODIFIED:20260204T193609Z
UID:10003396-1857409200-1857412800@charlestown.ie
SUMMARY:Parish Choir
DESCRIPTION:
URL:https://charlestown.ie/event/parish-choir/2028-11-09/
LOCATION:St James Church\, Charlestown\, Church St\, Charlestown\, Co Mayo\, Ireland
ATTACH;FMTTYPE=image/jpeg:https://charlestown.ie/wp-content/uploads/2026/01/file_000000006b58720ab11c32110733255a.jpg
END:VEVENT
BEGIN:VEVENT
DTSTART;TZID=Europe/Dublin:20281116T190000
DTEND;TZID=Europe/Dublin:20281116T200000
DTSTAMP:20260424T122550
CREATED:20260204T193609Z
LAST-MODIFIED:20260204T193609Z
UID:10003397-1858014000-1858017600@charlestown.ie
SUMMARY:Parish Choir
DESCRIPTION:
URL:https://charlestown.ie/event/parish-choir/2028-11-16/
LOCATION:St James Church\, Charlestown\, Church St\, Charlestown\, Co Mayo\, Ireland
ATTACH;FMTTYPE=image/jpeg:https://charlestown.ie/wp-content/uploads/2026/01/file_000000006b58720ab11c32110733255a.jpg
END:VEVENT
BEGIN:VEVENT
DTSTART;TZID=Europe/Dublin:20281123T190000
DTEND;TZID=Europe/Dublin:20281123T200000
DTSTAMP:20260424T122550
CREATED:20260204T193609Z
LAST-MODIFIED:20260204T193609Z
UID:10003398-1858618800-1858622400@charlestown.ie
SUMMARY:Parish Choir
DESCRIPTION:
URL:https://charlestown.ie/event/parish-choir/2028-11-23/
LOCATION:St James Church\, Charlestown\, Church St\, Charlestown\, Co Mayo\, Ireland
ATTACH;FMTTYPE=image/jpeg:https://charlestown.ie/wp-content/uploads/2026/01/file_000000006b58720ab11c32110733255a.jpg
END:VEVENT
BEGIN:VEVENT
DTSTART;TZID=Europe/Dublin:20281130T190000
DTEND;TZID=Europe/Dublin:20281130T200000
DTSTAMP:20260424T122550
CREATED:20260204T193609Z
LAST-MODIFIED:20260204T193609Z
UID:10003399-1859223600-1859227200@charlestown.ie
SUMMARY:Parish Choir
DESCRIPTION:
URL:https://charlestown.ie/event/parish-choir/2028-11-30/
LOCATION:St James Church\, Charlestown\, Church St\, Charlestown\, Co Mayo\, Ireland
ATTACH;FMTTYPE=image/jpeg:https://charlestown.ie/wp-content/uploads/2026/01/file_000000006b58720ab11c32110733255a.jpg
END:VEVENT
BEGIN:VEVENT
DTSTART;TZID=Europe/Dublin:20281207T190000
DTEND;TZID=Europe/Dublin:20281207T200000
DTSTAMP:20260424T122550
CREATED:20260204T193609Z
LAST-MODIFIED:20260204T193609Z
UID:10003400-1859828400-1859832000@charlestown.ie
SUMMARY:Parish Choir
DESCRIPTION:
URL:https://charlestown.ie/event/parish-choir/2028-12-07/
LOCATION:St James Church\, Charlestown\, Church St\, Charlestown\, Co Mayo\, Ireland
ATTACH;FMTTYPE=image/jpeg:https://charlestown.ie/wp-content/uploads/2026/01/file_000000006b58720ab11c32110733255a.jpg
END:VEVENT
BEGIN:VEVENT
DTSTART;TZID=Europe/Dublin:20281214T190000
DTEND;TZID=Europe/Dublin:20281214T200000
DTSTAMP:20260424T122551
CREATED:20260204T193609Z
LAST-MODIFIED:20260204T193609Z
UID:10003401-1860433200-1860436800@charlestown.ie
SUMMARY:Parish Choir
DESCRIPTION:
URL:https://charlestown.ie/event/parish-choir/2028-12-14/
LOCATION:St James Church\, Charlestown\, Church St\, Charlestown\, Co Mayo\, Ireland
ATTACH;FMTTYPE=image/jpeg:https://charlestown.ie/wp-content/uploads/2026/01/file_000000006b58720ab11c32110733255a.jpg
END:VEVENT
BEGIN:VEVENT
DTSTART;TZID=Europe/Dublin:20281221T190000
DTEND;TZID=Europe/Dublin:20281221T200000
DTSTAMP:20260424T122551
CREATED:20260204T193609Z
LAST-MODIFIED:20260204T193609Z
UID:10003402-1861038000-1861041600@charlestown.ie
SUMMARY:Parish Choir
DESCRIPTION:
URL:https://charlestown.ie/event/parish-choir/2028-12-21/
LOCATION:St James Church\, Charlestown\, Church St\, Charlestown\, Co Mayo\, Ireland
ATTACH;FMTTYPE=image/jpeg:https://charlestown.ie/wp-content/uploads/2026/01/file_000000006b58720ab11c32110733255a.jpg
END:VEVENT
BEGIN:VEVENT
DTSTART;TZID=Europe/Dublin:20281228T190000
DTEND;TZID=Europe/Dublin:20281228T200000
DTSTAMP:20260424T122551
CREATED:20260204T193609Z
LAST-MODIFIED:20260204T193609Z
UID:10003403-1861642800-1861646400@charlestown.ie
SUMMARY:Parish Choir
DESCRIPTION:
URL:https://charlestown.ie/event/parish-choir/2028-12-28/
LOCATION:St James Church\, Charlestown\, Church St\, Charlestown\, Co Mayo\, Ireland
ATTACH;FMTTYPE=image/jpeg:https://charlestown.ie/wp-content/uploads/2026/01/file_000000006b58720ab11c32110733255a.jpg
END:VEVENT
BEGIN:VEVENT
DTSTART;TZID=Europe/Dublin:20290104T190000
DTEND;TZID=Europe/Dublin:20290104T200000
DTSTAMP:20260424T122551
CREATED:20260204T193609Z
LAST-MODIFIED:20260204T193609Z
UID:10003404-1862247600-1862251200@charlestown.ie
SUMMARY:Parish Choir
DESCRIPTION:
URL:https://charlestown.ie/event/parish-choir/2029-01-04/
LOCATION:St James Church\, Charlestown\, Church St\, Charlestown\, Co Mayo\, Ireland
ATTACH;FMTTYPE=image/jpeg:https://charlestown.ie/wp-content/uploads/2026/01/file_000000006b58720ab11c32110733255a.jpg
END:VEVENT
BEGIN:VEVENT
DTSTART;TZID=Europe/Dublin:20290111T190000
DTEND;TZID=Europe/Dublin:20290111T200000
DTSTAMP:20260424T122551
CREATED:20260204T193609Z
LAST-MODIFIED:20260204T193609Z
UID:10003405-1862852400-1862856000@charlestown.ie
SUMMARY:Parish Choir
DESCRIPTION:
URL:https://charlestown.ie/event/parish-choir/2029-01-11/
LOCATION:St James Church\, Charlestown\, Church St\, Charlestown\, Co Mayo\, Ireland
ATTACH;FMTTYPE=image/jpeg:https://charlestown.ie/wp-content/uploads/2026/01/file_000000006b58720ab11c32110733255a.jpg
END:VEVENT
BEGIN:VEVENT
DTSTART;TZID=Europe/Dublin:20290118T190000
DTEND;TZID=Europe/Dublin:20290118T200000
DTSTAMP:20260424T122551
CREATED:20260204T193609Z
LAST-MODIFIED:20260204T193609Z
UID:10003406-1863457200-1863460800@charlestown.ie
SUMMARY:Parish Choir
DESCRIPTION:
URL:https://charlestown.ie/event/parish-choir/2029-01-18/
LOCATION:St James Church\, Charlestown\, Church St\, Charlestown\, Co Mayo\, Ireland
ATTACH;FMTTYPE=image/jpeg:https://charlestown.ie/wp-content/uploads/2026/01/file_000000006b58720ab11c32110733255a.jpg
END:VEVENT
BEGIN:VEVENT
DTSTART;TZID=Europe/Dublin:20290125T190000
DTEND;TZID=Europe/Dublin:20290125T200000
DTSTAMP:20260424T122551
CREATED:20260204T193609Z
LAST-MODIFIED:20260204T193609Z
UID:10003407-1864062000-1864065600@charlestown.ie
SUMMARY:Parish Choir
DESCRIPTION:
URL:https://charlestown.ie/event/parish-choir/2029-01-25/
LOCATION:St James Church\, Charlestown\, Church St\, Charlestown\, Co Mayo\, Ireland
ATTACH;FMTTYPE=image/jpeg:https://charlestown.ie/wp-content/uploads/2026/01/file_000000006b58720ab11c32110733255a.jpg
END:VEVENT
BEGIN:VEVENT
DTSTART;TZID=Europe/Dublin:20290201T190000
DTEND;TZID=Europe/Dublin:20290201T200000
DTSTAMP:20260424T122551
CREATED:20260204T193609Z
LAST-MODIFIED:20260204T193609Z
UID:10003408-1864666800-1864670400@charlestown.ie
SUMMARY:Parish Choir
DESCRIPTION:
URL:https://charlestown.ie/event/parish-choir/2029-02-01/
LOCATION:St James Church\, Charlestown\, Church St\, Charlestown\, Co Mayo\, Ireland
ATTACH;FMTTYPE=image/jpeg:https://charlestown.ie/wp-content/uploads/2026/01/file_000000006b58720ab11c32110733255a.jpg
END:VEVENT
BEGIN:VEVENT
DTSTART;TZID=Europe/Dublin:20290208T190000
DTEND;TZID=Europe/Dublin:20290208T200000
DTSTAMP:20260424T122551
CREATED:20260204T193609Z
LAST-MODIFIED:20260204T193609Z
UID:10003409-1865271600-1865275200@charlestown.ie
SUMMARY:Parish Choir
DESCRIPTION:
URL:https://charlestown.ie/event/parish-choir/2029-02-08/
LOCATION:St James Church\, Charlestown\, Church St\, Charlestown\, Co Mayo\, Ireland
ATTACH;FMTTYPE=image/jpeg:https://charlestown.ie/wp-content/uploads/2026/01/file_000000006b58720ab11c32110733255a.jpg
END:VEVENT
BEGIN:VEVENT
DTSTART;TZID=Europe/Dublin:20290215T190000
DTEND;TZID=Europe/Dublin:20290215T200000
DTSTAMP:20260424T122551
CREATED:20260204T193609Z
LAST-MODIFIED:20260204T193609Z
UID:10003410-1865876400-1865880000@charlestown.ie
SUMMARY:Parish Choir
DESCRIPTION:
URL:https://charlestown.ie/event/parish-choir/2029-02-15/
LOCATION:St James Church\, Charlestown\, Church St\, Charlestown\, Co Mayo\, Ireland
ATTACH;FMTTYPE=image/jpeg:https://charlestown.ie/wp-content/uploads/2026/01/file_000000006b58720ab11c32110733255a.jpg
END:VEVENT
BEGIN:VEVENT
DTSTART;TZID=Europe/Dublin:20290222T190000
DTEND;TZID=Europe/Dublin:20290222T200000
DTSTAMP:20260424T122551
CREATED:20260204T193609Z
LAST-MODIFIED:20260204T193609Z
UID:10003411-1866481200-1866484800@charlestown.ie
SUMMARY:Parish Choir
DESCRIPTION:
URL:https://charlestown.ie/event/parish-choir/2029-02-22/
LOCATION:St James Church\, Charlestown\, Church St\, Charlestown\, Co Mayo\, Ireland
ATTACH;FMTTYPE=image/jpeg:https://charlestown.ie/wp-content/uploads/2026/01/file_000000006b58720ab11c32110733255a.jpg
END:VEVENT
BEGIN:VEVENT
DTSTART;TZID=Europe/Dublin:20290301T190000
DTEND;TZID=Europe/Dublin:20290301T200000
DTSTAMP:20260424T122551
CREATED:20260204T193609Z
LAST-MODIFIED:20260204T193609Z
UID:10003412-1867086000-1867089600@charlestown.ie
SUMMARY:Parish Choir
DESCRIPTION:
URL:https://charlestown.ie/event/parish-choir/2029-03-01/
LOCATION:St James Church\, Charlestown\, Church St\, Charlestown\, Co Mayo\, Ireland
ATTACH;FMTTYPE=image/jpeg:https://charlestown.ie/wp-content/uploads/2026/01/file_000000006b58720ab11c32110733255a.jpg
END:VEVENT
BEGIN:VEVENT
DTSTART;TZID=Europe/Dublin:20290308T190000
DTEND;TZID=Europe/Dublin:20290308T200000
DTSTAMP:20260424T122551
CREATED:20260204T193609Z
LAST-MODIFIED:20260204T193609Z
UID:10003413-1867690800-1867694400@charlestown.ie
SUMMARY:Parish Choir
DESCRIPTION:
URL:https://charlestown.ie/event/parish-choir/2029-03-08/
LOCATION:St James Church\, Charlestown\, Church St\, Charlestown\, Co Mayo\, Ireland
ATTACH;FMTTYPE=image/jpeg:https://charlestown.ie/wp-content/uploads/2026/01/file_000000006b58720ab11c32110733255a.jpg
END:VEVENT
BEGIN:VEVENT
DTSTART;TZID=Europe/Dublin:20290315T190000
DTEND;TZID=Europe/Dublin:20290315T200000
DTSTAMP:20260424T122551
CREATED:20260204T193609Z
LAST-MODIFIED:20260204T193609Z
UID:10003414-1868295600-1868299200@charlestown.ie
SUMMARY:Parish Choir
DESCRIPTION:
URL:https://charlestown.ie/event/parish-choir/2029-03-15/
LOCATION:St James Church\, Charlestown\, Church St\, Charlestown\, Co Mayo\, Ireland
ATTACH;FMTTYPE=image/jpeg:https://charlestown.ie/wp-content/uploads/2026/01/file_000000006b58720ab11c32110733255a.jpg
END:VEVENT
BEGIN:VEVENT
DTSTART;TZID=Europe/Dublin:20290322T190000
DTEND;TZID=Europe/Dublin:20290322T200000
DTSTAMP:20260424T122551
CREATED:20260204T193609Z
LAST-MODIFIED:20260204T193609Z
UID:10003415-1868900400-1868904000@charlestown.ie
SUMMARY:Parish Choir
DESCRIPTION:
URL:https://charlestown.ie/event/parish-choir/2029-03-22/
LOCATION:St James Church\, Charlestown\, Church St\, Charlestown\, Co Mayo\, Ireland
ATTACH;FMTTYPE=image/jpeg:https://charlestown.ie/wp-content/uploads/2026/01/file_000000006b58720ab11c32110733255a.jpg
END:VEVENT
BEGIN:VEVENT
DTSTART;TZID=Europe/Dublin:20290329T190000
DTEND;TZID=Europe/Dublin:20290329T200000
DTSTAMP:20260424T122551
CREATED:20260204T193609Z
LAST-MODIFIED:20260204T193609Z
UID:10003416-1869505200-1869508800@charlestown.ie
SUMMARY:Parish Choir
DESCRIPTION:
URL:https://charlestown.ie/event/parish-choir/2029-03-29/
LOCATION:St James Church\, Charlestown\, Church St\, Charlestown\, Co Mayo\, Ireland
ATTACH;FMTTYPE=image/jpeg:https://charlestown.ie/wp-content/uploads/2026/01/file_000000006b58720ab11c32110733255a.jpg
END:VEVENT
BEGIN:VEVENT
DTSTART;TZID=Europe/Dublin:20290405T190000
DTEND;TZID=Europe/Dublin:20290405T200000
DTSTAMP:20260424T122551
CREATED:20260204T193609Z
LAST-MODIFIED:20260204T193609Z
UID:10003417-1870110000-1870113600@charlestown.ie
SUMMARY:Parish Choir
DESCRIPTION:
URL:https://charlestown.ie/event/parish-choir/2029-04-05/
LOCATION:St James Church\, Charlestown\, Church St\, Charlestown\, Co Mayo\, Ireland
ATTACH;FMTTYPE=image/jpeg:https://charlestown.ie/wp-content/uploads/2026/01/file_000000006b58720ab11c32110733255a.jpg
END:VEVENT
BEGIN:VEVENT
DTSTART;TZID=Europe/Dublin:20290412T190000
DTEND;TZID=Europe/Dublin:20290412T200000
DTSTAMP:20260424T122551
CREATED:20260204T193609Z
LAST-MODIFIED:20260204T193609Z
UID:10003418-1870714800-1870718400@charlestown.ie
SUMMARY:Parish Choir
DESCRIPTION:
URL:https://charlestown.ie/event/parish-choir/2029-04-12/
LOCATION:St James Church\, Charlestown\, Church St\, Charlestown\, Co Mayo\, Ireland
ATTACH;FMTTYPE=image/jpeg:https://charlestown.ie/wp-content/uploads/2026/01/file_000000006b58720ab11c32110733255a.jpg
END:VEVENT
BEGIN:VEVENT
DTSTART;TZID=Europe/Dublin:20290419T190000
DTEND;TZID=Europe/Dublin:20290419T200000
DTSTAMP:20260424T122551
CREATED:20260204T193609Z
LAST-MODIFIED:20260204T193609Z
UID:10003419-1871319600-1871323200@charlestown.ie
SUMMARY:Parish Choir
DESCRIPTION:
URL:https://charlestown.ie/event/parish-choir/2029-04-19/
LOCATION:St James Church\, Charlestown\, Church St\, Charlestown\, Co Mayo\, Ireland
ATTACH;FMTTYPE=image/jpeg:https://charlestown.ie/wp-content/uploads/2026/01/file_000000006b58720ab11c32110733255a.jpg
END:VEVENT
BEGIN:VEVENT
DTSTART;TZID=Europe/Dublin:20290426T190000
DTEND;TZID=Europe/Dublin:20290426T200000
DTSTAMP:20260424T122551
CREATED:20260204T193609Z
LAST-MODIFIED:20260204T193609Z
UID:10003420-1871924400-1871928000@charlestown.ie
SUMMARY:Parish Choir
DESCRIPTION:
URL:https://charlestown.ie/event/parish-choir/2029-04-26/
LOCATION:St James Church\, Charlestown\, Church St\, Charlestown\, Co Mayo\, Ireland
ATTACH;FMTTYPE=image/jpeg:https://charlestown.ie/wp-content/uploads/2026/01/file_000000006b58720ab11c32110733255a.jpg
END:VEVENT
BEGIN:VEVENT
DTSTART;TZID=Europe/Dublin:20290503T190000
DTEND;TZID=Europe/Dublin:20290503T200000
DTSTAMP:20260424T122551
CREATED:20260204T193609Z
LAST-MODIFIED:20260204T193609Z
UID:10003421-1872529200-1872532800@charlestown.ie
SUMMARY:Parish Choir
DESCRIPTION:
URL:https://charlestown.ie/event/parish-choir/2029-05-03/
LOCATION:St James Church\, Charlestown\, Church St\, Charlestown\, Co Mayo\, Ireland
ATTACH;FMTTYPE=image/jpeg:https://charlestown.ie/wp-content/uploads/2026/01/file_000000006b58720ab11c32110733255a.jpg
END:VEVENT
BEGIN:VEVENT
DTSTART;TZID=Europe/Dublin:20290510T190000
DTEND;TZID=Europe/Dublin:20290510T200000
DTSTAMP:20260424T122551
CREATED:20260204T193609Z
LAST-MODIFIED:20260204T193609Z
UID:10003422-1873134000-1873137600@charlestown.ie
SUMMARY:Parish Choir
DESCRIPTION:
URL:https://charlestown.ie/event/parish-choir/2029-05-10/
LOCATION:St James Church\, Charlestown\, Church St\, Charlestown\, Co Mayo\, Ireland
ATTACH;FMTTYPE=image/jpeg:https://charlestown.ie/wp-content/uploads/2026/01/file_000000006b58720ab11c32110733255a.jpg
END:VEVENT
BEGIN:VEVENT
DTSTART;TZID=Europe/Dublin:20290517T190000
DTEND;TZID=Europe/Dublin:20290517T200000
DTSTAMP:20260424T122551
CREATED:20260204T193609Z
LAST-MODIFIED:20260204T193609Z
UID:10003423-1873738800-1873742400@charlestown.ie
SUMMARY:Parish Choir
DESCRIPTION:
URL:https://charlestown.ie/event/parish-choir/2029-05-17/
LOCATION:St James Church\, Charlestown\, Church St\, Charlestown\, Co Mayo\, Ireland
ATTACH;FMTTYPE=image/jpeg:https://charlestown.ie/wp-content/uploads/2026/01/file_000000006b58720ab11c32110733255a.jpg
END:VEVENT
END:VCALENDAR