BEGIN:VCALENDAR
VERSION:2.0
PRODID:-//Charlestown - ECPv6.6.4.2//NONSGML v1.0//EN
CALSCALE:GREGORIAN
METHOD:PUBLISH
X-ORIGINAL-URL:https://charlestown.ie
X-WR-CALDESC:Events for Charlestown
REFRESH-INTERVAL;VALUE=DURATION:PT1H
X-Robots-Tag:noindex
X-PUBLISHED-TTL:PT1H
BEGIN:VTIMEZONE
TZID:Europe/Dublin
BEGIN:DAYLIGHT
TZOFFSETFROM:+0000
TZOFFSETTO:+0100
TZNAME:IST
DTSTART:20280326T010000
END:DAYLIGHT
BEGIN:STANDARD
TZOFFSETFROM:+0100
TZOFFSETTO:+0000
TZNAME:GMT
DTSTART:20281029T010000
END:STANDARD
END:VTIMEZONE
BEGIN:VEVENT
DTSTART;TZID=Europe/Dublin:20280330T190000
DTEND;TZID=Europe/Dublin:20280330T200000
DTSTAMP:20260424T075607
CREATED:20260204T193609Z
LAST-MODIFIED:20260204T193609Z
UID:10003364-1838055600-1838059200@charlestown.ie
SUMMARY:Parish Choir
DESCRIPTION:
URL:https://charlestown.ie/event/parish-choir/2028-03-30/
LOCATION:St James Church\, Charlestown\, Church St\, Charlestown\, Co Mayo\, Ireland
ATTACH;FMTTYPE=image/jpeg:https://charlestown.ie/wp-content/uploads/2026/01/file_000000006b58720ab11c32110733255a.jpg
END:VEVENT
BEGIN:VEVENT
DTSTART;TZID=Europe/Dublin:20280406T190000
DTEND;TZID=Europe/Dublin:20280406T200000
DTSTAMP:20260424T075607
CREATED:20260204T193609Z
LAST-MODIFIED:20260204T193609Z
UID:10003365-1838660400-1838664000@charlestown.ie
SUMMARY:Parish Choir
DESCRIPTION:
URL:https://charlestown.ie/event/parish-choir/2028-04-06/
LOCATION:St James Church\, Charlestown\, Church St\, Charlestown\, Co Mayo\, Ireland
ATTACH;FMTTYPE=image/jpeg:https://charlestown.ie/wp-content/uploads/2026/01/file_000000006b58720ab11c32110733255a.jpg
END:VEVENT
BEGIN:VEVENT
DTSTART;TZID=Europe/Dublin:20280413T190000
DTEND;TZID=Europe/Dublin:20280413T200000
DTSTAMP:20260424T075607
CREATED:20260204T193609Z
LAST-MODIFIED:20260204T193609Z
UID:10003366-1839265200-1839268800@charlestown.ie
SUMMARY:Parish Choir
DESCRIPTION:
URL:https://charlestown.ie/event/parish-choir/2028-04-13/
LOCATION:St James Church\, Charlestown\, Church St\, Charlestown\, Co Mayo\, Ireland
ATTACH;FMTTYPE=image/jpeg:https://charlestown.ie/wp-content/uploads/2026/01/file_000000006b58720ab11c32110733255a.jpg
END:VEVENT
BEGIN:VEVENT
DTSTART;TZID=Europe/Dublin:20280420T190000
DTEND;TZID=Europe/Dublin:20280420T200000
DTSTAMP:20260424T075607
CREATED:20260204T193609Z
LAST-MODIFIED:20260204T193609Z
UID:10003367-1839870000-1839873600@charlestown.ie
SUMMARY:Parish Choir
DESCRIPTION:
URL:https://charlestown.ie/event/parish-choir/2028-04-20/
LOCATION:St James Church\, Charlestown\, Church St\, Charlestown\, Co Mayo\, Ireland
ATTACH;FMTTYPE=image/jpeg:https://charlestown.ie/wp-content/uploads/2026/01/file_000000006b58720ab11c32110733255a.jpg
END:VEVENT
BEGIN:VEVENT
DTSTART;TZID=Europe/Dublin:20280427T190000
DTEND;TZID=Europe/Dublin:20280427T200000
DTSTAMP:20260424T075607
CREATED:20260204T193609Z
LAST-MODIFIED:20260204T193609Z
UID:10003368-1840474800-1840478400@charlestown.ie
SUMMARY:Parish Choir
DESCRIPTION:
URL:https://charlestown.ie/event/parish-choir/2028-04-27/
LOCATION:St James Church\, Charlestown\, Church St\, Charlestown\, Co Mayo\, Ireland
ATTACH;FMTTYPE=image/jpeg:https://charlestown.ie/wp-content/uploads/2026/01/file_000000006b58720ab11c32110733255a.jpg
END:VEVENT
BEGIN:VEVENT
DTSTART;TZID=Europe/Dublin:20280504T190000
DTEND;TZID=Europe/Dublin:20280504T200000
DTSTAMP:20260424T075607
CREATED:20260204T193609Z
LAST-MODIFIED:20260204T193609Z
UID:10003369-1841079600-1841083200@charlestown.ie
SUMMARY:Parish Choir
DESCRIPTION:
URL:https://charlestown.ie/event/parish-choir/2028-05-04/
LOCATION:St James Church\, Charlestown\, Church St\, Charlestown\, Co Mayo\, Ireland
ATTACH;FMTTYPE=image/jpeg:https://charlestown.ie/wp-content/uploads/2026/01/file_000000006b58720ab11c32110733255a.jpg
END:VEVENT
BEGIN:VEVENT
DTSTART;TZID=Europe/Dublin:20280511T190000
DTEND;TZID=Europe/Dublin:20280511T200000
DTSTAMP:20260424T075607
CREATED:20260204T193609Z
LAST-MODIFIED:20260204T193609Z
UID:10003370-1841684400-1841688000@charlestown.ie
SUMMARY:Parish Choir
DESCRIPTION:
URL:https://charlestown.ie/event/parish-choir/2028-05-11/
LOCATION:St James Church\, Charlestown\, Church St\, Charlestown\, Co Mayo\, Ireland
ATTACH;FMTTYPE=image/jpeg:https://charlestown.ie/wp-content/uploads/2026/01/file_000000006b58720ab11c32110733255a.jpg
END:VEVENT
BEGIN:VEVENT
DTSTART;TZID=Europe/Dublin:20280518T190000
DTEND;TZID=Europe/Dublin:20280518T200000
DTSTAMP:20260424T075607
CREATED:20260204T193609Z
LAST-MODIFIED:20260204T193609Z
UID:10003371-1842289200-1842292800@charlestown.ie
SUMMARY:Parish Choir
DESCRIPTION:
URL:https://charlestown.ie/event/parish-choir/2028-05-18/
LOCATION:St James Church\, Charlestown\, Church St\, Charlestown\, Co Mayo\, Ireland
ATTACH;FMTTYPE=image/jpeg:https://charlestown.ie/wp-content/uploads/2026/01/file_000000006b58720ab11c32110733255a.jpg
END:VEVENT
BEGIN:VEVENT
DTSTART;TZID=Europe/Dublin:20280525T190000
DTEND;TZID=Europe/Dublin:20280525T200000
DTSTAMP:20260424T075607
CREATED:20260204T193609Z
LAST-MODIFIED:20260204T193609Z
UID:10003372-1842894000-1842897600@charlestown.ie
SUMMARY:Parish Choir
DESCRIPTION:
URL:https://charlestown.ie/event/parish-choir/2028-05-25/
LOCATION:St James Church\, Charlestown\, Church St\, Charlestown\, Co Mayo\, Ireland
ATTACH;FMTTYPE=image/jpeg:https://charlestown.ie/wp-content/uploads/2026/01/file_000000006b58720ab11c32110733255a.jpg
END:VEVENT
BEGIN:VEVENT
DTSTART;TZID=Europe/Dublin:20280601T190000
DTEND;TZID=Europe/Dublin:20280601T200000
DTSTAMP:20260424T075607
CREATED:20260204T193609Z
LAST-MODIFIED:20260204T193609Z
UID:10003373-1843498800-1843502400@charlestown.ie
SUMMARY:Parish Choir
DESCRIPTION:
URL:https://charlestown.ie/event/parish-choir/2028-06-01/
LOCATION:St James Church\, Charlestown\, Church St\, Charlestown\, Co Mayo\, Ireland
ATTACH;FMTTYPE=image/jpeg:https://charlestown.ie/wp-content/uploads/2026/01/file_000000006b58720ab11c32110733255a.jpg
END:VEVENT
BEGIN:VEVENT
DTSTART;TZID=Europe/Dublin:20280608T190000
DTEND;TZID=Europe/Dublin:20280608T200000
DTSTAMP:20260424T075607
CREATED:20260204T193609Z
LAST-MODIFIED:20260204T193609Z
UID:10003374-1844103600-1844107200@charlestown.ie
SUMMARY:Parish Choir
DESCRIPTION:
URL:https://charlestown.ie/event/parish-choir/2028-06-08/
LOCATION:St James Church\, Charlestown\, Church St\, Charlestown\, Co Mayo\, Ireland
ATTACH;FMTTYPE=image/jpeg:https://charlestown.ie/wp-content/uploads/2026/01/file_000000006b58720ab11c32110733255a.jpg
END:VEVENT
BEGIN:VEVENT
DTSTART;TZID=Europe/Dublin:20280615T190000
DTEND;TZID=Europe/Dublin:20280615T200000
DTSTAMP:20260424T075607
CREATED:20260204T193609Z
LAST-MODIFIED:20260204T193609Z
UID:10003375-1844708400-1844712000@charlestown.ie
SUMMARY:Parish Choir
DESCRIPTION:
URL:https://charlestown.ie/event/parish-choir/2028-06-15/
LOCATION:St James Church\, Charlestown\, Church St\, Charlestown\, Co Mayo\, Ireland
ATTACH;FMTTYPE=image/jpeg:https://charlestown.ie/wp-content/uploads/2026/01/file_000000006b58720ab11c32110733255a.jpg
END:VEVENT
BEGIN:VEVENT
DTSTART;TZID=Europe/Dublin:20280622T190000
DTEND;TZID=Europe/Dublin:20280622T200000
DTSTAMP:20260424T075607
CREATED:20260204T193609Z
LAST-MODIFIED:20260204T193609Z
UID:10003376-1845313200-1845316800@charlestown.ie
SUMMARY:Parish Choir
DESCRIPTION:
URL:https://charlestown.ie/event/parish-choir/2028-06-22/
LOCATION:St James Church\, Charlestown\, Church St\, Charlestown\, Co Mayo\, Ireland
ATTACH;FMTTYPE=image/jpeg:https://charlestown.ie/wp-content/uploads/2026/01/file_000000006b58720ab11c32110733255a.jpg
END:VEVENT
BEGIN:VEVENT
DTSTART;TZID=Europe/Dublin:20280629T190000
DTEND;TZID=Europe/Dublin:20280629T200000
DTSTAMP:20260424T075607
CREATED:20260204T193609Z
LAST-MODIFIED:20260204T193609Z
UID:10003377-1845918000-1845921600@charlestown.ie
SUMMARY:Parish Choir
DESCRIPTION:
URL:https://charlestown.ie/event/parish-choir/2028-06-29/
LOCATION:St James Church\, Charlestown\, Church St\, Charlestown\, Co Mayo\, Ireland
ATTACH;FMTTYPE=image/jpeg:https://charlestown.ie/wp-content/uploads/2026/01/file_000000006b58720ab11c32110733255a.jpg
END:VEVENT
BEGIN:VEVENT
DTSTART;TZID=Europe/Dublin:20280706T190000
DTEND;TZID=Europe/Dublin:20280706T200000
DTSTAMP:20260424T075607
CREATED:20260204T193609Z
LAST-MODIFIED:20260204T193609Z
UID:10003378-1846522800-1846526400@charlestown.ie
SUMMARY:Parish Choir
DESCRIPTION:
URL:https://charlestown.ie/event/parish-choir/2028-07-06/
LOCATION:St James Church\, Charlestown\, Church St\, Charlestown\, Co Mayo\, Ireland
ATTACH;FMTTYPE=image/jpeg:https://charlestown.ie/wp-content/uploads/2026/01/file_000000006b58720ab11c32110733255a.jpg
END:VEVENT
BEGIN:VEVENT
DTSTART;TZID=Europe/Dublin:20280713T190000
DTEND;TZID=Europe/Dublin:20280713T200000
DTSTAMP:20260424T075607
CREATED:20260204T193609Z
LAST-MODIFIED:20260204T193609Z
UID:10003379-1847127600-1847131200@charlestown.ie
SUMMARY:Parish Choir
DESCRIPTION:
URL:https://charlestown.ie/event/parish-choir/2028-07-13/
LOCATION:St James Church\, Charlestown\, Church St\, Charlestown\, Co Mayo\, Ireland
ATTACH;FMTTYPE=image/jpeg:https://charlestown.ie/wp-content/uploads/2026/01/file_000000006b58720ab11c32110733255a.jpg
END:VEVENT
BEGIN:VEVENT
DTSTART;TZID=Europe/Dublin:20280720T190000
DTEND;TZID=Europe/Dublin:20280720T200000
DTSTAMP:20260424T075607
CREATED:20260204T193609Z
LAST-MODIFIED:20260204T193609Z
UID:10003380-1847732400-1847736000@charlestown.ie
SUMMARY:Parish Choir
DESCRIPTION:
URL:https://charlestown.ie/event/parish-choir/2028-07-20/
LOCATION:St James Church\, Charlestown\, Church St\, Charlestown\, Co Mayo\, Ireland
ATTACH;FMTTYPE=image/jpeg:https://charlestown.ie/wp-content/uploads/2026/01/file_000000006b58720ab11c32110733255a.jpg
END:VEVENT
BEGIN:VEVENT
DTSTART;TZID=Europe/Dublin:20280727T190000
DTEND;TZID=Europe/Dublin:20280727T200000
DTSTAMP:20260424T075607
CREATED:20260204T193609Z
LAST-MODIFIED:20260204T193609Z
UID:10003381-1848337200-1848340800@charlestown.ie
SUMMARY:Parish Choir
DESCRIPTION:
URL:https://charlestown.ie/event/parish-choir/2028-07-27/
LOCATION:St James Church\, Charlestown\, Church St\, Charlestown\, Co Mayo\, Ireland
ATTACH;FMTTYPE=image/jpeg:https://charlestown.ie/wp-content/uploads/2026/01/file_000000006b58720ab11c32110733255a.jpg
END:VEVENT
BEGIN:VEVENT
DTSTART;TZID=Europe/Dublin:20280803T190000
DTEND;TZID=Europe/Dublin:20280803T200000
DTSTAMP:20260424T075607
CREATED:20260204T193609Z
LAST-MODIFIED:20260204T193609Z
UID:10003382-1848942000-1848945600@charlestown.ie
SUMMARY:Parish Choir
DESCRIPTION:
URL:https://charlestown.ie/event/parish-choir/2028-08-03/
LOCATION:St James Church\, Charlestown\, Church St\, Charlestown\, Co Mayo\, Ireland
ATTACH;FMTTYPE=image/jpeg:https://charlestown.ie/wp-content/uploads/2026/01/file_000000006b58720ab11c32110733255a.jpg
END:VEVENT
BEGIN:VEVENT
DTSTART;TZID=Europe/Dublin:20280810T190000
DTEND;TZID=Europe/Dublin:20280810T200000
DTSTAMP:20260424T075607
CREATED:20260204T193609Z
LAST-MODIFIED:20260204T193609Z
UID:10003383-1849546800-1849550400@charlestown.ie
SUMMARY:Parish Choir
DESCRIPTION:
URL:https://charlestown.ie/event/parish-choir/2028-08-10/
LOCATION:St James Church\, Charlestown\, Church St\, Charlestown\, Co Mayo\, Ireland
ATTACH;FMTTYPE=image/jpeg:https://charlestown.ie/wp-content/uploads/2026/01/file_000000006b58720ab11c32110733255a.jpg
END:VEVENT
BEGIN:VEVENT
DTSTART;TZID=Europe/Dublin:20280817T190000
DTEND;TZID=Europe/Dublin:20280817T200000
DTSTAMP:20260424T075607
CREATED:20260204T193609Z
LAST-MODIFIED:20260204T193609Z
UID:10003384-1850151600-1850155200@charlestown.ie
SUMMARY:Parish Choir
DESCRIPTION:
URL:https://charlestown.ie/event/parish-choir/2028-08-17/
LOCATION:St James Church\, Charlestown\, Church St\, Charlestown\, Co Mayo\, Ireland
ATTACH;FMTTYPE=image/jpeg:https://charlestown.ie/wp-content/uploads/2026/01/file_000000006b58720ab11c32110733255a.jpg
END:VEVENT
BEGIN:VEVENT
DTSTART;TZID=Europe/Dublin:20280824T190000
DTEND;TZID=Europe/Dublin:20280824T200000
DTSTAMP:20260424T075607
CREATED:20260204T193609Z
LAST-MODIFIED:20260204T193609Z
UID:10003385-1850756400-1850760000@charlestown.ie
SUMMARY:Parish Choir
DESCRIPTION:
URL:https://charlestown.ie/event/parish-choir/2028-08-24/
LOCATION:St James Church\, Charlestown\, Church St\, Charlestown\, Co Mayo\, Ireland
ATTACH;FMTTYPE=image/jpeg:https://charlestown.ie/wp-content/uploads/2026/01/file_000000006b58720ab11c32110733255a.jpg
END:VEVENT
BEGIN:VEVENT
DTSTART;TZID=Europe/Dublin:20280831T190000
DTEND;TZID=Europe/Dublin:20280831T200000
DTSTAMP:20260424T075608
CREATED:20260204T193609Z
LAST-MODIFIED:20260204T193609Z
UID:10003386-1851361200-1851364800@charlestown.ie
SUMMARY:Parish Choir
DESCRIPTION:
URL:https://charlestown.ie/event/parish-choir/2028-08-31/
LOCATION:St James Church\, Charlestown\, Church St\, Charlestown\, Co Mayo\, Ireland
ATTACH;FMTTYPE=image/jpeg:https://charlestown.ie/wp-content/uploads/2026/01/file_000000006b58720ab11c32110733255a.jpg
END:VEVENT
BEGIN:VEVENT
DTSTART;TZID=Europe/Dublin:20280907T190000
DTEND;TZID=Europe/Dublin:20280907T200000
DTSTAMP:20260424T075608
CREATED:20260204T193609Z
LAST-MODIFIED:20260204T193609Z
UID:10003387-1851966000-1851969600@charlestown.ie
SUMMARY:Parish Choir
DESCRIPTION:
URL:https://charlestown.ie/event/parish-choir/2028-09-07/
LOCATION:St James Church\, Charlestown\, Church St\, Charlestown\, Co Mayo\, Ireland
ATTACH;FMTTYPE=image/jpeg:https://charlestown.ie/wp-content/uploads/2026/01/file_000000006b58720ab11c32110733255a.jpg
END:VEVENT
BEGIN:VEVENT
DTSTART;TZID=Europe/Dublin:20280914T190000
DTEND;TZID=Europe/Dublin:20280914T200000
DTSTAMP:20260424T075608
CREATED:20260204T193609Z
LAST-MODIFIED:20260204T193609Z
UID:10003388-1852570800-1852574400@charlestown.ie
SUMMARY:Parish Choir
DESCRIPTION:
URL:https://charlestown.ie/event/parish-choir/2028-09-14/
LOCATION:St James Church\, Charlestown\, Church St\, Charlestown\, Co Mayo\, Ireland
ATTACH;FMTTYPE=image/jpeg:https://charlestown.ie/wp-content/uploads/2026/01/file_000000006b58720ab11c32110733255a.jpg
END:VEVENT
BEGIN:VEVENT
DTSTART;TZID=Europe/Dublin:20280921T190000
DTEND;TZID=Europe/Dublin:20280921T200000
DTSTAMP:20260424T075608
CREATED:20260204T193609Z
LAST-MODIFIED:20260204T193609Z
UID:10003389-1853175600-1853179200@charlestown.ie
SUMMARY:Parish Choir
DESCRIPTION:
URL:https://charlestown.ie/event/parish-choir/2028-09-21/
LOCATION:St James Church\, Charlestown\, Church St\, Charlestown\, Co Mayo\, Ireland
ATTACH;FMTTYPE=image/jpeg:https://charlestown.ie/wp-content/uploads/2026/01/file_000000006b58720ab11c32110733255a.jpg
END:VEVENT
BEGIN:VEVENT
DTSTART;TZID=Europe/Dublin:20280928T190000
DTEND;TZID=Europe/Dublin:20280928T200000
DTSTAMP:20260424T075608
CREATED:20260204T193609Z
LAST-MODIFIED:20260204T193609Z
UID:10003390-1853780400-1853784000@charlestown.ie
SUMMARY:Parish Choir
DESCRIPTION:
URL:https://charlestown.ie/event/parish-choir/2028-09-28/
LOCATION:St James Church\, Charlestown\, Church St\, Charlestown\, Co Mayo\, Ireland
ATTACH;FMTTYPE=image/jpeg:https://charlestown.ie/wp-content/uploads/2026/01/file_000000006b58720ab11c32110733255a.jpg
END:VEVENT
BEGIN:VEVENT
DTSTART;TZID=Europe/Dublin:20281005T190000
DTEND;TZID=Europe/Dublin:20281005T200000
DTSTAMP:20260424T075608
CREATED:20260204T193609Z
LAST-MODIFIED:20260204T193609Z
UID:10003391-1854385200-1854388800@charlestown.ie
SUMMARY:Parish Choir
DESCRIPTION:
URL:https://charlestown.ie/event/parish-choir/2028-10-05/
LOCATION:St James Church\, Charlestown\, Church St\, Charlestown\, Co Mayo\, Ireland
ATTACH;FMTTYPE=image/jpeg:https://charlestown.ie/wp-content/uploads/2026/01/file_000000006b58720ab11c32110733255a.jpg
END:VEVENT
BEGIN:VEVENT
DTSTART;TZID=Europe/Dublin:20281012T190000
DTEND;TZID=Europe/Dublin:20281012T200000
DTSTAMP:20260424T075608
CREATED:20260204T193609Z
LAST-MODIFIED:20260204T193609Z
UID:10003392-1854990000-1854993600@charlestown.ie
SUMMARY:Parish Choir
DESCRIPTION:
URL:https://charlestown.ie/event/parish-choir/2028-10-12/
LOCATION:St James Church\, Charlestown\, Church St\, Charlestown\, Co Mayo\, Ireland
ATTACH;FMTTYPE=image/jpeg:https://charlestown.ie/wp-content/uploads/2026/01/file_000000006b58720ab11c32110733255a.jpg
END:VEVENT
BEGIN:VEVENT
DTSTART;TZID=Europe/Dublin:20281019T190000
DTEND;TZID=Europe/Dublin:20281019T200000
DTSTAMP:20260424T075608
CREATED:20260204T193609Z
LAST-MODIFIED:20260204T193609Z
UID:10003393-1855594800-1855598400@charlestown.ie
SUMMARY:Parish Choir
DESCRIPTION:
URL:https://charlestown.ie/event/parish-choir/2028-10-19/
LOCATION:St James Church\, Charlestown\, Church St\, Charlestown\, Co Mayo\, Ireland
ATTACH;FMTTYPE=image/jpeg:https://charlestown.ie/wp-content/uploads/2026/01/file_000000006b58720ab11c32110733255a.jpg
END:VEVENT
END:VCALENDAR