BEGIN:VCALENDAR
VERSION:2.0
PRODID:-//Charlestown - ECPv6.6.4.2//NONSGML v1.0//EN
CALSCALE:GREGORIAN
METHOD:PUBLISH
X-WR-CALNAME:Charlestown
X-ORIGINAL-URL:https://charlestown.ie
X-WR-CALDESC:Events for Charlestown
REFRESH-INTERVAL;VALUE=DURATION:PT1H
X-Robots-Tag:noindex
X-PUBLISHED-TTL:PT1H
BEGIN:VTIMEZONE
TZID:Europe/Dublin
BEGIN:DAYLIGHT
TZOFFSETFROM:+0000
TZOFFSETTO:+0100
TZNAME:IST
DTSTART:20270328T010000
END:DAYLIGHT
BEGIN:STANDARD
TZOFFSETFROM:+0100
TZOFFSETTO:+0000
TZNAME:GMT
DTSTART:20271031T010000
END:STANDARD
BEGIN:DAYLIGHT
TZOFFSETFROM:+0000
TZOFFSETTO:+0100
TZNAME:IST
DTSTART:20280326T010000
END:DAYLIGHT
BEGIN:STANDARD
TZOFFSETFROM:+0100
TZOFFSETTO:+0000
TZNAME:GMT
DTSTART:20281029T010000
END:STANDARD
END:VTIMEZONE
BEGIN:VEVENT
DTSTART;TZID=Europe/Dublin:20271111T103000
DTEND;TZID=Europe/Dublin:20271111T130000
DTSTAMP:20260424T043445
CREATED:20250822T154401Z
LAST-MODIFIED:20251028T085401Z
UID:10002728-1825929000-1825938000@charlestown.ie
SUMMARY:Yarn Tales - Knit\, Crochet & Embroidery
DESCRIPTION:
URL:https://charlestown.ie/event/yarn-tales-knit-crochet-embroidery/2027-11-11/
LOCATION:Pastoral Centre\, Lowpark\, Charlestown\, Mayo\, Ireland
ATTACH;FMTTYPE=image/jpeg:https://charlestown.ie/wp-content/uploads/2025/08/Screenshot_20250901_212637_Gmail.jpg
END:VEVENT
BEGIN:VEVENT
DTSTART;TZID=Europe/Dublin:20271118T103000
DTEND;TZID=Europe/Dublin:20271118T130000
DTSTAMP:20260424T043445
CREATED:20250822T154401Z
LAST-MODIFIED:20251028T085401Z
UID:10002729-1826533800-1826542800@charlestown.ie
SUMMARY:Yarn Tales - Knit\, Crochet & Embroidery
DESCRIPTION:
URL:https://charlestown.ie/event/yarn-tales-knit-crochet-embroidery/2027-11-18/
LOCATION:Pastoral Centre\, Lowpark\, Charlestown\, Mayo\, Ireland
ATTACH;FMTTYPE=image/jpeg:https://charlestown.ie/wp-content/uploads/2025/08/Screenshot_20250901_212637_Gmail.jpg
END:VEVENT
BEGIN:VEVENT
DTSTART;TZID=Europe/Dublin:20271125T103000
DTEND;TZID=Europe/Dublin:20271125T130000
DTSTAMP:20260424T043445
CREATED:20250822T154401Z
LAST-MODIFIED:20251028T085401Z
UID:10002730-1827138600-1827147600@charlestown.ie
SUMMARY:Yarn Tales - Knit\, Crochet & Embroidery
DESCRIPTION:
URL:https://charlestown.ie/event/yarn-tales-knit-crochet-embroidery/2027-11-25/
LOCATION:Pastoral Centre\, Lowpark\, Charlestown\, Mayo\, Ireland
ATTACH;FMTTYPE=image/jpeg:https://charlestown.ie/wp-content/uploads/2025/08/Screenshot_20250901_212637_Gmail.jpg
END:VEVENT
BEGIN:VEVENT
DTSTART;TZID=Europe/Dublin:20271202T103000
DTEND;TZID=Europe/Dublin:20271202T130000
DTSTAMP:20260424T043445
CREATED:20250822T154401Z
LAST-MODIFIED:20251028T085401Z
UID:10002731-1827743400-1827752400@charlestown.ie
SUMMARY:Yarn Tales - Knit\, Crochet & Embroidery
DESCRIPTION:
URL:https://charlestown.ie/event/yarn-tales-knit-crochet-embroidery/2027-12-02/
LOCATION:Pastoral Centre\, Lowpark\, Charlestown\, Mayo\, Ireland
ATTACH;FMTTYPE=image/jpeg:https://charlestown.ie/wp-content/uploads/2025/08/Screenshot_20250901_212637_Gmail.jpg
END:VEVENT
BEGIN:VEVENT
DTSTART;TZID=Europe/Dublin:20271209T103000
DTEND;TZID=Europe/Dublin:20271209T130000
DTSTAMP:20260424T043445
CREATED:20250822T154401Z
LAST-MODIFIED:20251028T085401Z
UID:10002732-1828348200-1828357200@charlestown.ie
SUMMARY:Yarn Tales - Knit\, Crochet & Embroidery
DESCRIPTION:
URL:https://charlestown.ie/event/yarn-tales-knit-crochet-embroidery/2027-12-09/
LOCATION:Pastoral Centre\, Lowpark\, Charlestown\, Mayo\, Ireland
ATTACH;FMTTYPE=image/jpeg:https://charlestown.ie/wp-content/uploads/2025/08/Screenshot_20250901_212637_Gmail.jpg
END:VEVENT
BEGIN:VEVENT
DTSTART;TZID=Europe/Dublin:20271216T103000
DTEND;TZID=Europe/Dublin:20271216T130000
DTSTAMP:20260424T043445
CREATED:20250822T154401Z
LAST-MODIFIED:20251028T085401Z
UID:10002733-1828953000-1828962000@charlestown.ie
SUMMARY:Yarn Tales - Knit\, Crochet & Embroidery
DESCRIPTION:
URL:https://charlestown.ie/event/yarn-tales-knit-crochet-embroidery/2027-12-16/
LOCATION:Pastoral Centre\, Lowpark\, Charlestown\, Mayo\, Ireland
ATTACH;FMTTYPE=image/jpeg:https://charlestown.ie/wp-content/uploads/2025/08/Screenshot_20250901_212637_Gmail.jpg
END:VEVENT
BEGIN:VEVENT
DTSTART;TZID=Europe/Dublin:20271223T103000
DTEND;TZID=Europe/Dublin:20271223T130000
DTSTAMP:20260424T043445
CREATED:20250822T154401Z
LAST-MODIFIED:20251028T085401Z
UID:10002734-1829557800-1829566800@charlestown.ie
SUMMARY:Yarn Tales - Knit\, Crochet & Embroidery
DESCRIPTION:
URL:https://charlestown.ie/event/yarn-tales-knit-crochet-embroidery/2027-12-23/
LOCATION:Pastoral Centre\, Lowpark\, Charlestown\, Mayo\, Ireland
ATTACH;FMTTYPE=image/jpeg:https://charlestown.ie/wp-content/uploads/2025/08/Screenshot_20250901_212637_Gmail.jpg
END:VEVENT
BEGIN:VEVENT
DTSTART;TZID=Europe/Dublin:20271230T103000
DTEND;TZID=Europe/Dublin:20271230T130000
DTSTAMP:20260424T043445
CREATED:20250822T154401Z
LAST-MODIFIED:20251028T085401Z
UID:10002735-1830162600-1830171600@charlestown.ie
SUMMARY:Yarn Tales - Knit\, Crochet & Embroidery
DESCRIPTION:
URL:https://charlestown.ie/event/yarn-tales-knit-crochet-embroidery/2027-12-30/
LOCATION:Pastoral Centre\, Lowpark\, Charlestown\, Mayo\, Ireland
ATTACH;FMTTYPE=image/jpeg:https://charlestown.ie/wp-content/uploads/2025/08/Screenshot_20250901_212637_Gmail.jpg
END:VEVENT
BEGIN:VEVENT
DTSTART;TZID=Europe/Dublin:20280106T103000
DTEND;TZID=Europe/Dublin:20280106T130000
DTSTAMP:20260424T043445
CREATED:20250822T154401Z
LAST-MODIFIED:20251028T085401Z
UID:10002736-1830767400-1830776400@charlestown.ie
SUMMARY:Yarn Tales - Knit\, Crochet & Embroidery
DESCRIPTION:
URL:https://charlestown.ie/event/yarn-tales-knit-crochet-embroidery/2028-01-06/
LOCATION:Pastoral Centre\, Lowpark\, Charlestown\, Mayo\, Ireland
ATTACH;FMTTYPE=image/jpeg:https://charlestown.ie/wp-content/uploads/2025/08/Screenshot_20250901_212637_Gmail.jpg
END:VEVENT
BEGIN:VEVENT
DTSTART;TZID=Europe/Dublin:20280113T103000
DTEND;TZID=Europe/Dublin:20280113T130000
DTSTAMP:20260424T043445
CREATED:20250822T154401Z
LAST-MODIFIED:20251028T085401Z
UID:10002737-1831372200-1831381200@charlestown.ie
SUMMARY:Yarn Tales - Knit\, Crochet & Embroidery
DESCRIPTION:
URL:https://charlestown.ie/event/yarn-tales-knit-crochet-embroidery/2028-01-13/
LOCATION:Pastoral Centre\, Lowpark\, Charlestown\, Mayo\, Ireland
ATTACH;FMTTYPE=image/jpeg:https://charlestown.ie/wp-content/uploads/2025/08/Screenshot_20250901_212637_Gmail.jpg
END:VEVENT
BEGIN:VEVENT
DTSTART;TZID=Europe/Dublin:20280120T103000
DTEND;TZID=Europe/Dublin:20280120T130000
DTSTAMP:20260424T043445
CREATED:20250822T154401Z
LAST-MODIFIED:20251028T085401Z
UID:10002738-1831977000-1831986000@charlestown.ie
SUMMARY:Yarn Tales - Knit\, Crochet & Embroidery
DESCRIPTION:
URL:https://charlestown.ie/event/yarn-tales-knit-crochet-embroidery/2028-01-20/
LOCATION:Pastoral Centre\, Lowpark\, Charlestown\, Mayo\, Ireland
ATTACH;FMTTYPE=image/jpeg:https://charlestown.ie/wp-content/uploads/2025/08/Screenshot_20250901_212637_Gmail.jpg
END:VEVENT
BEGIN:VEVENT
DTSTART;TZID=Europe/Dublin:20280127T103000
DTEND;TZID=Europe/Dublin:20280127T130000
DTSTAMP:20260424T043445
CREATED:20250822T154401Z
LAST-MODIFIED:20251028T085401Z
UID:10002739-1832581800-1832590800@charlestown.ie
SUMMARY:Yarn Tales - Knit\, Crochet & Embroidery
DESCRIPTION:
URL:https://charlestown.ie/event/yarn-tales-knit-crochet-embroidery/2028-01-27/
LOCATION:Pastoral Centre\, Lowpark\, Charlestown\, Mayo\, Ireland
ATTACH;FMTTYPE=image/jpeg:https://charlestown.ie/wp-content/uploads/2025/08/Screenshot_20250901_212637_Gmail.jpg
END:VEVENT
BEGIN:VEVENT
DTSTART;TZID=Europe/Dublin:20280203T103000
DTEND;TZID=Europe/Dublin:20280203T130000
DTSTAMP:20260424T043445
CREATED:20250822T154401Z
LAST-MODIFIED:20251028T085401Z
UID:10002740-1833186600-1833195600@charlestown.ie
SUMMARY:Yarn Tales - Knit\, Crochet & Embroidery
DESCRIPTION:
URL:https://charlestown.ie/event/yarn-tales-knit-crochet-embroidery/2028-02-03/
LOCATION:Pastoral Centre\, Lowpark\, Charlestown\, Mayo\, Ireland
ATTACH;FMTTYPE=image/jpeg:https://charlestown.ie/wp-content/uploads/2025/08/Screenshot_20250901_212637_Gmail.jpg
END:VEVENT
BEGIN:VEVENT
DTSTART;TZID=Europe/Dublin:20280210T103000
DTEND;TZID=Europe/Dublin:20280210T130000
DTSTAMP:20260424T043445
CREATED:20250822T154401Z
LAST-MODIFIED:20251028T085401Z
UID:10002741-1833791400-1833800400@charlestown.ie
SUMMARY:Yarn Tales - Knit\, Crochet & Embroidery
DESCRIPTION:
URL:https://charlestown.ie/event/yarn-tales-knit-crochet-embroidery/2028-02-10/
LOCATION:Pastoral Centre\, Lowpark\, Charlestown\, Mayo\, Ireland
ATTACH;FMTTYPE=image/jpeg:https://charlestown.ie/wp-content/uploads/2025/08/Screenshot_20250901_212637_Gmail.jpg
END:VEVENT
BEGIN:VEVENT
DTSTART;TZID=Europe/Dublin:20280217T103000
DTEND;TZID=Europe/Dublin:20280217T130000
DTSTAMP:20260424T043445
CREATED:20250822T154401Z
LAST-MODIFIED:20251028T085401Z
UID:10002742-1834396200-1834405200@charlestown.ie
SUMMARY:Yarn Tales - Knit\, Crochet & Embroidery
DESCRIPTION:
URL:https://charlestown.ie/event/yarn-tales-knit-crochet-embroidery/2028-02-17/
LOCATION:Pastoral Centre\, Lowpark\, Charlestown\, Mayo\, Ireland
ATTACH;FMTTYPE=image/jpeg:https://charlestown.ie/wp-content/uploads/2025/08/Screenshot_20250901_212637_Gmail.jpg
END:VEVENT
BEGIN:VEVENT
DTSTART;TZID=Europe/Dublin:20280224T103000
DTEND;TZID=Europe/Dublin:20280224T130000
DTSTAMP:20260424T043445
CREATED:20250822T154401Z
LAST-MODIFIED:20251028T085401Z
UID:10002743-1835001000-1835010000@charlestown.ie
SUMMARY:Yarn Tales - Knit\, Crochet & Embroidery
DESCRIPTION:
URL:https://charlestown.ie/event/yarn-tales-knit-crochet-embroidery/2028-02-24/
LOCATION:Pastoral Centre\, Lowpark\, Charlestown\, Mayo\, Ireland
ATTACH;FMTTYPE=image/jpeg:https://charlestown.ie/wp-content/uploads/2025/08/Screenshot_20250901_212637_Gmail.jpg
END:VEVENT
BEGIN:VEVENT
DTSTART;TZID=Europe/Dublin:20280302T103000
DTEND;TZID=Europe/Dublin:20280302T130000
DTSTAMP:20260424T043445
CREATED:20250822T154401Z
LAST-MODIFIED:20251028T085401Z
UID:10002744-1835605800-1835614800@charlestown.ie
SUMMARY:Yarn Tales - Knit\, Crochet & Embroidery
DESCRIPTION:
URL:https://charlestown.ie/event/yarn-tales-knit-crochet-embroidery/2028-03-02/
LOCATION:Pastoral Centre\, Lowpark\, Charlestown\, Mayo\, Ireland
ATTACH;FMTTYPE=image/jpeg:https://charlestown.ie/wp-content/uploads/2025/08/Screenshot_20250901_212637_Gmail.jpg
END:VEVENT
BEGIN:VEVENT
DTSTART;TZID=Europe/Dublin:20280309T103000
DTEND;TZID=Europe/Dublin:20280309T130000
DTSTAMP:20260424T043445
CREATED:20250822T154401Z
LAST-MODIFIED:20251028T085401Z
UID:10002745-1836210600-1836219600@charlestown.ie
SUMMARY:Yarn Tales - Knit\, Crochet & Embroidery
DESCRIPTION:
URL:https://charlestown.ie/event/yarn-tales-knit-crochet-embroidery/2028-03-09/
LOCATION:Pastoral Centre\, Lowpark\, Charlestown\, Mayo\, Ireland
ATTACH;FMTTYPE=image/jpeg:https://charlestown.ie/wp-content/uploads/2025/08/Screenshot_20250901_212637_Gmail.jpg
END:VEVENT
BEGIN:VEVENT
DTSTART;TZID=Europe/Dublin:20280316T103000
DTEND;TZID=Europe/Dublin:20280316T130000
DTSTAMP:20260424T043445
CREATED:20250822T154401Z
LAST-MODIFIED:20251028T085401Z
UID:10002746-1836815400-1836824400@charlestown.ie
SUMMARY:Yarn Tales - Knit\, Crochet & Embroidery
DESCRIPTION:
URL:https://charlestown.ie/event/yarn-tales-knit-crochet-embroidery/2028-03-16/
LOCATION:Pastoral Centre\, Lowpark\, Charlestown\, Mayo\, Ireland
ATTACH;FMTTYPE=image/jpeg:https://charlestown.ie/wp-content/uploads/2025/08/Screenshot_20250901_212637_Gmail.jpg
END:VEVENT
BEGIN:VEVENT
DTSTART;TZID=Europe/Dublin:20280323T103000
DTEND;TZID=Europe/Dublin:20280323T130000
DTSTAMP:20260424T043445
CREATED:20250822T154401Z
LAST-MODIFIED:20251028T085401Z
UID:10002747-1837420200-1837429200@charlestown.ie
SUMMARY:Yarn Tales - Knit\, Crochet & Embroidery
DESCRIPTION:
URL:https://charlestown.ie/event/yarn-tales-knit-crochet-embroidery/2028-03-23/
LOCATION:Pastoral Centre\, Lowpark\, Charlestown\, Mayo\, Ireland
ATTACH;FMTTYPE=image/jpeg:https://charlestown.ie/wp-content/uploads/2025/08/Screenshot_20250901_212637_Gmail.jpg
END:VEVENT
BEGIN:VEVENT
DTSTART;TZID=Europe/Dublin:20280330T103000
DTEND;TZID=Europe/Dublin:20280330T130000
DTSTAMP:20260424T043445
CREATED:20250822T154401Z
LAST-MODIFIED:20251028T085401Z
UID:10002748-1838025000-1838034000@charlestown.ie
SUMMARY:Yarn Tales - Knit\, Crochet & Embroidery
DESCRIPTION:
URL:https://charlestown.ie/event/yarn-tales-knit-crochet-embroidery/2028-03-30/
LOCATION:Pastoral Centre\, Lowpark\, Charlestown\, Mayo\, Ireland
ATTACH;FMTTYPE=image/jpeg:https://charlestown.ie/wp-content/uploads/2025/08/Screenshot_20250901_212637_Gmail.jpg
END:VEVENT
BEGIN:VEVENT
DTSTART;TZID=Europe/Dublin:20280406T103000
DTEND;TZID=Europe/Dublin:20280406T130000
DTSTAMP:20260424T043445
CREATED:20250822T154401Z
LAST-MODIFIED:20251028T085401Z
UID:10002749-1838629800-1838638800@charlestown.ie
SUMMARY:Yarn Tales - Knit\, Crochet & Embroidery
DESCRIPTION:
URL:https://charlestown.ie/event/yarn-tales-knit-crochet-embroidery/2028-04-06/
LOCATION:Pastoral Centre\, Lowpark\, Charlestown\, Mayo\, Ireland
ATTACH;FMTTYPE=image/jpeg:https://charlestown.ie/wp-content/uploads/2025/08/Screenshot_20250901_212637_Gmail.jpg
END:VEVENT
BEGIN:VEVENT
DTSTART;TZID=Europe/Dublin:20280413T103000
DTEND;TZID=Europe/Dublin:20280413T130000
DTSTAMP:20260424T043445
CREATED:20250822T154401Z
LAST-MODIFIED:20251028T085401Z
UID:10002750-1839234600-1839243600@charlestown.ie
SUMMARY:Yarn Tales - Knit\, Crochet & Embroidery
DESCRIPTION:
URL:https://charlestown.ie/event/yarn-tales-knit-crochet-embroidery/2028-04-13/
LOCATION:Pastoral Centre\, Lowpark\, Charlestown\, Mayo\, Ireland
ATTACH;FMTTYPE=image/jpeg:https://charlestown.ie/wp-content/uploads/2025/08/Screenshot_20250901_212637_Gmail.jpg
END:VEVENT
BEGIN:VEVENT
DTSTART;TZID=Europe/Dublin:20280420T103000
DTEND;TZID=Europe/Dublin:20280420T130000
DTSTAMP:20260424T043445
CREATED:20250822T154401Z
LAST-MODIFIED:20251028T085401Z
UID:10002751-1839839400-1839848400@charlestown.ie
SUMMARY:Yarn Tales - Knit\, Crochet & Embroidery
DESCRIPTION:
URL:https://charlestown.ie/event/yarn-tales-knit-crochet-embroidery/2028-04-20/
LOCATION:Pastoral Centre\, Lowpark\, Charlestown\, Mayo\, Ireland
ATTACH;FMTTYPE=image/jpeg:https://charlestown.ie/wp-content/uploads/2025/08/Screenshot_20250901_212637_Gmail.jpg
END:VEVENT
BEGIN:VEVENT
DTSTART;TZID=Europe/Dublin:20280427T103000
DTEND;TZID=Europe/Dublin:20280427T130000
DTSTAMP:20260424T043445
CREATED:20250822T154401Z
LAST-MODIFIED:20251028T085401Z
UID:10002752-1840444200-1840453200@charlestown.ie
SUMMARY:Yarn Tales - Knit\, Crochet & Embroidery
DESCRIPTION:
URL:https://charlestown.ie/event/yarn-tales-knit-crochet-embroidery/2028-04-27/
LOCATION:Pastoral Centre\, Lowpark\, Charlestown\, Mayo\, Ireland
ATTACH;FMTTYPE=image/jpeg:https://charlestown.ie/wp-content/uploads/2025/08/Screenshot_20250901_212637_Gmail.jpg
END:VEVENT
BEGIN:VEVENT
DTSTART;TZID=Europe/Dublin:20280504T103000
DTEND;TZID=Europe/Dublin:20280504T130000
DTSTAMP:20260424T043445
CREATED:20250822T154401Z
LAST-MODIFIED:20251028T085401Z
UID:10002753-1841049000-1841058000@charlestown.ie
SUMMARY:Yarn Tales - Knit\, Crochet & Embroidery
DESCRIPTION:
URL:https://charlestown.ie/event/yarn-tales-knit-crochet-embroidery/2028-05-04/
LOCATION:Pastoral Centre\, Lowpark\, Charlestown\, Mayo\, Ireland
ATTACH;FMTTYPE=image/jpeg:https://charlestown.ie/wp-content/uploads/2025/08/Screenshot_20250901_212637_Gmail.jpg
END:VEVENT
BEGIN:VEVENT
DTSTART;TZID=Europe/Dublin:20280511T103000
DTEND;TZID=Europe/Dublin:20280511T130000
DTSTAMP:20260424T043445
CREATED:20250822T154401Z
LAST-MODIFIED:20251028T085401Z
UID:10002754-1841653800-1841662800@charlestown.ie
SUMMARY:Yarn Tales - Knit\, Crochet & Embroidery
DESCRIPTION:
URL:https://charlestown.ie/event/yarn-tales-knit-crochet-embroidery/2028-05-11/
LOCATION:Pastoral Centre\, Lowpark\, Charlestown\, Mayo\, Ireland
ATTACH;FMTTYPE=image/jpeg:https://charlestown.ie/wp-content/uploads/2025/08/Screenshot_20250901_212637_Gmail.jpg
END:VEVENT
BEGIN:VEVENT
DTSTART;TZID=Europe/Dublin:20280518T103000
DTEND;TZID=Europe/Dublin:20280518T130000
DTSTAMP:20260424T043445
CREATED:20250822T154401Z
LAST-MODIFIED:20251028T085401Z
UID:10002755-1842258600-1842267600@charlestown.ie
SUMMARY:Yarn Tales - Knit\, Crochet & Embroidery
DESCRIPTION:
URL:https://charlestown.ie/event/yarn-tales-knit-crochet-embroidery/2028-05-18/
LOCATION:Pastoral Centre\, Lowpark\, Charlestown\, Mayo\, Ireland
ATTACH;FMTTYPE=image/jpeg:https://charlestown.ie/wp-content/uploads/2025/08/Screenshot_20250901_212637_Gmail.jpg
END:VEVENT
BEGIN:VEVENT
DTSTART;TZID=Europe/Dublin:20280525T103000
DTEND;TZID=Europe/Dublin:20280525T130000
DTSTAMP:20260424T043445
CREATED:20250822T154401Z
LAST-MODIFIED:20251028T085401Z
UID:10002756-1842863400-1842872400@charlestown.ie
SUMMARY:Yarn Tales - Knit\, Crochet & Embroidery
DESCRIPTION:
URL:https://charlestown.ie/event/yarn-tales-knit-crochet-embroidery/2028-05-25/
LOCATION:Pastoral Centre\, Lowpark\, Charlestown\, Mayo\, Ireland
ATTACH;FMTTYPE=image/jpeg:https://charlestown.ie/wp-content/uploads/2025/08/Screenshot_20250901_212637_Gmail.jpg
END:VEVENT
BEGIN:VEVENT
DTSTART;TZID=Europe/Dublin:20280601T103000
DTEND;TZID=Europe/Dublin:20280601T130000
DTSTAMP:20260424T043445
CREATED:20250822T154401Z
LAST-MODIFIED:20251028T085401Z
UID:10002757-1843468200-1843477200@charlestown.ie
SUMMARY:Yarn Tales - Knit\, Crochet & Embroidery
DESCRIPTION:
URL:https://charlestown.ie/event/yarn-tales-knit-crochet-embroidery/2028-06-01/
LOCATION:Pastoral Centre\, Lowpark\, Charlestown\, Mayo\, Ireland
ATTACH;FMTTYPE=image/jpeg:https://charlestown.ie/wp-content/uploads/2025/08/Screenshot_20250901_212637_Gmail.jpg
END:VEVENT
END:VCALENDAR