BEGIN:VCALENDAR
VERSION:2.0
PRODID:-//Charlestown - ECPv6.6.4.2//NONSGML v1.0//EN
CALSCALE:GREGORIAN
METHOD:PUBLISH
X-WR-CALNAME:Charlestown
X-ORIGINAL-URL:https://charlestown.ie
X-WR-CALDESC:Events for Charlestown
REFRESH-INTERVAL;VALUE=DURATION:PT1H
X-Robots-Tag:noindex
X-PUBLISHED-TTL:PT1H
BEGIN:VTIMEZONE
TZID:Europe/Dublin
BEGIN:DAYLIGHT
TZOFFSETFROM:+0000
TZOFFSETTO:+0100
TZNAME:IST
DTSTART:20260329T010000
END:DAYLIGHT
BEGIN:STANDARD
TZOFFSETFROM:+0100
TZOFFSETTO:+0000
TZNAME:GMT
DTSTART:20261025T010000
END:STANDARD
BEGIN:DAYLIGHT
TZOFFSETFROM:+0000
TZOFFSETTO:+0100
TZNAME:IST
DTSTART:20270328T010000
END:DAYLIGHT
BEGIN:STANDARD
TZOFFSETFROM:+0100
TZOFFSETTO:+0000
TZNAME:GMT
DTSTART:20271031T010000
END:STANDARD
END:VTIMEZONE
BEGIN:VEVENT
DTSTART;TZID=Europe/Dublin:20260917T103000
DTEND;TZID=Europe/Dublin:20260917T130000
DTSTAMP:20260423T194753
CREATED:20250822T154401Z
LAST-MODIFIED:20251028T085401Z
UID:10002668-1789641000-1789650000@charlestown.ie
SUMMARY:Yarn Tales - Knit\, Crochet & Embroidery
DESCRIPTION:
URL:https://charlestown.ie/event/yarn-tales-knit-crochet-embroidery/2026-09-17/
LOCATION:Pastoral Centre\, Lowpark\, Charlestown\, Mayo\, Ireland
ATTACH;FMTTYPE=image/jpeg:https://charlestown.ie/wp-content/uploads/2025/08/Screenshot_20250901_212637_Gmail.jpg
END:VEVENT
BEGIN:VEVENT
DTSTART;TZID=Europe/Dublin:20260924T103000
DTEND;TZID=Europe/Dublin:20260924T130000
DTSTAMP:20260423T194753
CREATED:20250822T154401Z
LAST-MODIFIED:20251028T085401Z
UID:10002669-1790245800-1790254800@charlestown.ie
SUMMARY:Yarn Tales - Knit\, Crochet & Embroidery
DESCRIPTION:
URL:https://charlestown.ie/event/yarn-tales-knit-crochet-embroidery/2026-09-24/
LOCATION:Pastoral Centre\, Lowpark\, Charlestown\, Mayo\, Ireland
ATTACH;FMTTYPE=image/jpeg:https://charlestown.ie/wp-content/uploads/2025/08/Screenshot_20250901_212637_Gmail.jpg
END:VEVENT
BEGIN:VEVENT
DTSTART;TZID=Europe/Dublin:20261001T103000
DTEND;TZID=Europe/Dublin:20261001T130000
DTSTAMP:20260423T194753
CREATED:20250822T154401Z
LAST-MODIFIED:20251028T085401Z
UID:10002670-1790850600-1790859600@charlestown.ie
SUMMARY:Yarn Tales - Knit\, Crochet & Embroidery
DESCRIPTION:
URL:https://charlestown.ie/event/yarn-tales-knit-crochet-embroidery/2026-10-01/
LOCATION:Pastoral Centre\, Lowpark\, Charlestown\, Mayo\, Ireland
ATTACH;FMTTYPE=image/jpeg:https://charlestown.ie/wp-content/uploads/2025/08/Screenshot_20250901_212637_Gmail.jpg
END:VEVENT
BEGIN:VEVENT
DTSTART;TZID=Europe/Dublin:20261008T103000
DTEND;TZID=Europe/Dublin:20261008T130000
DTSTAMP:20260423T194753
CREATED:20250822T154401Z
LAST-MODIFIED:20251028T085401Z
UID:10002671-1791455400-1791464400@charlestown.ie
SUMMARY:Yarn Tales - Knit\, Crochet & Embroidery
DESCRIPTION:
URL:https://charlestown.ie/event/yarn-tales-knit-crochet-embroidery/2026-10-08/
LOCATION:Pastoral Centre\, Lowpark\, Charlestown\, Mayo\, Ireland
ATTACH;FMTTYPE=image/jpeg:https://charlestown.ie/wp-content/uploads/2025/08/Screenshot_20250901_212637_Gmail.jpg
END:VEVENT
BEGIN:VEVENT
DTSTART;TZID=Europe/Dublin:20261015T103000
DTEND;TZID=Europe/Dublin:20261015T130000
DTSTAMP:20260423T194753
CREATED:20250822T154401Z
LAST-MODIFIED:20251028T085401Z
UID:10002672-1792060200-1792069200@charlestown.ie
SUMMARY:Yarn Tales - Knit\, Crochet & Embroidery
DESCRIPTION:
URL:https://charlestown.ie/event/yarn-tales-knit-crochet-embroidery/2026-10-15/
LOCATION:Pastoral Centre\, Lowpark\, Charlestown\, Mayo\, Ireland
ATTACH;FMTTYPE=image/jpeg:https://charlestown.ie/wp-content/uploads/2025/08/Screenshot_20250901_212637_Gmail.jpg
END:VEVENT
BEGIN:VEVENT
DTSTART;TZID=Europe/Dublin:20261022T103000
DTEND;TZID=Europe/Dublin:20261022T130000
DTSTAMP:20260423T194753
CREATED:20250822T154401Z
LAST-MODIFIED:20251028T085401Z
UID:10002673-1792665000-1792674000@charlestown.ie
SUMMARY:Yarn Tales - Knit\, Crochet & Embroidery
DESCRIPTION:
URL:https://charlestown.ie/event/yarn-tales-knit-crochet-embroidery/2026-10-22/
LOCATION:Pastoral Centre\, Lowpark\, Charlestown\, Mayo\, Ireland
ATTACH;FMTTYPE=image/jpeg:https://charlestown.ie/wp-content/uploads/2025/08/Screenshot_20250901_212637_Gmail.jpg
END:VEVENT
BEGIN:VEVENT
DTSTART;TZID=Europe/Dublin:20261029T103000
DTEND;TZID=Europe/Dublin:20261029T130000
DTSTAMP:20260423T194753
CREATED:20250822T154401Z
LAST-MODIFIED:20251028T085401Z
UID:10002674-1793269800-1793278800@charlestown.ie
SUMMARY:Yarn Tales - Knit\, Crochet & Embroidery
DESCRIPTION:
URL:https://charlestown.ie/event/yarn-tales-knit-crochet-embroidery/2026-10-29/
LOCATION:Pastoral Centre\, Lowpark\, Charlestown\, Mayo\, Ireland
ATTACH;FMTTYPE=image/jpeg:https://charlestown.ie/wp-content/uploads/2025/08/Screenshot_20250901_212637_Gmail.jpg
END:VEVENT
BEGIN:VEVENT
DTSTART;TZID=Europe/Dublin:20261105T103000
DTEND;TZID=Europe/Dublin:20261105T130000
DTSTAMP:20260423T194753
CREATED:20250822T154401Z
LAST-MODIFIED:20251028T085401Z
UID:10002675-1793874600-1793883600@charlestown.ie
SUMMARY:Yarn Tales - Knit\, Crochet & Embroidery
DESCRIPTION:
URL:https://charlestown.ie/event/yarn-tales-knit-crochet-embroidery/2026-11-05/
LOCATION:Pastoral Centre\, Lowpark\, Charlestown\, Mayo\, Ireland
ATTACH;FMTTYPE=image/jpeg:https://charlestown.ie/wp-content/uploads/2025/08/Screenshot_20250901_212637_Gmail.jpg
END:VEVENT
BEGIN:VEVENT
DTSTART;TZID=Europe/Dublin:20261112T103000
DTEND;TZID=Europe/Dublin:20261112T130000
DTSTAMP:20260423T194753
CREATED:20250822T154401Z
LAST-MODIFIED:20251028T085401Z
UID:10002676-1794479400-1794488400@charlestown.ie
SUMMARY:Yarn Tales - Knit\, Crochet & Embroidery
DESCRIPTION:
URL:https://charlestown.ie/event/yarn-tales-knit-crochet-embroidery/2026-11-12/
LOCATION:Pastoral Centre\, Lowpark\, Charlestown\, Mayo\, Ireland
ATTACH;FMTTYPE=image/jpeg:https://charlestown.ie/wp-content/uploads/2025/08/Screenshot_20250901_212637_Gmail.jpg
END:VEVENT
BEGIN:VEVENT
DTSTART;TZID=Europe/Dublin:20261119T103000
DTEND;TZID=Europe/Dublin:20261119T130000
DTSTAMP:20260423T194754
CREATED:20250822T154401Z
LAST-MODIFIED:20251028T085401Z
UID:10002677-1795084200-1795093200@charlestown.ie
SUMMARY:Yarn Tales - Knit\, Crochet & Embroidery
DESCRIPTION:
URL:https://charlestown.ie/event/yarn-tales-knit-crochet-embroidery/2026-11-19/
LOCATION:Pastoral Centre\, Lowpark\, Charlestown\, Mayo\, Ireland
ATTACH;FMTTYPE=image/jpeg:https://charlestown.ie/wp-content/uploads/2025/08/Screenshot_20250901_212637_Gmail.jpg
END:VEVENT
BEGIN:VEVENT
DTSTART;TZID=Europe/Dublin:20261126T103000
DTEND;TZID=Europe/Dublin:20261126T130000
DTSTAMP:20260423T194754
CREATED:20250822T154401Z
LAST-MODIFIED:20251028T085401Z
UID:10002678-1795689000-1795698000@charlestown.ie
SUMMARY:Yarn Tales - Knit\, Crochet & Embroidery
DESCRIPTION:
URL:https://charlestown.ie/event/yarn-tales-knit-crochet-embroidery/2026-11-26/
LOCATION:Pastoral Centre\, Lowpark\, Charlestown\, Mayo\, Ireland
ATTACH;FMTTYPE=image/jpeg:https://charlestown.ie/wp-content/uploads/2025/08/Screenshot_20250901_212637_Gmail.jpg
END:VEVENT
BEGIN:VEVENT
DTSTART;TZID=Europe/Dublin:20261203T103000
DTEND;TZID=Europe/Dublin:20261203T130000
DTSTAMP:20260423T194754
CREATED:20250822T154401Z
LAST-MODIFIED:20251028T085401Z
UID:10002679-1796293800-1796302800@charlestown.ie
SUMMARY:Yarn Tales - Knit\, Crochet & Embroidery
DESCRIPTION:
URL:https://charlestown.ie/event/yarn-tales-knit-crochet-embroidery/2026-12-03/
LOCATION:Pastoral Centre\, Lowpark\, Charlestown\, Mayo\, Ireland
ATTACH;FMTTYPE=image/jpeg:https://charlestown.ie/wp-content/uploads/2025/08/Screenshot_20250901_212637_Gmail.jpg
END:VEVENT
BEGIN:VEVENT
DTSTART;TZID=Europe/Dublin:20261210T103000
DTEND;TZID=Europe/Dublin:20261210T130000
DTSTAMP:20260423T194754
CREATED:20250822T154401Z
LAST-MODIFIED:20251028T085401Z
UID:10002680-1796898600-1796907600@charlestown.ie
SUMMARY:Yarn Tales - Knit\, Crochet & Embroidery
DESCRIPTION:
URL:https://charlestown.ie/event/yarn-tales-knit-crochet-embroidery/2026-12-10/
LOCATION:Pastoral Centre\, Lowpark\, Charlestown\, Mayo\, Ireland
ATTACH;FMTTYPE=image/jpeg:https://charlestown.ie/wp-content/uploads/2025/08/Screenshot_20250901_212637_Gmail.jpg
END:VEVENT
BEGIN:VEVENT
DTSTART;TZID=Europe/Dublin:20261217T103000
DTEND;TZID=Europe/Dublin:20261217T130000
DTSTAMP:20260423T194754
CREATED:20250822T154401Z
LAST-MODIFIED:20251028T085401Z
UID:10002681-1797503400-1797512400@charlestown.ie
SUMMARY:Yarn Tales - Knit\, Crochet & Embroidery
DESCRIPTION:
URL:https://charlestown.ie/event/yarn-tales-knit-crochet-embroidery/2026-12-17/
LOCATION:Pastoral Centre\, Lowpark\, Charlestown\, Mayo\, Ireland
ATTACH;FMTTYPE=image/jpeg:https://charlestown.ie/wp-content/uploads/2025/08/Screenshot_20250901_212637_Gmail.jpg
END:VEVENT
BEGIN:VEVENT
DTSTART;TZID=Europe/Dublin:20261224T103000
DTEND;TZID=Europe/Dublin:20261224T130000
DTSTAMP:20260423T194754
CREATED:20250822T154401Z
LAST-MODIFIED:20251028T085401Z
UID:10002682-1798108200-1798117200@charlestown.ie
SUMMARY:Yarn Tales - Knit\, Crochet & Embroidery
DESCRIPTION:
URL:https://charlestown.ie/event/yarn-tales-knit-crochet-embroidery/2026-12-24/
LOCATION:Pastoral Centre\, Lowpark\, Charlestown\, Mayo\, Ireland
ATTACH;FMTTYPE=image/jpeg:https://charlestown.ie/wp-content/uploads/2025/08/Screenshot_20250901_212637_Gmail.jpg
END:VEVENT
BEGIN:VEVENT
DTSTART;TZID=Europe/Dublin:20261231T103000
DTEND;TZID=Europe/Dublin:20261231T130000
DTSTAMP:20260423T194754
CREATED:20250822T154401Z
LAST-MODIFIED:20251028T085401Z
UID:10002683-1798713000-1798722000@charlestown.ie
SUMMARY:Yarn Tales - Knit\, Crochet & Embroidery
DESCRIPTION:
URL:https://charlestown.ie/event/yarn-tales-knit-crochet-embroidery/2026-12-31/
LOCATION:Pastoral Centre\, Lowpark\, Charlestown\, Mayo\, Ireland
ATTACH;FMTTYPE=image/jpeg:https://charlestown.ie/wp-content/uploads/2025/08/Screenshot_20250901_212637_Gmail.jpg
END:VEVENT
BEGIN:VEVENT
DTSTART;TZID=Europe/Dublin:20270107T103000
DTEND;TZID=Europe/Dublin:20270107T130000
DTSTAMP:20260423T194754
CREATED:20250822T154401Z
LAST-MODIFIED:20251028T085401Z
UID:10002684-1799317800-1799326800@charlestown.ie
SUMMARY:Yarn Tales - Knit\, Crochet & Embroidery
DESCRIPTION:
URL:https://charlestown.ie/event/yarn-tales-knit-crochet-embroidery/2027-01-07/
LOCATION:Pastoral Centre\, Lowpark\, Charlestown\, Mayo\, Ireland
ATTACH;FMTTYPE=image/jpeg:https://charlestown.ie/wp-content/uploads/2025/08/Screenshot_20250901_212637_Gmail.jpg
END:VEVENT
BEGIN:VEVENT
DTSTART;TZID=Europe/Dublin:20270114T103000
DTEND;TZID=Europe/Dublin:20270114T130000
DTSTAMP:20260423T194754
CREATED:20250822T154401Z
LAST-MODIFIED:20251028T085401Z
UID:10002685-1799922600-1799931600@charlestown.ie
SUMMARY:Yarn Tales - Knit\, Crochet & Embroidery
DESCRIPTION:
URL:https://charlestown.ie/event/yarn-tales-knit-crochet-embroidery/2027-01-14/
LOCATION:Pastoral Centre\, Lowpark\, Charlestown\, Mayo\, Ireland
ATTACH;FMTTYPE=image/jpeg:https://charlestown.ie/wp-content/uploads/2025/08/Screenshot_20250901_212637_Gmail.jpg
END:VEVENT
BEGIN:VEVENT
DTSTART;TZID=Europe/Dublin:20270121T103000
DTEND;TZID=Europe/Dublin:20270121T130000
DTSTAMP:20260423T194754
CREATED:20250822T154401Z
LAST-MODIFIED:20251028T085401Z
UID:10002686-1800527400-1800536400@charlestown.ie
SUMMARY:Yarn Tales - Knit\, Crochet & Embroidery
DESCRIPTION:
URL:https://charlestown.ie/event/yarn-tales-knit-crochet-embroidery/2027-01-21/
LOCATION:Pastoral Centre\, Lowpark\, Charlestown\, Mayo\, Ireland
ATTACH;FMTTYPE=image/jpeg:https://charlestown.ie/wp-content/uploads/2025/08/Screenshot_20250901_212637_Gmail.jpg
END:VEVENT
BEGIN:VEVENT
DTSTART;TZID=Europe/Dublin:20270128T103000
DTEND;TZID=Europe/Dublin:20270128T130000
DTSTAMP:20260423T194754
CREATED:20250822T154401Z
LAST-MODIFIED:20251028T085401Z
UID:10002687-1801132200-1801141200@charlestown.ie
SUMMARY:Yarn Tales - Knit\, Crochet & Embroidery
DESCRIPTION:
URL:https://charlestown.ie/event/yarn-tales-knit-crochet-embroidery/2027-01-28/
LOCATION:Pastoral Centre\, Lowpark\, Charlestown\, Mayo\, Ireland
ATTACH;FMTTYPE=image/jpeg:https://charlestown.ie/wp-content/uploads/2025/08/Screenshot_20250901_212637_Gmail.jpg
END:VEVENT
BEGIN:VEVENT
DTSTART;TZID=Europe/Dublin:20270204T103000
DTEND;TZID=Europe/Dublin:20270204T130000
DTSTAMP:20260423T194754
CREATED:20250822T154401Z
LAST-MODIFIED:20251028T085401Z
UID:10002688-1801737000-1801746000@charlestown.ie
SUMMARY:Yarn Tales - Knit\, Crochet & Embroidery
DESCRIPTION:
URL:https://charlestown.ie/event/yarn-tales-knit-crochet-embroidery/2027-02-04/
LOCATION:Pastoral Centre\, Lowpark\, Charlestown\, Mayo\, Ireland
ATTACH;FMTTYPE=image/jpeg:https://charlestown.ie/wp-content/uploads/2025/08/Screenshot_20250901_212637_Gmail.jpg
END:VEVENT
BEGIN:VEVENT
DTSTART;TZID=Europe/Dublin:20270211T103000
DTEND;TZID=Europe/Dublin:20270211T130000
DTSTAMP:20260423T194754
CREATED:20250822T154401Z
LAST-MODIFIED:20251028T085401Z
UID:10002689-1802341800-1802350800@charlestown.ie
SUMMARY:Yarn Tales - Knit\, Crochet & Embroidery
DESCRIPTION:
URL:https://charlestown.ie/event/yarn-tales-knit-crochet-embroidery/2027-02-11/
LOCATION:Pastoral Centre\, Lowpark\, Charlestown\, Mayo\, Ireland
ATTACH;FMTTYPE=image/jpeg:https://charlestown.ie/wp-content/uploads/2025/08/Screenshot_20250901_212637_Gmail.jpg
END:VEVENT
BEGIN:VEVENT
DTSTART;TZID=Europe/Dublin:20270218T103000
DTEND;TZID=Europe/Dublin:20270218T130000
DTSTAMP:20260423T194754
CREATED:20250822T154401Z
LAST-MODIFIED:20251028T085401Z
UID:10002690-1802946600-1802955600@charlestown.ie
SUMMARY:Yarn Tales - Knit\, Crochet & Embroidery
DESCRIPTION:
URL:https://charlestown.ie/event/yarn-tales-knit-crochet-embroidery/2027-02-18/
LOCATION:Pastoral Centre\, Lowpark\, Charlestown\, Mayo\, Ireland
ATTACH;FMTTYPE=image/jpeg:https://charlestown.ie/wp-content/uploads/2025/08/Screenshot_20250901_212637_Gmail.jpg
END:VEVENT
BEGIN:VEVENT
DTSTART;TZID=Europe/Dublin:20270225T103000
DTEND;TZID=Europe/Dublin:20270225T130000
DTSTAMP:20260423T194754
CREATED:20250822T154401Z
LAST-MODIFIED:20251028T085401Z
UID:10002691-1803551400-1803560400@charlestown.ie
SUMMARY:Yarn Tales - Knit\, Crochet & Embroidery
DESCRIPTION:
URL:https://charlestown.ie/event/yarn-tales-knit-crochet-embroidery/2027-02-25/
LOCATION:Pastoral Centre\, Lowpark\, Charlestown\, Mayo\, Ireland
ATTACH;FMTTYPE=image/jpeg:https://charlestown.ie/wp-content/uploads/2025/08/Screenshot_20250901_212637_Gmail.jpg
END:VEVENT
BEGIN:VEVENT
DTSTART;TZID=Europe/Dublin:20270304T103000
DTEND;TZID=Europe/Dublin:20270304T130000
DTSTAMP:20260423T194754
CREATED:20250822T154401Z
LAST-MODIFIED:20251028T085401Z
UID:10002692-1804156200-1804165200@charlestown.ie
SUMMARY:Yarn Tales - Knit\, Crochet & Embroidery
DESCRIPTION:
URL:https://charlestown.ie/event/yarn-tales-knit-crochet-embroidery/2027-03-04/
LOCATION:Pastoral Centre\, Lowpark\, Charlestown\, Mayo\, Ireland
ATTACH;FMTTYPE=image/jpeg:https://charlestown.ie/wp-content/uploads/2025/08/Screenshot_20250901_212637_Gmail.jpg
END:VEVENT
BEGIN:VEVENT
DTSTART;TZID=Europe/Dublin:20270311T103000
DTEND;TZID=Europe/Dublin:20270311T130000
DTSTAMP:20260423T194754
CREATED:20250822T154401Z
LAST-MODIFIED:20251028T085401Z
UID:10002693-1804761000-1804770000@charlestown.ie
SUMMARY:Yarn Tales - Knit\, Crochet & Embroidery
DESCRIPTION:
URL:https://charlestown.ie/event/yarn-tales-knit-crochet-embroidery/2027-03-11/
LOCATION:Pastoral Centre\, Lowpark\, Charlestown\, Mayo\, Ireland
ATTACH;FMTTYPE=image/jpeg:https://charlestown.ie/wp-content/uploads/2025/08/Screenshot_20250901_212637_Gmail.jpg
END:VEVENT
BEGIN:VEVENT
DTSTART;TZID=Europe/Dublin:20270318T103000
DTEND;TZID=Europe/Dublin:20270318T130000
DTSTAMP:20260423T194754
CREATED:20250822T154401Z
LAST-MODIFIED:20251028T085401Z
UID:10002694-1805365800-1805374800@charlestown.ie
SUMMARY:Yarn Tales - Knit\, Crochet & Embroidery
DESCRIPTION:
URL:https://charlestown.ie/event/yarn-tales-knit-crochet-embroidery/2027-03-18/
LOCATION:Pastoral Centre\, Lowpark\, Charlestown\, Mayo\, Ireland
ATTACH;FMTTYPE=image/jpeg:https://charlestown.ie/wp-content/uploads/2025/08/Screenshot_20250901_212637_Gmail.jpg
END:VEVENT
BEGIN:VEVENT
DTSTART;TZID=Europe/Dublin:20270325T103000
DTEND;TZID=Europe/Dublin:20270325T130000
DTSTAMP:20260423T194754
CREATED:20250822T154401Z
LAST-MODIFIED:20251028T085401Z
UID:10002695-1805970600-1805979600@charlestown.ie
SUMMARY:Yarn Tales - Knit\, Crochet & Embroidery
DESCRIPTION:
URL:https://charlestown.ie/event/yarn-tales-knit-crochet-embroidery/2027-03-25/
LOCATION:Pastoral Centre\, Lowpark\, Charlestown\, Mayo\, Ireland
ATTACH;FMTTYPE=image/jpeg:https://charlestown.ie/wp-content/uploads/2025/08/Screenshot_20250901_212637_Gmail.jpg
END:VEVENT
BEGIN:VEVENT
DTSTART;TZID=Europe/Dublin:20270401T103000
DTEND;TZID=Europe/Dublin:20270401T130000
DTSTAMP:20260423T194754
CREATED:20250822T154401Z
LAST-MODIFIED:20251028T085401Z
UID:10002696-1806575400-1806584400@charlestown.ie
SUMMARY:Yarn Tales - Knit\, Crochet & Embroidery
DESCRIPTION:
URL:https://charlestown.ie/event/yarn-tales-knit-crochet-embroidery/2027-04-01/
LOCATION:Pastoral Centre\, Lowpark\, Charlestown\, Mayo\, Ireland
ATTACH;FMTTYPE=image/jpeg:https://charlestown.ie/wp-content/uploads/2025/08/Screenshot_20250901_212637_Gmail.jpg
END:VEVENT
BEGIN:VEVENT
DTSTART;TZID=Europe/Dublin:20270408T103000
DTEND;TZID=Europe/Dublin:20270408T130000
DTSTAMP:20260423T194754
CREATED:20250822T154401Z
LAST-MODIFIED:20251028T085401Z
UID:10002697-1807180200-1807189200@charlestown.ie
SUMMARY:Yarn Tales - Knit\, Crochet & Embroidery
DESCRIPTION:
URL:https://charlestown.ie/event/yarn-tales-knit-crochet-embroidery/2027-04-08/
LOCATION:Pastoral Centre\, Lowpark\, Charlestown\, Mayo\, Ireland
ATTACH;FMTTYPE=image/jpeg:https://charlestown.ie/wp-content/uploads/2025/08/Screenshot_20250901_212637_Gmail.jpg
END:VEVENT
END:VCALENDAR