BEGIN:VCALENDAR
VERSION:2.0
PRODID:-//Charlestown - ECPv6.6.4.2//NONSGML v1.0//EN
CALSCALE:GREGORIAN
METHOD:PUBLISH
X-ORIGINAL-URL:https://charlestown.ie
X-WR-CALDESC:Events for Charlestown
REFRESH-INTERVAL;VALUE=DURATION:PT1H
X-Robots-Tag:noindex
X-PUBLISHED-TTL:PT1H
BEGIN:VTIMEZONE
TZID:Europe/Dublin
BEGIN:DAYLIGHT
TZOFFSETFROM:+0000
TZOFFSETTO:+0100
TZNAME:IST
DTSTART:20300331T010000
END:DAYLIGHT
BEGIN:STANDARD
TZOFFSETFROM:+0100
TZOFFSETTO:+0000
TZNAME:GMT
DTSTART:20301027T010000
END:STANDARD
END:VTIMEZONE
BEGIN:VEVENT
DTSTART;TZID=Europe/Dublin:20300718T103000
DTEND;TZID=Europe/Dublin:20300718T130000
DTSTAMP:20260424T230457
CREATED:20250822T154401Z
LAST-MODIFIED:20251028T085401Z
UID:10002868-1910601000-1910610000@charlestown.ie
SUMMARY:Yarn Tales - Knit\, Crochet & Embroidery
DESCRIPTION:
URL:https://charlestown.ie/event/yarn-tales-knit-crochet-embroidery/2030-07-18/
LOCATION:Pastoral Centre\, Lowpark\, Charlestown\, Mayo\, Ireland
ATTACH;FMTTYPE=image/jpeg:https://charlestown.ie/wp-content/uploads/2025/08/Screenshot_20250901_212637_Gmail.jpg
END:VEVENT
BEGIN:VEVENT
DTSTART;TZID=Europe/Dublin:20300725T103000
DTEND;TZID=Europe/Dublin:20300725T130000
DTSTAMP:20260424T230457
CREATED:20250822T154401Z
LAST-MODIFIED:20251028T085401Z
UID:10002869-1911205800-1911214800@charlestown.ie
SUMMARY:Yarn Tales - Knit\, Crochet & Embroidery
DESCRIPTION:
URL:https://charlestown.ie/event/yarn-tales-knit-crochet-embroidery/2030-07-25/
LOCATION:Pastoral Centre\, Lowpark\, Charlestown\, Mayo\, Ireland
ATTACH;FMTTYPE=image/jpeg:https://charlestown.ie/wp-content/uploads/2025/08/Screenshot_20250901_212637_Gmail.jpg
END:VEVENT
BEGIN:VEVENT
DTSTART;TZID=Europe/Dublin:20300801T103000
DTEND;TZID=Europe/Dublin:20300801T130000
DTSTAMP:20260424T230457
CREATED:20250822T154401Z
LAST-MODIFIED:20251028T085401Z
UID:10002870-1911810600-1911819600@charlestown.ie
SUMMARY:Yarn Tales - Knit\, Crochet & Embroidery
DESCRIPTION:
URL:https://charlestown.ie/event/yarn-tales-knit-crochet-embroidery/2030-08-01/
LOCATION:Pastoral Centre\, Lowpark\, Charlestown\, Mayo\, Ireland
ATTACH;FMTTYPE=image/jpeg:https://charlestown.ie/wp-content/uploads/2025/08/Screenshot_20250901_212637_Gmail.jpg
END:VEVENT
BEGIN:VEVENT
DTSTART;TZID=Europe/Dublin:20300808T103000
DTEND;TZID=Europe/Dublin:20300808T130000
DTSTAMP:20260424T230457
CREATED:20250822T154401Z
LAST-MODIFIED:20251028T085401Z
UID:10002871-1912415400-1912424400@charlestown.ie
SUMMARY:Yarn Tales - Knit\, Crochet & Embroidery
DESCRIPTION:
URL:https://charlestown.ie/event/yarn-tales-knit-crochet-embroidery/2030-08-08/
LOCATION:Pastoral Centre\, Lowpark\, Charlestown\, Mayo\, Ireland
ATTACH;FMTTYPE=image/jpeg:https://charlestown.ie/wp-content/uploads/2025/08/Screenshot_20250901_212637_Gmail.jpg
END:VEVENT
BEGIN:VEVENT
DTSTART;TZID=Europe/Dublin:20300815T103000
DTEND;TZID=Europe/Dublin:20300815T130000
DTSTAMP:20260424T230457
CREATED:20250822T154401Z
LAST-MODIFIED:20251028T085401Z
UID:10002872-1913020200-1913029200@charlestown.ie
SUMMARY:Yarn Tales - Knit\, Crochet & Embroidery
DESCRIPTION:
URL:https://charlestown.ie/event/yarn-tales-knit-crochet-embroidery/2030-08-15/
LOCATION:Pastoral Centre\, Lowpark\, Charlestown\, Mayo\, Ireland
ATTACH;FMTTYPE=image/jpeg:https://charlestown.ie/wp-content/uploads/2025/08/Screenshot_20250901_212637_Gmail.jpg
END:VEVENT
BEGIN:VEVENT
DTSTART;TZID=Europe/Dublin:20300822T103000
DTEND;TZID=Europe/Dublin:20300822T130000
DTSTAMP:20260424T230457
CREATED:20250822T154401Z
LAST-MODIFIED:20251028T085401Z
UID:10002873-1913625000-1913634000@charlestown.ie
SUMMARY:Yarn Tales - Knit\, Crochet & Embroidery
DESCRIPTION:
URL:https://charlestown.ie/event/yarn-tales-knit-crochet-embroidery/2030-08-22/
LOCATION:Pastoral Centre\, Lowpark\, Charlestown\, Mayo\, Ireland
ATTACH;FMTTYPE=image/jpeg:https://charlestown.ie/wp-content/uploads/2025/08/Screenshot_20250901_212637_Gmail.jpg
END:VEVENT
BEGIN:VEVENT
DTSTART;TZID=Europe/Dublin:20300829T103000
DTEND;TZID=Europe/Dublin:20300829T130000
DTSTAMP:20260424T230457
CREATED:20250822T154401Z
LAST-MODIFIED:20251028T085401Z
UID:10002883-1914229800-1914238800@charlestown.ie
SUMMARY:Yarn Tales - Knit\, Crochet & Embroidery
DESCRIPTION:
URL:https://charlestown.ie/event/yarn-tales-knit-crochet-embroidery/2030-08-29/
LOCATION:Pastoral Centre\, Lowpark\, Charlestown\, Mayo\, Ireland
ATTACH;FMTTYPE=image/jpeg:https://charlestown.ie/wp-content/uploads/2025/08/Screenshot_20250901_212637_Gmail.jpg
END:VEVENT
BEGIN:VEVENT
DTSTART;TZID=Europe/Dublin:20300905T103000
DTEND;TZID=Europe/Dublin:20300905T130000
DTSTAMP:20260424T230457
CREATED:20250822T154401Z
LAST-MODIFIED:20251028T085401Z
UID:10002974-1914834600-1914843600@charlestown.ie
SUMMARY:Yarn Tales - Knit\, Crochet & Embroidery
DESCRIPTION:
URL:https://charlestown.ie/event/yarn-tales-knit-crochet-embroidery/2030-09-05/
LOCATION:Pastoral Centre\, Lowpark\, Charlestown\, Mayo\, Ireland
ATTACH;FMTTYPE=image/jpeg:https://charlestown.ie/wp-content/uploads/2025/08/Screenshot_20250901_212637_Gmail.jpg
END:VEVENT
BEGIN:VEVENT
DTSTART;TZID=Europe/Dublin:20300912T103000
DTEND;TZID=Europe/Dublin:20300912T130000
DTSTAMP:20260424T230457
CREATED:20250822T154401Z
LAST-MODIFIED:20251028T085401Z
UID:10002975-1915439400-1915448400@charlestown.ie
SUMMARY:Yarn Tales - Knit\, Crochet & Embroidery
DESCRIPTION:
URL:https://charlestown.ie/event/yarn-tales-knit-crochet-embroidery/2030-09-12/
LOCATION:Pastoral Centre\, Lowpark\, Charlestown\, Mayo\, Ireland
ATTACH;FMTTYPE=image/jpeg:https://charlestown.ie/wp-content/uploads/2025/08/Screenshot_20250901_212637_Gmail.jpg
END:VEVENT
BEGIN:VEVENT
DTSTART;TZID=Europe/Dublin:20300919T103000
DTEND;TZID=Europe/Dublin:20300919T130000
DTSTAMP:20260424T230457
CREATED:20250822T154401Z
LAST-MODIFIED:20251028T085401Z
UID:10002976-1916044200-1916053200@charlestown.ie
SUMMARY:Yarn Tales - Knit\, Crochet & Embroidery
DESCRIPTION:
URL:https://charlestown.ie/event/yarn-tales-knit-crochet-embroidery/2030-09-19/
LOCATION:Pastoral Centre\, Lowpark\, Charlestown\, Mayo\, Ireland
ATTACH;FMTTYPE=image/jpeg:https://charlestown.ie/wp-content/uploads/2025/08/Screenshot_20250901_212637_Gmail.jpg
END:VEVENT
BEGIN:VEVENT
DTSTART;TZID=Europe/Dublin:20300926T103000
DTEND;TZID=Europe/Dublin:20300926T130000
DTSTAMP:20260424T230458
CREATED:20250822T154401Z
LAST-MODIFIED:20251028T085401Z
UID:10002977-1916649000-1916658000@charlestown.ie
SUMMARY:Yarn Tales - Knit\, Crochet & Embroidery
DESCRIPTION:
URL:https://charlestown.ie/event/yarn-tales-knit-crochet-embroidery/2030-09-26/
LOCATION:Pastoral Centre\, Lowpark\, Charlestown\, Mayo\, Ireland
ATTACH;FMTTYPE=image/jpeg:https://charlestown.ie/wp-content/uploads/2025/08/Screenshot_20250901_212637_Gmail.jpg
END:VEVENT
BEGIN:VEVENT
DTSTART;TZID=Europe/Dublin:20301003T103000
DTEND;TZID=Europe/Dublin:20301003T130000
DTSTAMP:20260424T230458
CREATED:20250822T154401Z
LAST-MODIFIED:20251028T085401Z
UID:10002978-1917253800-1917262800@charlestown.ie
SUMMARY:Yarn Tales - Knit\, Crochet & Embroidery
DESCRIPTION:
URL:https://charlestown.ie/event/yarn-tales-knit-crochet-embroidery/2030-10-03/
LOCATION:Pastoral Centre\, Lowpark\, Charlestown\, Mayo\, Ireland
ATTACH;FMTTYPE=image/jpeg:https://charlestown.ie/wp-content/uploads/2025/08/Screenshot_20250901_212637_Gmail.jpg
END:VEVENT
BEGIN:VEVENT
DTSTART;TZID=Europe/Dublin:20301010T103000
DTEND;TZID=Europe/Dublin:20301010T130000
DTSTAMP:20260424T230458
CREATED:20250822T154401Z
LAST-MODIFIED:20251028T085401Z
UID:10002979-1917858600-1917867600@charlestown.ie
SUMMARY:Yarn Tales - Knit\, Crochet & Embroidery
DESCRIPTION:
URL:https://charlestown.ie/event/yarn-tales-knit-crochet-embroidery/2030-10-10/
LOCATION:Pastoral Centre\, Lowpark\, Charlestown\, Mayo\, Ireland
ATTACH;FMTTYPE=image/jpeg:https://charlestown.ie/wp-content/uploads/2025/08/Screenshot_20250901_212637_Gmail.jpg
END:VEVENT
BEGIN:VEVENT
DTSTART;TZID=Europe/Dublin:20301017T103000
DTEND;TZID=Europe/Dublin:20301017T130000
DTSTAMP:20260424T230458
CREATED:20250822T154401Z
LAST-MODIFIED:20251028T085401Z
UID:10002980-1918463400-1918472400@charlestown.ie
SUMMARY:Yarn Tales - Knit\, Crochet & Embroidery
DESCRIPTION:
URL:https://charlestown.ie/event/yarn-tales-knit-crochet-embroidery/2030-10-17/
LOCATION:Pastoral Centre\, Lowpark\, Charlestown\, Mayo\, Ireland
ATTACH;FMTTYPE=image/jpeg:https://charlestown.ie/wp-content/uploads/2025/08/Screenshot_20250901_212637_Gmail.jpg
END:VEVENT
BEGIN:VEVENT
DTSTART;TZID=Europe/Dublin:20301024T103000
DTEND;TZID=Europe/Dublin:20301024T130000
DTSTAMP:20260424T230458
CREATED:20250822T154401Z
LAST-MODIFIED:20251028T085401Z
UID:10002981-1919068200-1919077200@charlestown.ie
SUMMARY:Yarn Tales - Knit\, Crochet & Embroidery
DESCRIPTION:
URL:https://charlestown.ie/event/yarn-tales-knit-crochet-embroidery/2030-10-24/
LOCATION:Pastoral Centre\, Lowpark\, Charlestown\, Mayo\, Ireland
ATTACH;FMTTYPE=image/jpeg:https://charlestown.ie/wp-content/uploads/2025/08/Screenshot_20250901_212637_Gmail.jpg
END:VEVENT
END:VCALENDAR