BEGIN:VCALENDAR
VERSION:2.0
PRODID:-//Charlestown - ECPv6.6.4.2//NONSGML v1.0//EN
CALSCALE:GREGORIAN
METHOD:PUBLISH
X-WR-CALNAME:Charlestown
X-ORIGINAL-URL:https://charlestown.ie
X-WR-CALDESC:Events for Charlestown
REFRESH-INTERVAL;VALUE=DURATION:PT1H
X-Robots-Tag:noindex
X-PUBLISHED-TTL:PT1H
BEGIN:VTIMEZONE
TZID:Europe/Dublin
BEGIN:DAYLIGHT
TZOFFSETFROM:+0000
TZOFFSETTO:+0100
TZNAME:IST
DTSTART:20290325T010000
END:DAYLIGHT
BEGIN:STANDARD
TZOFFSETFROM:+0100
TZOFFSETTO:+0000
TZNAME:GMT
DTSTART:20291028T010000
END:STANDARD
BEGIN:DAYLIGHT
TZOFFSETFROM:+0000
TZOFFSETTO:+0100
TZNAME:IST
DTSTART:20300331T010000
END:DAYLIGHT
BEGIN:STANDARD
TZOFFSETFROM:+0100
TZOFFSETTO:+0000
TZNAME:GMT
DTSTART:20301027T010000
END:STANDARD
END:VTIMEZONE
BEGIN:VEVENT
DTSTART;TZID=Europe/Dublin:20291011T103000
DTEND;TZID=Europe/Dublin:20291011T130000
DTSTAMP:20260424T180951
CREATED:20250822T154401Z
LAST-MODIFIED:20251028T085401Z
UID:10002828-1886409000-1886418000@charlestown.ie
SUMMARY:Yarn Tales - Knit\, Crochet & Embroidery
DESCRIPTION:
URL:https://charlestown.ie/event/yarn-tales-knit-crochet-embroidery/2029-10-11/
LOCATION:Pastoral Centre\, Lowpark\, Charlestown\, Mayo\, Ireland
ATTACH;FMTTYPE=image/jpeg:https://charlestown.ie/wp-content/uploads/2025/08/Screenshot_20250901_212637_Gmail.jpg
END:VEVENT
BEGIN:VEVENT
DTSTART;TZID=Europe/Dublin:20291018T103000
DTEND;TZID=Europe/Dublin:20291018T130000
DTSTAMP:20260424T180951
CREATED:20250822T154401Z
LAST-MODIFIED:20251028T085401Z
UID:10002829-1887013800-1887022800@charlestown.ie
SUMMARY:Yarn Tales - Knit\, Crochet & Embroidery
DESCRIPTION:
URL:https://charlestown.ie/event/yarn-tales-knit-crochet-embroidery/2029-10-18/
LOCATION:Pastoral Centre\, Lowpark\, Charlestown\, Mayo\, Ireland
ATTACH;FMTTYPE=image/jpeg:https://charlestown.ie/wp-content/uploads/2025/08/Screenshot_20250901_212637_Gmail.jpg
END:VEVENT
BEGIN:VEVENT
DTSTART;TZID=Europe/Dublin:20291025T103000
DTEND;TZID=Europe/Dublin:20291025T130000
DTSTAMP:20260424T180951
CREATED:20250822T154401Z
LAST-MODIFIED:20251028T085401Z
UID:10002830-1887618600-1887627600@charlestown.ie
SUMMARY:Yarn Tales - Knit\, Crochet & Embroidery
DESCRIPTION:
URL:https://charlestown.ie/event/yarn-tales-knit-crochet-embroidery/2029-10-25/
LOCATION:Pastoral Centre\, Lowpark\, Charlestown\, Mayo\, Ireland
ATTACH;FMTTYPE=image/jpeg:https://charlestown.ie/wp-content/uploads/2025/08/Screenshot_20250901_212637_Gmail.jpg
END:VEVENT
BEGIN:VEVENT
DTSTART;TZID=Europe/Dublin:20291101T103000
DTEND;TZID=Europe/Dublin:20291101T130000
DTSTAMP:20260424T180951
CREATED:20250822T154401Z
LAST-MODIFIED:20251028T085401Z
UID:10002831-1888223400-1888232400@charlestown.ie
SUMMARY:Yarn Tales - Knit\, Crochet & Embroidery
DESCRIPTION:
URL:https://charlestown.ie/event/yarn-tales-knit-crochet-embroidery/2029-11-01/
LOCATION:Pastoral Centre\, Lowpark\, Charlestown\, Mayo\, Ireland
ATTACH;FMTTYPE=image/jpeg:https://charlestown.ie/wp-content/uploads/2025/08/Screenshot_20250901_212637_Gmail.jpg
END:VEVENT
BEGIN:VEVENT
DTSTART;TZID=Europe/Dublin:20291108T103000
DTEND;TZID=Europe/Dublin:20291108T130000
DTSTAMP:20260424T180951
CREATED:20250822T154401Z
LAST-MODIFIED:20251028T085401Z
UID:10002832-1888828200-1888837200@charlestown.ie
SUMMARY:Yarn Tales - Knit\, Crochet & Embroidery
DESCRIPTION:
URL:https://charlestown.ie/event/yarn-tales-knit-crochet-embroidery/2029-11-08/
LOCATION:Pastoral Centre\, Lowpark\, Charlestown\, Mayo\, Ireland
ATTACH;FMTTYPE=image/jpeg:https://charlestown.ie/wp-content/uploads/2025/08/Screenshot_20250901_212637_Gmail.jpg
END:VEVENT
BEGIN:VEVENT
DTSTART;TZID=Europe/Dublin:20291115T103000
DTEND;TZID=Europe/Dublin:20291115T130000
DTSTAMP:20260424T180951
CREATED:20250822T154401Z
LAST-MODIFIED:20251028T085401Z
UID:10002833-1889433000-1889442000@charlestown.ie
SUMMARY:Yarn Tales - Knit\, Crochet & Embroidery
DESCRIPTION:
URL:https://charlestown.ie/event/yarn-tales-knit-crochet-embroidery/2029-11-15/
LOCATION:Pastoral Centre\, Lowpark\, Charlestown\, Mayo\, Ireland
ATTACH;FMTTYPE=image/jpeg:https://charlestown.ie/wp-content/uploads/2025/08/Screenshot_20250901_212637_Gmail.jpg
END:VEVENT
BEGIN:VEVENT
DTSTART;TZID=Europe/Dublin:20291122T103000
DTEND;TZID=Europe/Dublin:20291122T130000
DTSTAMP:20260424T180951
CREATED:20250822T154401Z
LAST-MODIFIED:20251028T085401Z
UID:10002834-1890037800-1890046800@charlestown.ie
SUMMARY:Yarn Tales - Knit\, Crochet & Embroidery
DESCRIPTION:
URL:https://charlestown.ie/event/yarn-tales-knit-crochet-embroidery/2029-11-22/
LOCATION:Pastoral Centre\, Lowpark\, Charlestown\, Mayo\, Ireland
ATTACH;FMTTYPE=image/jpeg:https://charlestown.ie/wp-content/uploads/2025/08/Screenshot_20250901_212637_Gmail.jpg
END:VEVENT
BEGIN:VEVENT
DTSTART;TZID=Europe/Dublin:20291129T103000
DTEND;TZID=Europe/Dublin:20291129T130000
DTSTAMP:20260424T180951
CREATED:20250822T154401Z
LAST-MODIFIED:20251028T085401Z
UID:10002835-1890642600-1890651600@charlestown.ie
SUMMARY:Yarn Tales - Knit\, Crochet & Embroidery
DESCRIPTION:
URL:https://charlestown.ie/event/yarn-tales-knit-crochet-embroidery/2029-11-29/
LOCATION:Pastoral Centre\, Lowpark\, Charlestown\, Mayo\, Ireland
ATTACH;FMTTYPE=image/jpeg:https://charlestown.ie/wp-content/uploads/2025/08/Screenshot_20250901_212637_Gmail.jpg
END:VEVENT
BEGIN:VEVENT
DTSTART;TZID=Europe/Dublin:20291206T103000
DTEND;TZID=Europe/Dublin:20291206T130000
DTSTAMP:20260424T180951
CREATED:20250822T154401Z
LAST-MODIFIED:20251028T085401Z
UID:10002836-1891247400-1891256400@charlestown.ie
SUMMARY:Yarn Tales - Knit\, Crochet & Embroidery
DESCRIPTION:
URL:https://charlestown.ie/event/yarn-tales-knit-crochet-embroidery/2029-12-06/
LOCATION:Pastoral Centre\, Lowpark\, Charlestown\, Mayo\, Ireland
ATTACH;FMTTYPE=image/jpeg:https://charlestown.ie/wp-content/uploads/2025/08/Screenshot_20250901_212637_Gmail.jpg
END:VEVENT
BEGIN:VEVENT
DTSTART;TZID=Europe/Dublin:20291213T103000
DTEND;TZID=Europe/Dublin:20291213T130000
DTSTAMP:20260424T180951
CREATED:20250822T154401Z
LAST-MODIFIED:20251028T085401Z
UID:10002837-1891852200-1891861200@charlestown.ie
SUMMARY:Yarn Tales - Knit\, Crochet & Embroidery
DESCRIPTION:
URL:https://charlestown.ie/event/yarn-tales-knit-crochet-embroidery/2029-12-13/
LOCATION:Pastoral Centre\, Lowpark\, Charlestown\, Mayo\, Ireland
ATTACH;FMTTYPE=image/jpeg:https://charlestown.ie/wp-content/uploads/2025/08/Screenshot_20250901_212637_Gmail.jpg
END:VEVENT
BEGIN:VEVENT
DTSTART;TZID=Europe/Dublin:20291220T103000
DTEND;TZID=Europe/Dublin:20291220T130000
DTSTAMP:20260424T180951
CREATED:20250822T154401Z
LAST-MODIFIED:20251028T085401Z
UID:10002838-1892457000-1892466000@charlestown.ie
SUMMARY:Yarn Tales - Knit\, Crochet & Embroidery
DESCRIPTION:
URL:https://charlestown.ie/event/yarn-tales-knit-crochet-embroidery/2029-12-20/
LOCATION:Pastoral Centre\, Lowpark\, Charlestown\, Mayo\, Ireland
ATTACH;FMTTYPE=image/jpeg:https://charlestown.ie/wp-content/uploads/2025/08/Screenshot_20250901_212637_Gmail.jpg
END:VEVENT
BEGIN:VEVENT
DTSTART;TZID=Europe/Dublin:20291227T103000
DTEND;TZID=Europe/Dublin:20291227T130000
DTSTAMP:20260424T180951
CREATED:20250822T154401Z
LAST-MODIFIED:20251028T085401Z
UID:10002839-1893061800-1893070800@charlestown.ie
SUMMARY:Yarn Tales - Knit\, Crochet & Embroidery
DESCRIPTION:
URL:https://charlestown.ie/event/yarn-tales-knit-crochet-embroidery/2029-12-27/
LOCATION:Pastoral Centre\, Lowpark\, Charlestown\, Mayo\, Ireland
ATTACH;FMTTYPE=image/jpeg:https://charlestown.ie/wp-content/uploads/2025/08/Screenshot_20250901_212637_Gmail.jpg
END:VEVENT
BEGIN:VEVENT
DTSTART;TZID=Europe/Dublin:20300103T103000
DTEND;TZID=Europe/Dublin:20300103T130000
DTSTAMP:20260424T180951
CREATED:20250822T154401Z
LAST-MODIFIED:20251028T085401Z
UID:10002840-1893666600-1893675600@charlestown.ie
SUMMARY:Yarn Tales - Knit\, Crochet & Embroidery
DESCRIPTION:
URL:https://charlestown.ie/event/yarn-tales-knit-crochet-embroidery/2030-01-03/
LOCATION:Pastoral Centre\, Lowpark\, Charlestown\, Mayo\, Ireland
ATTACH;FMTTYPE=image/jpeg:https://charlestown.ie/wp-content/uploads/2025/08/Screenshot_20250901_212637_Gmail.jpg
END:VEVENT
BEGIN:VEVENT
DTSTART;TZID=Europe/Dublin:20300110T103000
DTEND;TZID=Europe/Dublin:20300110T130000
DTSTAMP:20260424T180951
CREATED:20250822T154401Z
LAST-MODIFIED:20251028T085401Z
UID:10002841-1894271400-1894280400@charlestown.ie
SUMMARY:Yarn Tales - Knit\, Crochet & Embroidery
DESCRIPTION:
URL:https://charlestown.ie/event/yarn-tales-knit-crochet-embroidery/2030-01-10/
LOCATION:Pastoral Centre\, Lowpark\, Charlestown\, Mayo\, Ireland
ATTACH;FMTTYPE=image/jpeg:https://charlestown.ie/wp-content/uploads/2025/08/Screenshot_20250901_212637_Gmail.jpg
END:VEVENT
BEGIN:VEVENT
DTSTART;TZID=Europe/Dublin:20300117T103000
DTEND;TZID=Europe/Dublin:20300117T130000
DTSTAMP:20260424T180951
CREATED:20250822T154401Z
LAST-MODIFIED:20251028T085401Z
UID:10002842-1894876200-1894885200@charlestown.ie
SUMMARY:Yarn Tales - Knit\, Crochet & Embroidery
DESCRIPTION:
URL:https://charlestown.ie/event/yarn-tales-knit-crochet-embroidery/2030-01-17/
LOCATION:Pastoral Centre\, Lowpark\, Charlestown\, Mayo\, Ireland
ATTACH;FMTTYPE=image/jpeg:https://charlestown.ie/wp-content/uploads/2025/08/Screenshot_20250901_212637_Gmail.jpg
END:VEVENT
BEGIN:VEVENT
DTSTART;TZID=Europe/Dublin:20300124T103000
DTEND;TZID=Europe/Dublin:20300124T130000
DTSTAMP:20260424T180951
CREATED:20250822T154401Z
LAST-MODIFIED:20251028T085401Z
UID:10002843-1895481000-1895490000@charlestown.ie
SUMMARY:Yarn Tales - Knit\, Crochet & Embroidery
DESCRIPTION:
URL:https://charlestown.ie/event/yarn-tales-knit-crochet-embroidery/2030-01-24/
LOCATION:Pastoral Centre\, Lowpark\, Charlestown\, Mayo\, Ireland
ATTACH;FMTTYPE=image/jpeg:https://charlestown.ie/wp-content/uploads/2025/08/Screenshot_20250901_212637_Gmail.jpg
END:VEVENT
BEGIN:VEVENT
DTSTART;TZID=Europe/Dublin:20300131T103000
DTEND;TZID=Europe/Dublin:20300131T130000
DTSTAMP:20260424T180951
CREATED:20250822T154401Z
LAST-MODIFIED:20251028T085401Z
UID:10002844-1896085800-1896094800@charlestown.ie
SUMMARY:Yarn Tales - Knit\, Crochet & Embroidery
DESCRIPTION:
URL:https://charlestown.ie/event/yarn-tales-knit-crochet-embroidery/2030-01-31/
LOCATION:Pastoral Centre\, Lowpark\, Charlestown\, Mayo\, Ireland
ATTACH;FMTTYPE=image/jpeg:https://charlestown.ie/wp-content/uploads/2025/08/Screenshot_20250901_212637_Gmail.jpg
END:VEVENT
BEGIN:VEVENT
DTSTART;TZID=Europe/Dublin:20300207T103000
DTEND;TZID=Europe/Dublin:20300207T130000
DTSTAMP:20260424T180951
CREATED:20250822T154401Z
LAST-MODIFIED:20251028T085401Z
UID:10002845-1896690600-1896699600@charlestown.ie
SUMMARY:Yarn Tales - Knit\, Crochet & Embroidery
DESCRIPTION:
URL:https://charlestown.ie/event/yarn-tales-knit-crochet-embroidery/2030-02-07/
LOCATION:Pastoral Centre\, Lowpark\, Charlestown\, Mayo\, Ireland
ATTACH;FMTTYPE=image/jpeg:https://charlestown.ie/wp-content/uploads/2025/08/Screenshot_20250901_212637_Gmail.jpg
END:VEVENT
BEGIN:VEVENT
DTSTART;TZID=Europe/Dublin:20300214T103000
DTEND;TZID=Europe/Dublin:20300214T130000
DTSTAMP:20260424T180951
CREATED:20250822T154401Z
LAST-MODIFIED:20251028T085401Z
UID:10002846-1897295400-1897304400@charlestown.ie
SUMMARY:Yarn Tales - Knit\, Crochet & Embroidery
DESCRIPTION:
URL:https://charlestown.ie/event/yarn-tales-knit-crochet-embroidery/2030-02-14/
LOCATION:Pastoral Centre\, Lowpark\, Charlestown\, Mayo\, Ireland
ATTACH;FMTTYPE=image/jpeg:https://charlestown.ie/wp-content/uploads/2025/08/Screenshot_20250901_212637_Gmail.jpg
END:VEVENT
BEGIN:VEVENT
DTSTART;TZID=Europe/Dublin:20300221T103000
DTEND;TZID=Europe/Dublin:20300221T130000
DTSTAMP:20260424T180951
CREATED:20250822T154401Z
LAST-MODIFIED:20251028T085401Z
UID:10002847-1897900200-1897909200@charlestown.ie
SUMMARY:Yarn Tales - Knit\, Crochet & Embroidery
DESCRIPTION:
URL:https://charlestown.ie/event/yarn-tales-knit-crochet-embroidery/2030-02-21/
LOCATION:Pastoral Centre\, Lowpark\, Charlestown\, Mayo\, Ireland
ATTACH;FMTTYPE=image/jpeg:https://charlestown.ie/wp-content/uploads/2025/08/Screenshot_20250901_212637_Gmail.jpg
END:VEVENT
BEGIN:VEVENT
DTSTART;TZID=Europe/Dublin:20300228T103000
DTEND;TZID=Europe/Dublin:20300228T130000
DTSTAMP:20260424T180951
CREATED:20250822T154401Z
LAST-MODIFIED:20251028T085401Z
UID:10002848-1898505000-1898514000@charlestown.ie
SUMMARY:Yarn Tales - Knit\, Crochet & Embroidery
DESCRIPTION:
URL:https://charlestown.ie/event/yarn-tales-knit-crochet-embroidery/2030-02-28/
LOCATION:Pastoral Centre\, Lowpark\, Charlestown\, Mayo\, Ireland
ATTACH;FMTTYPE=image/jpeg:https://charlestown.ie/wp-content/uploads/2025/08/Screenshot_20250901_212637_Gmail.jpg
END:VEVENT
BEGIN:VEVENT
DTSTART;TZID=Europe/Dublin:20300307T103000
DTEND;TZID=Europe/Dublin:20300307T130000
DTSTAMP:20260424T180951
CREATED:20250822T154401Z
LAST-MODIFIED:20251028T085401Z
UID:10002849-1899109800-1899118800@charlestown.ie
SUMMARY:Yarn Tales - Knit\, Crochet & Embroidery
DESCRIPTION:
URL:https://charlestown.ie/event/yarn-tales-knit-crochet-embroidery/2030-03-07/
LOCATION:Pastoral Centre\, Lowpark\, Charlestown\, Mayo\, Ireland
ATTACH;FMTTYPE=image/jpeg:https://charlestown.ie/wp-content/uploads/2025/08/Screenshot_20250901_212637_Gmail.jpg
END:VEVENT
BEGIN:VEVENT
DTSTART;TZID=Europe/Dublin:20300314T103000
DTEND;TZID=Europe/Dublin:20300314T130000
DTSTAMP:20260424T180951
CREATED:20250822T154401Z
LAST-MODIFIED:20251028T085401Z
UID:10002850-1899714600-1899723600@charlestown.ie
SUMMARY:Yarn Tales - Knit\, Crochet & Embroidery
DESCRIPTION:
URL:https://charlestown.ie/event/yarn-tales-knit-crochet-embroidery/2030-03-14/
LOCATION:Pastoral Centre\, Lowpark\, Charlestown\, Mayo\, Ireland
ATTACH;FMTTYPE=image/jpeg:https://charlestown.ie/wp-content/uploads/2025/08/Screenshot_20250901_212637_Gmail.jpg
END:VEVENT
BEGIN:VEVENT
DTSTART;TZID=Europe/Dublin:20300321T103000
DTEND;TZID=Europe/Dublin:20300321T130000
DTSTAMP:20260424T180951
CREATED:20250822T154401Z
LAST-MODIFIED:20251028T085401Z
UID:10002851-1900319400-1900328400@charlestown.ie
SUMMARY:Yarn Tales - Knit\, Crochet & Embroidery
DESCRIPTION:
URL:https://charlestown.ie/event/yarn-tales-knit-crochet-embroidery/2030-03-21/
LOCATION:Pastoral Centre\, Lowpark\, Charlestown\, Mayo\, Ireland
ATTACH;FMTTYPE=image/jpeg:https://charlestown.ie/wp-content/uploads/2025/08/Screenshot_20250901_212637_Gmail.jpg
END:VEVENT
BEGIN:VEVENT
DTSTART;TZID=Europe/Dublin:20300328T103000
DTEND;TZID=Europe/Dublin:20300328T130000
DTSTAMP:20260424T180951
CREATED:20250822T154401Z
LAST-MODIFIED:20251028T085401Z
UID:10002852-1900924200-1900933200@charlestown.ie
SUMMARY:Yarn Tales - Knit\, Crochet & Embroidery
DESCRIPTION:
URL:https://charlestown.ie/event/yarn-tales-knit-crochet-embroidery/2030-03-28/
LOCATION:Pastoral Centre\, Lowpark\, Charlestown\, Mayo\, Ireland
ATTACH;FMTTYPE=image/jpeg:https://charlestown.ie/wp-content/uploads/2025/08/Screenshot_20250901_212637_Gmail.jpg
END:VEVENT
BEGIN:VEVENT
DTSTART;TZID=Europe/Dublin:20300404T103000
DTEND;TZID=Europe/Dublin:20300404T130000
DTSTAMP:20260424T180951
CREATED:20250822T154401Z
LAST-MODIFIED:20251028T085401Z
UID:10002853-1901529000-1901538000@charlestown.ie
SUMMARY:Yarn Tales - Knit\, Crochet & Embroidery
DESCRIPTION:
URL:https://charlestown.ie/event/yarn-tales-knit-crochet-embroidery/2030-04-04/
LOCATION:Pastoral Centre\, Lowpark\, Charlestown\, Mayo\, Ireland
ATTACH;FMTTYPE=image/jpeg:https://charlestown.ie/wp-content/uploads/2025/08/Screenshot_20250901_212637_Gmail.jpg
END:VEVENT
BEGIN:VEVENT
DTSTART;TZID=Europe/Dublin:20300411T103000
DTEND;TZID=Europe/Dublin:20300411T130000
DTSTAMP:20260424T180951
CREATED:20250822T154401Z
LAST-MODIFIED:20251028T085401Z
UID:10002854-1902133800-1902142800@charlestown.ie
SUMMARY:Yarn Tales - Knit\, Crochet & Embroidery
DESCRIPTION:
URL:https://charlestown.ie/event/yarn-tales-knit-crochet-embroidery/2030-04-11/
LOCATION:Pastoral Centre\, Lowpark\, Charlestown\, Mayo\, Ireland
ATTACH;FMTTYPE=image/jpeg:https://charlestown.ie/wp-content/uploads/2025/08/Screenshot_20250901_212637_Gmail.jpg
END:VEVENT
BEGIN:VEVENT
DTSTART;TZID=Europe/Dublin:20300418T103000
DTEND;TZID=Europe/Dublin:20300418T130000
DTSTAMP:20260424T180951
CREATED:20250822T154401Z
LAST-MODIFIED:20251028T085401Z
UID:10002855-1902738600-1902747600@charlestown.ie
SUMMARY:Yarn Tales - Knit\, Crochet & Embroidery
DESCRIPTION:
URL:https://charlestown.ie/event/yarn-tales-knit-crochet-embroidery/2030-04-18/
LOCATION:Pastoral Centre\, Lowpark\, Charlestown\, Mayo\, Ireland
ATTACH;FMTTYPE=image/jpeg:https://charlestown.ie/wp-content/uploads/2025/08/Screenshot_20250901_212637_Gmail.jpg
END:VEVENT
BEGIN:VEVENT
DTSTART;TZID=Europe/Dublin:20300425T103000
DTEND;TZID=Europe/Dublin:20300425T130000
DTSTAMP:20260424T180951
CREATED:20250822T154401Z
LAST-MODIFIED:20251028T085401Z
UID:10002856-1903343400-1903352400@charlestown.ie
SUMMARY:Yarn Tales - Knit\, Crochet & Embroidery
DESCRIPTION:
URL:https://charlestown.ie/event/yarn-tales-knit-crochet-embroidery/2030-04-25/
LOCATION:Pastoral Centre\, Lowpark\, Charlestown\, Mayo\, Ireland
ATTACH;FMTTYPE=image/jpeg:https://charlestown.ie/wp-content/uploads/2025/08/Screenshot_20250901_212637_Gmail.jpg
END:VEVENT
BEGIN:VEVENT
DTSTART;TZID=Europe/Dublin:20300502T103000
DTEND;TZID=Europe/Dublin:20300502T130000
DTSTAMP:20260424T180951
CREATED:20250822T154401Z
LAST-MODIFIED:20251028T085401Z
UID:10002857-1903948200-1903957200@charlestown.ie
SUMMARY:Yarn Tales - Knit\, Crochet & Embroidery
DESCRIPTION:
URL:https://charlestown.ie/event/yarn-tales-knit-crochet-embroidery/2030-05-02/
LOCATION:Pastoral Centre\, Lowpark\, Charlestown\, Mayo\, Ireland
ATTACH;FMTTYPE=image/jpeg:https://charlestown.ie/wp-content/uploads/2025/08/Screenshot_20250901_212637_Gmail.jpg
END:VEVENT
END:VCALENDAR