BEGIN:VCALENDAR
VERSION:2.0
PRODID:-//Charlestown - ECPv6.6.4.2//NONSGML v1.0//EN
CALSCALE:GREGORIAN
METHOD:PUBLISH
X-WR-CALNAME:Charlestown
X-ORIGINAL-URL:https://charlestown.ie
X-WR-CALDESC:Events for Charlestown
REFRESH-INTERVAL;VALUE=DURATION:PT1H
X-Robots-Tag:noindex
X-PUBLISHED-TTL:PT1H
BEGIN:VTIMEZONE
TZID:Europe/Dublin
BEGIN:DAYLIGHT
TZOFFSETFROM:+0000
TZOFFSETTO:+0100
TZNAME:IST
DTSTART:20240331T010000
END:DAYLIGHT
BEGIN:STANDARD
TZOFFSETFROM:+0100
TZOFFSETTO:+0000
TZNAME:GMT
DTSTART:20241027T010000
END:STANDARD
END:VTIMEZONE
BEGIN:VEVENT
DTSTART;TZID=Europe/Dublin:20241026T213000
DTEND;TZID=Europe/Dublin:20241026T233000
DTSTAMP:20260424T033626
CREATED:20241001T212320Z
LAST-MODIFIED:20241001T212320Z
UID:10001288-1729978200-1729985400@charlestown.ie
SUMMARY:Music - Elvis Tribute (Murrays Bar)
DESCRIPTION:
URL:https://charlestown.ie/event/music-elvis-tribute-murrays-bar/
LOCATION:Murray’s Bar
CATEGORIES:Music
ATTACH;FMTTYPE=image/jpeg:https://charlestown.ie/wp-content/uploads/2024/10/Screenshot_20241001_222010_Facebook.jpg
END:VEVENT
END:VCALENDAR