BEGIN:VCALENDAR
VERSION:2.0
PRODID:-//Charlestown - ECPv6.6.4.2//NONSGML v1.0//EN
CALSCALE:GREGORIAN
METHOD:PUBLISH
X-ORIGINAL-URL:https://charlestown.ie
X-WR-CALDESC:Events for Charlestown
REFRESH-INTERVAL;VALUE=DURATION:PT1H
X-Robots-Tag:noindex
X-PUBLISHED-TTL:PT1H
BEGIN:VTIMEZONE
TZID:Europe/Dublin
BEGIN:DAYLIGHT
TZOFFSETFROM:+0000
TZOFFSETTO:+0100
TZNAME:IST
DTSTART:20240331T010000
END:DAYLIGHT
BEGIN:STANDARD
TZOFFSETFROM:+0100
TZOFFSETTO:+0000
TZNAME:GMT
DTSTART:20241027T010000
END:STANDARD
BEGIN:DAYLIGHT
TZOFFSETFROM:+0000
TZOFFSETTO:+0100
TZNAME:IST
DTSTART:20250330T010000
END:DAYLIGHT
BEGIN:STANDARD
TZOFFSETFROM:+0100
TZOFFSETTO:+0000
TZNAME:GMT
DTSTART:20251026T010000
END:STANDARD
END:VTIMEZONE
BEGIN:VEVENT
DTSTART;TZID=Europe/Dublin:20250831T210000
DTEND;TZID=Europe/Dublin:20250831T233000
DTSTAMP:20260424T015333
CREATED:20250807T114426Z
LAST-MODIFIED:20250807T114500Z
UID:10002141-1756674000-1756683000@charlestown.ie
SUMMARY:Live Music - Shane Downey ( Johnny's Bar)
DESCRIPTION:
URL:https://charlestown.ie/event/live-music-shane-downey-johnnys-bar/2025-08-31/
LOCATION:Johnny’s Bar & Off Licence\, The Square\, Charlestown\, Co Mayo\, Ireland
CATEGORIES:Live Music
ATTACH;FMTTYPE=image/jpeg:https://charlestown.ie/wp-content/uploads/2025/08/Screenshot_20250807_124005_Facebook.jpg
END:VEVENT
BEGIN:VEVENT
DTSTART;TZID=Europe/Dublin:20250815T213000
DTEND;TZID=Europe/Dublin:20250815T230000
DTSTAMP:20260424T015333
CREATED:20250807T135848Z
LAST-MODIFIED:20250807T135848Z
UID:10002142-1755293400-1755298800@charlestown.ie
SUMMARY:Live Music - Tony Cunningham ( Johnny's Bar)
DESCRIPTION:
URL:https://charlestown.ie/event/live-music-tony-cunningham-johnnys-bar/
LOCATION:Johnny’s Bar & Off Licence\, The Square\, Charlestown\, Co Mayo\, Ireland
CATEGORIES:Live Music
ATTACH;FMTTYPE=image/jpeg:https://charlestown.ie/wp-content/uploads/2025/08/Screenshot_20250807_145602_Facebook.jpg
END:VEVENT
BEGIN:VEVENT
DTSTART;TZID=Europe/Dublin:20250808T210000
DTEND;TZID=Europe/Dublin:20250808T233000
DTSTAMP:20260424T015333
CREATED:20250807T114426Z
LAST-MODIFIED:20250807T114500Z
UID:10002140-1754686800-1754695800@charlestown.ie
SUMMARY:Live Music - Shane Downey ( Johnny's Bar)
DESCRIPTION:
URL:https://charlestown.ie/event/live-music-shane-downey-johnnys-bar/2025-08-08/
LOCATION:Johnny’s Bar & Off Licence\, The Square\, Charlestown\, Co Mayo\, Ireland
CATEGORIES:Live Music
ATTACH;FMTTYPE=image/jpeg:https://charlestown.ie/wp-content/uploads/2025/08/Screenshot_20250807_124005_Facebook.jpg
END:VEVENT
BEGIN:VEVENT
DTSTART;TZID=Europe/Dublin:20250711T213000
DTEND;TZID=Europe/Dublin:20250711T233000
DTSTAMP:20260424T015333
CREATED:20250709T100804Z
LAST-MODIFIED:20250709T100804Z
UID:10002092-1752269400-1752276600@charlestown.ie
SUMMARY:Live Music - O'Toole Band ( Johnnys Bar)
DESCRIPTION:
URL:https://charlestown.ie/event/live-music-otoole-band-johnnys-bar/
LOCATION:Johnny’s Bar & Off Licence\, The Square\, Charlestown\, Co Mayo\, Ireland
ATTACH;FMTTYPE=image/jpeg:https://charlestown.ie/wp-content/uploads/2015/06/Charlestown-Aerial-View.jpg
END:VEVENT
BEGIN:VEVENT
DTSTART;TZID=Europe/Dublin:20250705T213000
DTEND;TZID=Europe/Dublin:20250705T233000
DTSTAMP:20260424T015333
CREATED:20250701T184539Z
LAST-MODIFIED:20250701T184539Z
UID:10002085-1751751000-1751758200@charlestown.ie
SUMMARY:Live Music - Oisin McCann (Johnny’s)
DESCRIPTION:
URL:https://charlestown.ie/event/live-music-oisin-mccann-johnnys/
LOCATION:Johnny’s Bar & Off Licence\, The Square\, Charlestown\, Co Mayo\, Ireland
CATEGORIES:Live Music
ATTACH;FMTTYPE=image/jpeg:https://charlestown.ie/wp-content/uploads/2023/02/Music-Generation-1.jpg
END:VEVENT
BEGIN:VEVENT
DTSTART;TZID=Europe/Dublin:20250621T213000
DTEND;TZID=Europe/Dublin:20250621T233000
DTSTAMP:20260424T015333
CREATED:20250618T132507Z
LAST-MODIFIED:20250618T132507Z
UID:10002071-1750541400-1750548600@charlestown.ie
SUMMARY:Live Music - Finéinn Quinn ( Johnny's Bar)
DESCRIPTION:
URL:https://charlestown.ie/event/live-music-fineinn-quinn-johnnys-bar/
LOCATION:Johnny’s Bar & Off Licence\, The Square\, Charlestown\, Co Mayo\, Ireland
CATEGORIES:Live Music
ATTACH;FMTTYPE=image/jpeg:https://charlestown.ie/wp-content/uploads/2025/06/Screenshot_20250618_142217_Facebook.jpg
END:VEVENT
BEGIN:VEVENT
DTSTART;TZID=Europe/Dublin:20250613T213000
DTEND;TZID=Europe/Dublin:20250613T230000
DTSTAMP:20260424T015333
CREATED:20250609T201557Z
LAST-MODIFIED:20250609T201557Z
UID:10002062-1749850200-1749855600@charlestown.ie
SUMMARY:Music - Tony Cunningham(Johnny's Bar)
DESCRIPTION:
URL:https://charlestown.ie/event/music-tony-cunninghamjohnnys-bar/
LOCATION:Johnny’s Bar & Off Licence\, The Square\, Charlestown\, Co Mayo\, Ireland
CATEGORIES:GAA- LGFA
ATTACH;FMTTYPE=image/jpeg:https://charlestown.ie/wp-content/uploads/2025/06/Screenshot_20250609_211302_Facebook.jpg
END:VEVENT
BEGIN:VEVENT
DTSTART;TZID=Europe/Dublin:20250607T203000
DTEND;TZID=Europe/Dublin:20250607T223000
DTSTAMP:20260424T015333
CREATED:20250605T121636Z
LAST-MODIFIED:20250605T121636Z
UID:10002059-1749328200-1749335400@charlestown.ie
SUMMARY:Live Music - O'Toole Trad Band (Johnny’s Bar)
DESCRIPTION:
URL:https://charlestown.ie/event/live-music-otoole-trad-band-johnnys-bar/
LOCATION:Johnny’s Bar & Off Licence\, The Square\, Charlestown\, Co Mayo\, Ireland
CATEGORIES:Live Music
ATTACH;FMTTYPE=image/jpeg:https://charlestown.ie/wp-content/uploads/2016/01/Music-Pic.jpg
END:VEVENT
BEGIN:VEVENT
DTSTART;TZID=Europe/Dublin:20250529T210000
DTEND;TZID=Europe/Dublin:20250529T233000
DTSTAMP:20260424T015333
CREATED:20250407T142814Z
LAST-MODIFIED:20250407T142814Z
UID:10001931-1748552400-1748561400@charlestown.ie
SUMMARY:Live Music - Wade Lynch Band (Johnny's Bar)
DESCRIPTION:THE WADE LYNCH BAND ARE BACK \n\n\nSAVE TO DATE FOR WHAT PROMISES TO BE A GREAT NIGHT
URL:https://charlestown.ie/event/live-music-wade-lynch-band-johnnys-bar/
LOCATION:Johnny’s Bar & Off Licence\, The Square\, Charlestown\, Co Mayo\, Ireland
CATEGORIES:Live Music
ATTACH;FMTTYPE=image/jpeg:https://charlestown.ie/wp-content/uploads/2025/04/Wade-Lynch.jpg
END:VEVENT
BEGIN:VEVENT
DTSTART;TZID=Europe/Dublin:20250524T100000
DTEND;TZID=Europe/Dublin:20250524T233000
DTSTAMP:20260424T015333
CREATED:20250521T205538Z
LAST-MODIFIED:20250521T205538Z
UID:10001974-1748080800-1748129400@charlestown.ie
SUMMARY:Live Music - Eamon James ( Johnny's Bar)
DESCRIPTION:
URL:https://charlestown.ie/event/live-music-eamon-james-johnnys-bar/
LOCATION:Johnny’s Bar & Off Licence\, The Square\, Charlestown\, Co Mayo\, Ireland
CATEGORIES:Live Music
ATTACH;FMTTYPE=image/jpeg:https://charlestown.ie/wp-content/uploads/2025/05/Screenshot_20250521_215231_Facebook.jpg
END:VEVENT
BEGIN:VEVENT
DTSTART;TZID=Europe/Dublin:20250510T213000
DTEND;TZID=Europe/Dublin:20250510T233000
DTSTAMP:20260424T015333
CREATED:20250508T230258Z
LAST-MODIFIED:20250508T230258Z
UID:10001961-1746912600-1746919800@charlestown.ie
SUMMARY:Live Music w/ Eamonn James ( Johnny's Bar)
DESCRIPTION:
URL:https://charlestown.ie/event/live-music-w-eamonn-james-johnnys-bar/
LOCATION:Johnny’s Bar & Off Licence\, The Square\, Charlestown\, Co Mayo\, Ireland
CATEGORIES:Live Music
ATTACH;FMTTYPE=image/jpeg:https://charlestown.ie/wp-content/uploads/2015/06/Charlestown-Aerial-View.jpg
END:VEVENT
BEGIN:VEVENT
DTSTART;TZID=Europe/Dublin:20250504T180000
DTEND;TZID=Europe/Dublin:20250504T203000
DTSTAMP:20260424T015333
CREATED:20250501T140304Z
LAST-MODIFIED:20250501T140304Z
UID:10001955-1746381600-1746390600@charlestown.ie
SUMMARY:Live Music - O' Toole Trad Band ( Johnny’s Bar)
DESCRIPTION:
URL:https://charlestown.ie/event/live-music-o-toole-trad-band-johnnys-bar/
LOCATION:Johnny’s Bar & Off Licence\, The Square\, Charlestown\, Co Mayo\, Ireland
CATEGORIES:Live Music
ATTACH;FMTTYPE=image/jpeg:https://charlestown.ie/wp-content/uploads/2025/05/Screenshot_20250501_145423_Facebook.jpg
END:VEVENT
BEGIN:VEVENT
DTSTART;TZID=Europe/Dublin:20250503T213000
DTEND;TZID=Europe/Dublin:20250503T233000
DTSTAMP:20260424T015333
CREATED:20250501T140101Z
LAST-MODIFIED:20250501T140101Z
UID:10001954-1746307800-1746315000@charlestown.ie
SUMMARY:Live Music - Jimmy Hope ( Johnny’s Bar)
DESCRIPTION:
URL:https://charlestown.ie/event/live-music-jimmy-hope-johnnys-bar/
LOCATION:Johnny’s Bar & Off Licence\, The Square\, Charlestown\, Co Mayo\, Ireland
CATEGORIES:Live Music
ATTACH;FMTTYPE=image/jpeg:https://charlestown.ie/wp-content/uploads/2025/05/Screenshot_20250501_145430_Facebook.jpg
END:VEVENT
BEGIN:VEVENT
DTSTART;TZID=Europe/Dublin:20250420T213000
DTEND;TZID=Europe/Dublin:20250420T233000
DTSTAMP:20260424T015333
CREATED:20250417T073716Z
LAST-MODIFIED:20250417T073903Z
UID:10001947-1745184600-1745191800@charlestown.ie
SUMMARY:Music - The Breakers (Johnny's Bar)
DESCRIPTION:
URL:https://charlestown.ie/event/music-the-breakers-johnnys-bar/
LOCATION:Johnny’s Bar & Off Licence\, The Square\, Charlestown\, Co Mayo\, Ireland
ATTACH;FMTTYPE=image/jpeg:https://charlestown.ie/wp-content/uploads/2025/04/Screenshot_20250417_083127_Facebook.jpg
END:VEVENT
BEGIN:VEVENT
DTSTART;TZID=Europe/Dublin:20250419T213000
DTEND;TZID=Europe/Dublin:20250419T233000
DTSTAMP:20260424T015333
CREATED:20250417T073532Z
LAST-MODIFIED:20250417T073532Z
UID:10001946-1745098200-1745105400@charlestown.ie
SUMMARY:Music - Karaoke by Joe & Sarah (Johnny's Bar)
DESCRIPTION:
URL:https://charlestown.ie/event/music-karaoke-by-joe-sarah-johnnys-bar/
LOCATION:Johnny’s Bar & Off Licence\, The Square\, Charlestown\, Co Mayo\, Ireland
ATTACH;FMTTYPE=image/jpeg:https://charlestown.ie/wp-content/uploads/2025/04/Screenshot_20250417_083127_Facebook.jpg
END:VEVENT
BEGIN:VEVENT
DTSTART;TZID=Europe/Dublin:20250418T210000
DTEND;TZID=Europe/Dublin:20250418T233000
DTSTAMP:20260424T015333
CREATED:20250417T073330Z
LAST-MODIFIED:20250417T073330Z
UID:10001945-1745010000-1745019000@charlestown.ie
SUMMARY:Music - Tony Cunningham ( Johnny's Bar)
DESCRIPTION:
URL:https://charlestown.ie/event/music-tony-cunningham-johnnys-bar/
LOCATION:Johnny’s Bar & Off Licence\, The Square\, Charlestown\, Co Mayo\, Ireland
ATTACH;FMTTYPE=image/jpeg:https://charlestown.ie/wp-content/uploads/2025/04/Screenshot_20250417_083127_Facebook.jpg
END:VEVENT
BEGIN:VEVENT
DTSTART;TZID=Europe/Dublin:20250329T213000
DTEND;TZID=Europe/Dublin:20250329T233000
DTSTAMP:20260424T015333
CREATED:20250326T125133Z
LAST-MODIFIED:20250326T125133Z
UID:10001912-1743283800-1743291000@charlestown.ie
SUMMARY:Live Music - Oisin McCann @ Johnny's Bar
DESCRIPTION:
URL:https://charlestown.ie/event/live-music-oisin-mccann-johnnys-bar/
LOCATION:Johnny’s Bar & Off Licence\, The Square\, Charlestown\, Co Mayo\, Ireland
ATTACH;FMTTYPE=image/jpeg:https://charlestown.ie/wp-content/uploads/2023/02/Music-Generation-1.jpg
END:VEVENT
BEGIN:VEVENT
DTSTART;TZID=Europe/Dublin:20250315T220000
DTEND;TZID=Europe/Dublin:20250315T233000
DTSTAMP:20260424T015333
CREATED:20250310T214752Z
LAST-MODIFIED:20250310T214752Z
UID:10001749-1742076000-1742081400@charlestown.ie
SUMMARY:Live Music - The Breakers ( Johnny's Bar)
DESCRIPTION:
URL:https://charlestown.ie/event/live-music-the-breakers-johnnys-bar/
LOCATION:Johnny’s Bar & Off Licence\, The Square\, Charlestown\, Co Mayo\, Ireland
CATEGORIES:Live Music
ATTACH;FMTTYPE=image/jpeg:https://charlestown.ie/wp-content/uploads/2025/03/Screenshot_20250310_214511_Facebook.jpg
END:VEVENT
BEGIN:VEVENT
DTSTART;TZID=Europe/Dublin:20250308T220000
DTEND;TZID=Europe/Dublin:20250308T233000
DTSTAMP:20260424T015333
CREATED:20250307T214422Z
LAST-MODIFIED:20250307T214422Z
UID:10001742-1741471200-1741476600@charlestown.ie
SUMMARY:Music - Oisin McCann (Johnny's Bar)
DESCRIPTION:
URL:https://charlestown.ie/event/music-oisin-mccann-johnnys-bar-4/
LOCATION:Johnny’s Bar & Off Licence\, The Square\, Charlestown\, Co Mayo\, Ireland
CATEGORIES:Music
ATTACH;FMTTYPE=image/jpeg:https://charlestown.ie/wp-content/uploads/2024/09/Screenshot_20240926_093235_Google.jpg
END:VEVENT
BEGIN:VEVENT
DTSTART;TZID=Europe/Dublin:20250215T220000
DTEND;TZID=Europe/Dublin:20250215T233000
DTSTAMP:20260424T015333
CREATED:20250212T185753Z
LAST-MODIFIED:20250212T190436Z
UID:10001629-1739656800-1739662200@charlestown.ie
SUMMARY:Music by Nessa - Johnny's Bar
DESCRIPTION:
URL:https://charlestown.ie/event/music-by-nessa-johnnys-bar-2/
LOCATION:Johnny’s Bar & Off Licence\, The Square\, Charlestown\, Co Mayo\, Ireland
ATTACH;FMTTYPE=image/jpeg:https://charlestown.ie/wp-content/uploads/2025/02/Screenshot_20250212_185500_Facebook.jpg
END:VEVENT
BEGIN:VEVENT
DTSTART;TZID=Europe/Dublin:20241229T213000
DTEND;TZID=Europe/Dublin:20241229T233000
DTSTAMP:20260424T015333
CREATED:20241108T192603Z
LAST-MODIFIED:20241108T193042Z
UID:10001456-1735507800-1735515000@charlestown.ie
SUMMARY:Music - Oisin McCann ( Johnny's Bar)
DESCRIPTION:
URL:https://charlestown.ie/event/music-oisin-mccann-johnnys-bar-3/2024-12-29/
LOCATION:Johnny’s Bar & Off Licence\, The Square\, Charlestown\, Co Mayo\, Ireland
CATEGORIES:Music
ATTACH;FMTTYPE=image/jpeg:https://charlestown.ie/wp-content/uploads/2024/09/Screenshot_20240926_093235_Google.jpg
END:VEVENT
BEGIN:VEVENT
DTSTART;TZID=Europe/Dublin:20241228T213000
DTEND;TZID=Europe/Dublin:20241228T233000
DTSTAMP:20260424T015333
CREATED:20241113T172308Z
LAST-MODIFIED:20241113T172308Z
UID:10001487-1735421400-1735428600@charlestown.ie
SUMMARY:Music - Eamon James (Johnny's Bar)
DESCRIPTION:
URL:https://charlestown.ie/event/music-eamon-james-johnnys-bar/
LOCATION:Johnny’s Bar & Off Licence\, The Square\, Charlestown\, Co Mayo\, Ireland
CATEGORIES:Live Music
ATTACH;FMTTYPE=image/jpeg:https://charlestown.ie/wp-content/uploads/2024/09/Screenshot_20240926_093235_Google.jpg
END:VEVENT
BEGIN:VEVENT
DTSTART;TZID=Europe/Dublin:20241227T213000
DTEND;TZID=Europe/Dublin:20241227T233000
DTSTAMP:20260424T015333
CREATED:20241113T171531Z
LAST-MODIFIED:20241113T171806Z
UID:10001485-1735335000-1735342200@charlestown.ie
SUMMARY:Music - Jimmy Hope (Johnny's Bar)
DESCRIPTION:
URL:https://charlestown.ie/event/music-jimmy-hope-johnnys-bar/2024-12-27/
LOCATION:Johnny’s Bar & Off Licence\, The Square\, Charlestown\, Co Mayo\, Ireland
CATEGORIES:Live Music
ATTACH;FMTTYPE=image/jpeg:https://charlestown.ie/wp-content/uploads/2024/09/Screenshot_20240926_093235_Google.jpg
END:VEVENT
BEGIN:VEVENT
DTSTART;TZID=Europe/Dublin:20241222T213000
DTEND;TZID=Europe/Dublin:20241222T233000
DTSTAMP:20260424T015333
CREATED:20241113T172051Z
LAST-MODIFIED:20241113T172051Z
UID:10001486-1734903000-1734910200@charlestown.ie
SUMMARY:Music - Katie Cassidy (Johnny's Bar)
DESCRIPTION:
URL:https://charlestown.ie/event/music-katie-cassidy-johnnys-bar-2/
LOCATION:Johnny’s Bar & Off Licence\, The Square\, Charlestown\, Co Mayo\, Ireland
CATEGORIES:Live Music
ATTACH;FMTTYPE=image/jpeg:https://charlestown.ie/wp-content/uploads/2024/09/Screenshot_20240926_093235_Google.jpg
END:VEVENT
BEGIN:VEVENT
DTSTART;TZID=Europe/Dublin:20241221T213000
DTEND;TZID=Europe/Dublin:20241221T233000
DTSTAMP:20260424T015333
CREATED:20241108T142320Z
LAST-MODIFIED:20241113T171652Z
UID:10001484-1734816600-1734823800@charlestown.ie
SUMMARY:Music by Nessa (Johnny's Bar)
DESCRIPTION:
URL:https://charlestown.ie/event/music-by-nessa-johnnys-bar/2024-12-21/
LOCATION:Johnny’s Bar & Off Licence\, The Square\, Charlestown\, Co Mayo\, Ireland
ATTACH;FMTTYPE=image/jpeg:https://charlestown.ie/wp-content/uploads/2024/09/Screenshot_20240926_093235_Google.jpg
END:VEVENT
BEGIN:VEVENT
DTSTART;TZID=Europe/Dublin:20241220T213000
DTEND;TZID=Europe/Dublin:20241220T233000
DTSTAMP:20260424T015333
CREATED:20241113T171531Z
LAST-MODIFIED:20241113T171806Z
UID:10001483-1734730200-1734737400@charlestown.ie
SUMMARY:Music - Jimmy Hope (Johnny's Bar)
DESCRIPTION:
URL:https://charlestown.ie/event/music-jimmy-hope-johnnys-bar/2024-12-20/
LOCATION:Johnny’s Bar & Off Licence\, The Square\, Charlestown\, Co Mayo\, Ireland
CATEGORIES:Live Music
ATTACH;FMTTYPE=image/jpeg:https://charlestown.ie/wp-content/uploads/2024/09/Screenshot_20240926_093235_Google.jpg
END:VEVENT
BEGIN:VEVENT
DTSTART;TZID=Europe/Dublin:20241214T213000
DTEND;TZID=Europe/Dublin:20241214T233000
DTSTAMP:20260424T015333
CREATED:20241108T192341Z
LAST-MODIFIED:20241113T171223Z
UID:10001482-1734211800-1734219000@charlestown.ie
SUMMARY:Music - Mike Flan Music ( Johnny's Bar)
DESCRIPTION:
URL:https://charlestown.ie/event/music-mike-flan-music-johnnys-bar/2024-12-14/
LOCATION:Johnny’s Bar & Off Licence\, The Square\, Charlestown\, Co Mayo\, Ireland
CATEGORIES:Music
ATTACH;FMTTYPE=image/jpeg:https://charlestown.ie/wp-content/uploads/2024/09/Screenshot_20240926_093235_Google.jpg
END:VEVENT
BEGIN:VEVENT
DTSTART;TZID=Europe/Dublin:20241207T213000
DTEND;TZID=Europe/Dublin:20241207T233000
DTSTAMP:20260424T015333
CREATED:20241108T192603Z
LAST-MODIFIED:20241108T193042Z
UID:10001454-1733607000-1733614200@charlestown.ie
SUMMARY:Music - Oisin McCann ( Johnny's Bar)
DESCRIPTION:
URL:https://charlestown.ie/event/music-oisin-mccann-johnnys-bar-3/2024-12-07/
LOCATION:Johnny’s Bar & Off Licence\, The Square\, Charlestown\, Co Mayo\, Ireland
CATEGORIES:Music
ATTACH;FMTTYPE=image/jpeg:https://charlestown.ie/wp-content/uploads/2024/09/Screenshot_20240926_093235_Google.jpg
END:VEVENT
BEGIN:VEVENT
DTSTART;TZID=Europe/Dublin:20241130T213000
DTEND;TZID=Europe/Dublin:20241130T233000
DTSTAMP:20260424T015333
CREATED:20241108T192341Z
LAST-MODIFIED:20241113T171223Z
UID:10001453-1733002200-1733009400@charlestown.ie
SUMMARY:Music - Mike Flan Music ( Johnny's Bar)
DESCRIPTION:
URL:https://charlestown.ie/event/music-mike-flan-music-johnnys-bar/2024-11-30/
LOCATION:Johnny’s Bar & Off Licence\, The Square\, Charlestown\, Co Mayo\, Ireland
CATEGORIES:Music
ATTACH;FMTTYPE=image/jpeg:https://charlestown.ie/wp-content/uploads/2024/09/Screenshot_20240926_093235_Google.jpg
END:VEVENT
BEGIN:VEVENT
DTSTART;TZID=Europe/Dublin:20241123T213000
DTEND;TZID=Europe/Dublin:20241123T233000
DTSTAMP:20260424T015333
CREATED:20241108T142320Z
LAST-MODIFIED:20241113T171652Z
UID:10001451-1732397400-1732404600@charlestown.ie
SUMMARY:Music by Nessa (Johnny's Bar)
DESCRIPTION:
URL:https://charlestown.ie/event/music-by-nessa-johnnys-bar/2024-11-23/
LOCATION:Johnny’s Bar & Off Licence\, The Square\, Charlestown\, Co Mayo\, Ireland
ATTACH;FMTTYPE=image/jpeg:https://charlestown.ie/wp-content/uploads/2024/09/Screenshot_20240926_093235_Google.jpg
END:VEVENT
END:VCALENDAR