BEGIN:VCALENDAR
VERSION:2.0
PRODID:-//Charlestown - ECPv6.6.4.2//NONSGML v1.0//EN
CALSCALE:GREGORIAN
METHOD:PUBLISH
X-ORIGINAL-URL:https://charlestown.ie
X-WR-CALDESC:Events for Charlestown
REFRESH-INTERVAL;VALUE=DURATION:PT1H
X-Robots-Tag:noindex
X-PUBLISHED-TTL:PT1H
BEGIN:VTIMEZONE
TZID:Europe/Dublin
BEGIN:DAYLIGHT
TZOFFSETFROM:+0000
TZOFFSETTO:+0100
TZNAME:IST
DTSTART:20230326T010000
END:DAYLIGHT
BEGIN:STANDARD
TZOFFSETFROM:+0100
TZOFFSETTO:+0000
TZNAME:GMT
DTSTART:20231029T010000
END:STANDARD
BEGIN:DAYLIGHT
TZOFFSETFROM:+0000
TZOFFSETTO:+0100
TZNAME:IST
DTSTART:20240331T010000
END:DAYLIGHT
BEGIN:STANDARD
TZOFFSETFROM:+0100
TZOFFSETTO:+0000
TZNAME:GMT
DTSTART:20241027T010000
END:STANDARD
END:VTIMEZONE
BEGIN:VEVENT
DTSTART;TZID=Europe/Dublin:20240627T190000
DTEND;TZID=Europe/Dublin:20240627T190000
DTSTAMP:20260424T102219
CREATED:20240625T101833Z
LAST-MODIFIED:20240625T101833Z
UID:10000992-1719514800-1719514800@charlestown.ie
SUMMARY:GAA - U14 East Mayo C Championship v Kiltimagh (home)
DESCRIPTION:
URL:https://charlestown.ie/event/gaa-u14-east-mayo-c-championship-v-kiltimagh-home/
LOCATION:Fr. O’ Hara Park\, Charlestown Sarsfields GAA Club\, Lowpark\, Charlestown\, Mayo
CATEGORIES:Children,Community,Schools,Sport
ATTACH;FMTTYPE=image/jpeg:https://charlestown.ie/wp-content/uploads/2024/06/Club-Fixture-24th-June-2024.jpg
END:VEVENT
BEGIN:VEVENT
DTSTART;TZID=Europe/Dublin:20240626T190000
DTEND;TZID=Europe/Dublin:20240626T190000
DTSTAMP:20260424T102219
CREATED:20240625T101628Z
LAST-MODIFIED:20240625T101628Z
UID:10000991-1719428400-1719428400@charlestown.ie
SUMMARY:GAA -  U12 Grading League v Kilmeena (home)
DESCRIPTION:
URL:https://charlestown.ie/event/gaa-u12-grading-league-v-kilmeena-home/
LOCATION:Fr. O’ Hara Park\, Charlestown Sarsfields GAA Club\, Lowpark\, Charlestown\, Mayo
CATEGORIES:Children,Community,Schools,Sport
ATTACH;FMTTYPE=image/jpeg:https://charlestown.ie/wp-content/uploads/2024/06/Club-Fixture-24th-June-2024.jpg
END:VEVENT
BEGIN:VEVENT
DTSTART;TZID=Europe/Dublin:20240625T193000
DTEND;TZID=Europe/Dublin:20240625T193000
DTSTAMP:20260424T102219
CREATED:20240625T101234Z
LAST-MODIFIED:20240625T101234Z
UID:10000990-1719343800-1719343800@charlestown.ie
SUMMARY:GAA - East Mayo Minor A Championship v Kiltimagh (home)
DESCRIPTION:
URL:https://charlestown.ie/event/gaa-east-mayo-minor-a-championship-v-kiltimagh-home/
LOCATION:Fr. O’ Hara Park\, Charlestown Sarsfields GAA Club\, Lowpark\, Charlestown\, Mayo
CATEGORIES:Children,Community,Fitness,Schools,Sport
ATTACH;FMTTYPE=image/jpeg:https://charlestown.ie/wp-content/uploads/2024/06/Club-Fixture-24th-June-2024.jpg
END:VEVENT
BEGIN:VEVENT
DTSTART;TZID=Europe/Dublin:20240613T193000
DTEND;TZID=Europe/Dublin:20240613T193000
DTSTAMP:20260424T102219
CREATED:20240611T115753Z
LAST-MODIFIED:20240611T120239Z
UID:10000973-1718307000-1718307000@charlestown.ie
SUMMARY:GAA - U14 A Championship v Swinford (home)
DESCRIPTION:
URL:https://charlestown.ie/event/gaa-u14-a-championship-v-swinford-home/
LOCATION:Fr. O’ Hara Park\, Charlestown Sarsfields GAA Club\, Lowpark\, Charlestown\, Mayo
CATEGORIES:Children,Community,Schools,Sport
ATTACH;FMTTYPE=image/jpeg:https://charlestown.ie/wp-content/uploads/2015/06/Charlestown-Aerial-View.jpg
END:VEVENT
BEGIN:VEVENT
DTSTART;TZID=Europe/Dublin:20240529T190000
DTEND;TZID=Europe/Dublin:20240529T190000
DTSTAMP:20260424T102219
CREATED:20240529T094827Z
LAST-MODIFIED:20240529T094827Z
UID:10000964-1717009200-1717009200@charlestown.ie
SUMMARY:GAA - U12 Spring League v Ballaghaderreen (home)
DESCRIPTION:
URL:https://charlestown.ie/event/gaa-u12-spring-league-v-ballaghaderreen-home/
LOCATION:Fr. O’ Hara Park\, Charlestown Sarsfields GAA Club\, Lowpark\, Charlestown\, Mayo
CATEGORIES:Children,Community,Schools,Sport
ATTACH;FMTTYPE=image/jpeg:https://charlestown.ie/wp-content/uploads/2024/05/Club-Fixture-29th-May-2024.jpg
END:VEVENT
BEGIN:VEVENT
DTSTART;TZID=Europe/Dublin:20240526T130000
DTEND;TZID=Europe/Dublin:20240526T130000
DTSTAMP:20260424T102219
CREATED:20240521T102122Z
LAST-MODIFIED:20240521T102122Z
UID:10000962-1716728400-1716728400@charlestown.ie
SUMMARY:GAA - SFL Division 3B v Burrishoole (home)
DESCRIPTION:
URL:https://charlestown.ie/event/gaa-sfl-division-3b-v-burrishoole-home/
LOCATION:Fr. O’ Hara Park\, Charlestown Sarsfields GAA Club\, Lowpark\, Charlestown\, Mayo
CATEGORIES:Community,Sport
ATTACH;FMTTYPE=image/jpeg:https://charlestown.ie/wp-content/uploads/2024/05/Club-Fixture-20th-May-2024.jpg
END:VEVENT
BEGIN:VEVENT
DTSTART;TZID=Europe/Dublin:20240525T110000
DTEND;TZID=Europe/Dublin:20240525T110000
DTSTAMP:20260424T102219
CREATED:20240521T101614Z
LAST-MODIFIED:20240521T101614Z
UID:10000960-1716634800-1716634800@charlestown.ie
SUMMARY:GAA -  U14 Development League v Parke/Keelogues/Crimlin (home)
DESCRIPTION:
URL:https://charlestown.ie/event/gaa-u14-development-league-v-parke-keelogues-crimlin-home-2/
LOCATION:Fr. O’ Hara Park\, Charlestown Sarsfields GAA Club\, Lowpark\, Charlestown\, Mayo
CATEGORIES:Children,Community,Schools,Sport
ATTACH;FMTTYPE=image/jpeg:https://charlestown.ie/wp-content/uploads/2024/05/Club-Fixture-20th-May-2024.jpg
END:VEVENT
BEGIN:VEVENT
DTSTART;TZID=Europe/Dublin:20240519T133000
DTEND;TZID=Europe/Dublin:20240519T133000
DTSTAMP:20260424T102219
CREATED:20240514T111046Z
LAST-MODIFIED:20240514T111546Z
UID:10000956-1716125400-1716125400@charlestown.ie
SUMMARY:GAA - SFL Division 1 v Knockmore (home)
DESCRIPTION:
URL:https://charlestown.ie/event/gaa-sfl-division-1-v-knockmore-home/
LOCATION:Fr. O’ Hara Park\, Charlestown Sarsfields GAA Club\, Lowpark\, Charlestown\, Mayo
CATEGORIES:Community,Sport
ATTACH;FMTTYPE=image/jpeg:https://charlestown.ie/wp-content/uploads/2024/05/Club-Fixture-13th-May-2024.jpg
END:VEVENT
BEGIN:VEVENT
DTSTART;TZID=Europe/Dublin:20240518T110000
DTEND;TZID=Europe/Dublin:20240518T110000
DTSTAMP:20260424T102219
CREATED:20240514T110321Z
LAST-MODIFIED:20240514T110321Z
UID:10000955-1716030000-1716030000@charlestown.ie
SUMMARY:GAA - U14 Development League v Kiltimagh (home)
DESCRIPTION:
URL:https://charlestown.ie/event/gaa-u14-development-league-v-kiltimagh-home/
LOCATION:Fr. O’ Hara Park\, Charlestown Sarsfields GAA Club\, Lowpark\, Charlestown\, Mayo
CATEGORIES:Children,Community,Schools,Sport
ATTACH;FMTTYPE=image/jpeg:https://charlestown.ie/wp-content/uploads/2024/05/Club-Fixture-13th-May-2024.jpg
END:VEVENT
BEGIN:VEVENT
DTSTART;TZID=Europe/Dublin:20240515T183000
DTEND;TZID=Europe/Dublin:20240515T183000
DTSTAMP:20260424T102219
CREATED:20240514T105550Z
LAST-MODIFIED:20240514T110414Z
UID:10000953-1715797800-1715797800@charlestown.ie
SUMMARY:GAA - U12 Spring League v Swinford (home)
DESCRIPTION:
URL:https://charlestown.ie/event/gaa-u12-spring-league-v-swinford-home-2/
LOCATION:Fr. O’ Hara Park\, Charlestown Sarsfields GAA Club\, Lowpark\, Charlestown\, Mayo
CATEGORIES:Children,Community,Schools,Sport
ATTACH;FMTTYPE=image/jpeg:https://charlestown.ie/wp-content/uploads/2024/05/Club-Fixture-13th-May-2024.jpg
END:VEVENT
BEGIN:VEVENT
DTSTART;TZID=Europe/Dublin:20240514T190000
DTEND;TZID=Europe/Dublin:20240514T190000
DTSTAMP:20260424T102219
CREATED:20240514T105359Z
LAST-MODIFIED:20240514T105359Z
UID:10000952-1715713200-1715713200@charlestown.ie
SUMMARY:GAA - U14 Division 3 v Burrishoole (home)
DESCRIPTION:
URL:https://charlestown.ie/event/gaa-u14-division-3-v-burrishoole-home/
LOCATION:Fr. O’ Hara Park\, Charlestown Sarsfields GAA Club\, Lowpark\, Charlestown\, Mayo
CATEGORIES:Children,Community,Schools,Sport
ATTACH;FMTTYPE=image/jpeg:https://charlestown.ie/wp-content/uploads/2024/05/Club-Fixture-13th-May-2024.jpg
END:VEVENT
BEGIN:VEVENT
DTSTART;TZID=Europe/Dublin:20240512T130000
DTEND;TZID=Europe/Dublin:20240512T130000
DTSTAMP:20260424T102219
CREATED:20240507T105248Z
LAST-MODIFIED:20240507T105248Z
UID:10000951-1715518800-1715518800@charlestown.ie
SUMMARY:GAA - SFL Division 3B v Parke (home)
DESCRIPTION:
URL:https://charlestown.ie/event/gaa-sfl-division-3b-v-parke-home/
LOCATION:Fr. O’ Hara Park\, Charlestown Sarsfields GAA Club\, Lowpark\, Charlestown\, Mayo
CATEGORIES:Community,Sport
ATTACH;FMTTYPE=image/jpeg:https://charlestown.ie/wp-content/uploads/2024/05/Club-fixture-7th-May-2024-1.jpg
END:VEVENT
BEGIN:VEVENT
DTSTART;TZID=Europe/Dublin:20240505T120000
DTEND;TZID=Europe/Dublin:20240505T120000
DTSTAMP:20260424T102219
CREATED:20240502T094116Z
LAST-MODIFIED:20240502T094116Z
UID:10000940-1714910400-1714910400@charlestown.ie
SUMMARY:GAA - Minor League Division 2 v Davitts (home)
DESCRIPTION:
URL:https://charlestown.ie/event/gaa-minor-league-division-2-v-davitts-home-2/
LOCATION:Fr. O’ Hara Park\, Charlestown Sarsfields GAA Club\, Lowpark\, Charlestown\, Mayo
CATEGORIES:Community,Schools,Sport
ATTACH;FMTTYPE=image/jpeg:https://charlestown.ie/wp-content/uploads/2024/05/Club-Fixture-1st-May-2024.jpg
END:VEVENT
BEGIN:VEVENT
DTSTART;TZID=Europe/Dublin:20240504T180000
DTEND;TZID=Europe/Dublin:20240504T180000
DTSTAMP:20260424T102219
CREATED:20240502T093904Z
LAST-MODIFIED:20240502T093904Z
UID:10000939-1714845600-1714845600@charlestown.ie
SUMMARY:GAA - Junior A Championship Group 1 v Ballina (home)
DESCRIPTION:
URL:https://charlestown.ie/event/gaa-junior-a-championship-group-1-v-ballina-home/
LOCATION:Fr. O’ Hara Park\, Charlestown Sarsfields GAA Club\, Lowpark\, Charlestown\, Mayo
CATEGORIES:Children,Community,Schools,Sport
ATTACH;FMTTYPE=image/jpeg:https://charlestown.ie/wp-content/uploads/2024/05/Club-Fixture-1st-May-2024.jpg
END:VEVENT
BEGIN:VEVENT
DTSTART;TZID=Europe/Dublin:20240502T190000
DTEND;TZID=Europe/Dublin:20240502T190000
DTSTAMP:20260424T102219
CREATED:20240502T093458Z
LAST-MODIFIED:20240502T093458Z
UID:10000937-1714676400-1714676400@charlestown.ie
SUMMARY:GAA - U16 League Division 2 v Ballaghaderreen (home)
DESCRIPTION:
URL:https://charlestown.ie/event/gaa-u16-league-division-2-v-ballaghaderreen-home/
LOCATION:Fr. O’ Hara Park\, Charlestown Sarsfields GAA Club\, Lowpark\, Charlestown\, Mayo
CATEGORIES:Children,Community,Schools,Sport
ATTACH;FMTTYPE=image/jpeg:https://charlestown.ie/wp-content/uploads/2024/05/Club-Fixture-1st-May-2024.jpg
END:VEVENT
BEGIN:VEVENT
DTSTART;TZID=Europe/Dublin:20240427T190000
DTEND;TZID=Europe/Dublin:20240427T190000
DTSTAMP:20260424T102219
CREATED:20240423T104313Z
LAST-MODIFIED:20240423T104313Z
UID:10000933-1714244400-1714244400@charlestown.ie
SUMMARY:GAA - SFL Division 1 v Davitts (home)
DESCRIPTION:
URL:https://charlestown.ie/event/gaa-sfl-division-1-v-davitts-home/
LOCATION:Fr. O’ Hara Park\, Charlestown Sarsfields GAA Club\, Lowpark\, Charlestown\, Mayo
CATEGORIES:Community,Sport
ATTACH;FMTTYPE=image/jpeg:https://charlestown.ie/wp-content/uploads/2024/04/Club-Fixture-23rd-April-2024.jpg
END:VEVENT
BEGIN:VEVENT
DTSTART;TZID=Europe/Dublin:20240427T110000
DTEND;TZID=Europe/Dublin:20240427T110000
DTSTAMP:20260424T102219
CREATED:20240423T103959Z
LAST-MODIFIED:20240423T103959Z
UID:10000932-1714215600-1714215600@charlestown.ie
SUMMARY:GAA - U14 Development League v Parke/Keelogues/Crimlin (home)
DESCRIPTION:
URL:https://charlestown.ie/event/gaa-u14-development-league-v-parke-keelogues-crimlin-home/
LOCATION:Fr. O’ Hara Park\, Charlestown Sarsfields GAA Club\, Lowpark\, Charlestown\, Mayo
CATEGORIES:Children,Community,Schools,Sport
ATTACH;FMTTYPE=image/jpeg:https://charlestown.ie/wp-content/uploads/2024/04/Club-Fixture-23rd-April-2024.jpg
END:VEVENT
BEGIN:VEVENT
DTSTART;TZID=Europe/Dublin:20240423T190000
DTEND;TZID=Europe/Dublin:20240423T190000
DTSTAMP:20260424T102219
CREATED:20240416T121916Z
LAST-MODIFIED:20240416T121916Z
UID:10000928-1713898800-1713898800@charlestown.ie
SUMMARY:GAA - Minor League Division 2 v Davitts (home)
DESCRIPTION:
URL:https://charlestown.ie/event/gaa-minor-league-division-2-v-davitts-home/
LOCATION:Fr. O’ Hara Park\, Charlestown Sarsfields GAA Club\, Lowpark\, Charlestown\, Mayo
CATEGORIES:Community,Schools,Sport
ATTACH;FMTTYPE=image/jpeg:https://charlestown.ie/wp-content/uploads/2015/06/Charlestown-Aerial-View.jpg
END:VEVENT
BEGIN:VEVENT
DTSTART;TZID=Europe/Dublin:20240422T190000
DTEND;TZID=Europe/Dublin:20240422T190000
DTSTAMP:20260424T102219
CREATED:20240416T122239Z
LAST-MODIFIED:20240416T122239Z
UID:10000929-1713812400-1713812400@charlestown.ie
SUMMARY:GAA U14 Division 3 v Belmullet (home)
DESCRIPTION:
URL:https://charlestown.ie/event/gaa-u14-division-3-v-belmullet-home/
LOCATION:Fr. O’ Hara Park\, Charlestown Sarsfields GAA Club\, Lowpark\, Charlestown\, Mayo
CATEGORIES:Community,Schools,Sport
ATTACH;FMTTYPE=image/jpeg:https://charlestown.ie/wp-content/uploads/2015/06/Charlestown-Aerial-View.jpg
END:VEVENT
BEGIN:VEVENT
DTSTART;TZID=Europe/Dublin:20240418T190000
DTEND;TZID=Europe/Dublin:20240418T190000
DTSTAMP:20260424T102219
CREATED:20240416T120630Z
LAST-MODIFIED:20240416T120952Z
UID:10000925-1713466800-1713466800@charlestown.ie
SUMMARY:GAA -  U16 Division 2 v Ardnaree Sarsfields (home)
DESCRIPTION:
URL:https://charlestown.ie/event/gaa-u16-division-2-v-ardnaree-sarsfields-home/
LOCATION:Fr. O’ Hara Park\, Charlestown Sarsfields GAA Club\, Lowpark\, Charlestown\, Mayo
CATEGORIES:Community,Schools,Sport
ATTACH;FMTTYPE=image/jpeg:https://charlestown.ie/wp-content/uploads/2024/04/Club-Fixture-15th-April-2024.jpg
END:VEVENT
BEGIN:VEVENT
DTSTART;TZID=Europe/Dublin:20240407T120000
DTEND;TZID=Europe/Dublin:20240407T120000
DTSTAMP:20260424T102219
CREATED:20240402T092331Z
LAST-MODIFIED:20240402T092331Z
UID:10000911-1712491200-1712491200@charlestown.ie
SUMMARY:GAA - East Mayo Centenary Cup v Ballaghaderreen (home)
DESCRIPTION:
URL:https://charlestown.ie/event/gaa-east-mayo-centenary-cup-v-ballaghaderreen-home/
LOCATION:Fr. O’ Hara Park\, Charlestown Sarsfields GAA Club\, Lowpark\, Charlestown\, Mayo
CATEGORIES:Community,Schools,Sport
ATTACH;FMTTYPE=image/jpeg:https://charlestown.ie/wp-content/uploads/2024/04/Club-Fixture-1st-April-2024.jpg
END:VEVENT
BEGIN:VEVENT
DTSTART;TZID=Europe/Dublin:20240330T110000
DTEND;TZID=Europe/Dublin:20240330T110000
DTSTAMP:20260424T102219
CREATED:20240326T114308Z
LAST-MODIFIED:20240327T105452Z
UID:10000908-1711796400-1711796400@charlestown.ie
SUMMARY:GAA - U14 Division 7 v Balla (home)
DESCRIPTION:
URL:https://charlestown.ie/event/gaa-u14-division-7-v-balla-home/
LOCATION:Fr. O’ Hara Park\, Charlestown Sarsfields GAA Club\, Lowpark\, Charlestown\, Mayo
CATEGORIES:Community,Schools,Sport
ATTACH;FMTTYPE=image/jpeg:https://charlestown.ie/wp-content/uploads/2024/03/Club-Fixtures-25th-March-2024-1.jpg
END:VEVENT
BEGIN:VEVENT
DTSTART;TZID=Europe/Dublin:20240317T110000
DTEND;TZID=Europe/Dublin:20240317T110000
DTSTAMP:20260424T102219
CREATED:20240312T141815Z
LAST-MODIFIED:20240312T141815Z
UID:10000892-1710673200-1710673200@charlestown.ie
SUMMARY:GAA - Minor League Division 2 v Ballina Stephenities (home)
DESCRIPTION:
URL:https://charlestown.ie/event/gaa-minor-league-division-2-v-ballina-stephenities-home/
LOCATION:Fr. O’ Hara Park\, Charlestown Sarsfields GAA Club\, Lowpark\, Charlestown\, Mayo
CATEGORIES:Community,Schools,Sport
ATTACH;FMTTYPE=image/jpeg:https://charlestown.ie/wp-content/uploads/2015/06/Charlestown-Aerial-View.jpg
END:VEVENT
BEGIN:VEVENT
DTSTART;TZID=Europe/Dublin:20240316T110000
DTEND;TZID=Europe/Dublin:20240316T110000
DTSTAMP:20260424T102219
CREATED:20240312T134650Z
LAST-MODIFIED:20240312T134650Z
UID:10000890-1710586800-1710586800@charlestown.ie
SUMMARY:GAA - U16 Division 2 v Breaffy (home)
DESCRIPTION:
URL:https://charlestown.ie/event/gaa-u16-division-2-v-breaffy-home/
LOCATION:Fr. O’ Hara Park\, Charlestown Sarsfields GAA Club\, Lowpark\, Charlestown\, Mayo
CATEGORIES:Children,Community,Schools,Sport
ATTACH;FMTTYPE=image/jpeg:https://charlestown.ie/wp-content/uploads/2015/06/Charlestown-Aerial-View.jpg
END:VEVENT
BEGIN:VEVENT
DTSTART;TZID=Europe/Dublin:20231105T120000
DTEND;TZID=Europe/Dublin:20231105T120000
DTSTAMP:20260424T102219
CREATED:20231102T122025Z
LAST-MODIFIED:20231102T122025Z
UID:10000801-1699185600-1699185600@charlestown.ie
SUMMARY:GAA - U21 C Championship Group 1 v Ballaghaderreen (home)
DESCRIPTION:
URL:https://charlestown.ie/event/gaa-u21-c-championship-group-1-v-ballaghaderreen-home/
LOCATION:Fr. O’ Hara Park\, Charlestown Sarsfields GAA Club\, Lowpark\, Charlestown\, Mayo
CATEGORIES:Adult Sport,Community,Sport
END:VEVENT
BEGIN:VEVENT
DTSTART;TZID=Europe/Dublin:20231007T160000
DTEND;TZID=Europe/Dublin:20231007T160000
DTSTAMP:20260424T102219
CREATED:20231004T104650Z
LAST-MODIFIED:20231004T135236Z
UID:10000772-1696694400-1696694400@charlestown.ie
SUMMARY:GAA U-13 Development Grading League v Swinford (home)
DESCRIPTION:
URL:https://charlestown.ie/event/u-13-development-grading-league-v-swinford-home/
LOCATION:Fr. O’ Hara Park\, Charlestown Sarsfields GAA Club\, Lowpark\, Charlestown\, Mayo
CATEGORIES:Community,Sport
END:VEVENT
BEGIN:VEVENT
DTSTART;TZID=Europe/Dublin:20230924T163000
DTEND;TZID=Europe/Dublin:20230924T163000
DTSTAMP:20260424T102219
CREATED:20230921T082716Z
LAST-MODIFIED:20230921T082716Z
UID:10000768-1695573000-1695573000@charlestown.ie
SUMMARY:U-15 B Group 2 Grading League v The Neale (home)
DESCRIPTION:
URL:https://charlestown.ie/event/u-15-b-group-2-grading-league-v-the-neale-home/
LOCATION:Fr. O’ Hara Park\, Charlestown Sarsfields GAA Club\, Lowpark\, Charlestown\, Mayo
CATEGORIES:Community,Sport
END:VEVENT
BEGIN:VEVENT
DTSTART;TZID=Europe/Dublin:20230921T183000
DTEND;TZID=Europe/Dublin:20230921T183000
DTSTAMP:20260424T102219
CREATED:20230921T081812Z
LAST-MODIFIED:20230921T081812Z
UID:10000766-1695321000-1695321000@charlestown.ie
SUMMARY:U-17 D Group 1 Grading League v Shrule-Glencorrib (home)
DESCRIPTION:
URL:https://charlestown.ie/event/u-17-d-group-1-grading-league-v-shrule-glencorrib-home/
LOCATION:Fr. O’ Hara Park\, Charlestown Sarsfields GAA Club\, Lowpark\, Charlestown\, Mayo
CATEGORIES:Community,Sport
END:VEVENT
BEGIN:VEVENT
DTSTART;TZID=Europe/Dublin:20230902T180000
DTEND;TZID=Europe/Dublin:20230902T180000
DTSTAMP:20260424T102219
CREATED:20230822T103224Z
LAST-MODIFIED:20230831T133423Z
UID:10000735-1693677600-1693677600@charlestown.ie
SUMMARY:GAA - Mayo Senior Football Championship v Claremorris (home)
DESCRIPTION:Senior Football Championship – Round 2 \n\n \n\nThe game is a ticket only event. Tickets must be purchased using the link below.\n\nhttps://www.universe.com/users/mayo-gaa-WTRP5B\n\n\nTickets prices\n\nAdults: €10\n\nOAP/Students: €8\nU-16’s/Kids: Free
URL:https://charlestown.ie/event/gaa-senior-football-championship-group-2-v-claremorris-home/
LOCATION:Fr. O’ Hara Park\, Charlestown Sarsfields GAA Club\, Lowpark\, Charlestown\, Mayo
CATEGORIES:Community,Sport
END:VEVENT
BEGIN:VEVENT
DTSTART;TZID=Europe/Dublin:20230816T190000
DTEND;TZID=Europe/Dublin:20230816T190000
DTSTAMP:20260424T102219
CREATED:20230815T101610Z
LAST-MODIFIED:20230815T101610Z
UID:10000726-1692212400-1692212400@charlestown.ie
SUMMARY:GAA U-12 Summer League v Hollymount-Carramore (home)
DESCRIPTION:
URL:https://charlestown.ie/event/gaa-u-12-summer-league-v-hollymount-carramore-home/
LOCATION:Fr. O’ Hara Park\, Charlestown Sarsfields GAA Club\, Lowpark\, Charlestown\, Mayo
CATEGORIES:Community,Sport
END:VEVENT
END:VCALENDAR