BEGIN:VCALENDAR
VERSION:2.0
PRODID:-//Charlestown - ECPv6.6.4.2//NONSGML v1.0//EN
CALSCALE:GREGORIAN
METHOD:PUBLISH
X-WR-CALNAME:Charlestown
X-ORIGINAL-URL:https://charlestown.ie
X-WR-CALDESC:Events for Charlestown
REFRESH-INTERVAL;VALUE=DURATION:PT1H
X-Robots-Tag:noindex
X-PUBLISHED-TTL:PT1H
BEGIN:VTIMEZONE
TZID:Europe/Dublin
BEGIN:DAYLIGHT
TZOFFSETFROM:+0000
TZOFFSETTO:+0100
TZNAME:IST
DTSTART:20250330T010000
END:DAYLIGHT
BEGIN:STANDARD
TZOFFSETFROM:+0100
TZOFFSETTO:+0000
TZNAME:GMT
DTSTART:20251026T010000
END:STANDARD
END:VTIMEZONE
BEGIN:VEVENT
DTSTART;TZID=Europe/Dublin:20250907T110000
DTEND;TZID=Europe/Dublin:20250907T123000
DTSTAMP:20260424T030614
CREATED:20250902T062850Z
LAST-MODIFIED:20250902T062850Z
UID:10002891-1757242800-1757248200@charlestown.ie
SUMMARY:GAA - U15 Grading League v Carras (home)
DESCRIPTION:
URL:https://charlestown.ie/event/gaa-u15-grading-league-v-carras-home/
LOCATION:Fr. O’ Hara Park\, Charlestown Sarsfields GAA Club\, Lowpark\, Charlestown\, Mayo
CATEGORIES:GAA- LGFA
ATTACH;FMTTYPE=image/jpeg:https://charlestown.ie/wp-content/uploads/2024/09/Screenshot_20240923_154557_Adobe-Acrobat.jpg
END:VEVENT
BEGIN:VEVENT
DTSTART;TZID=Europe/Dublin:20250906T110000
DTEND;TZID=Europe/Dublin:20250906T130000
DTSTAMP:20260424T030614
CREATED:20250901T205634Z
LAST-MODIFIED:20250901T205634Z
UID:10002882-1757156400-1757163600@charlestown.ie
SUMMARY:GAA - U13 Grading v Swinford(home)
DESCRIPTION:
URL:https://charlestown.ie/event/gaa-u13-grading-v-swinfordhome/
LOCATION:Fr. O’ Hara Park\, Charlestown Sarsfields GAA Club\, Lowpark\, Charlestown\, Mayo
CATEGORIES:GAA- LGFA
ATTACH;FMTTYPE=image/jpeg:https://charlestown.ie/wp-content/uploads/2024/09/Screenshot_20240923_154557_Adobe-Acrobat.jpg
END:VEVENT
BEGIN:VEVENT
DTSTART;TZID=Europe/Dublin:20250905T190000
DTEND;TZID=Europe/Dublin:20250905T203000
DTSTAMP:20260424T030614
CREATED:20250902T062256Z
LAST-MODIFIED:20250902T062256Z
UID:10002889-1757098800-1757104200@charlestown.ie
SUMMARY:LGFA - U15 Div1 League v Swinford (home)
DESCRIPTION:
URL:https://charlestown.ie/event/lgfa-u15-div1-league-v-swinford-home/
LOCATION:Fr. O’ Hara Park\, Charlestown Sarsfields GAA Club\, Lowpark\, Charlestown\, Mayo
CATEGORIES:GAA- LGFA
ATTACH;FMTTYPE=image/jpeg:https://charlestown.ie/wp-content/uploads/2024/09/LGFA-Gloves.jpg
END:VEVENT
BEGIN:VEVENT
DTSTART;TZID=Europe/Dublin:20250901T190000
DTEND;TZID=Europe/Dublin:20250901T203000
DTSTAMP:20260424T030614
CREATED:20250823T090810Z
LAST-MODIFIED:20250823T091013Z
UID:10002875-1756753200-1756758600@charlestown.ie
SUMMARY:GAA - U13 v Ballintubber (home)
DESCRIPTION:
URL:https://charlestown.ie/event/gaa-u13-v-ballintubber-home/
LOCATION:Charlestown Sarsfields GAA Club\, Lowpark\, Charlestown\, Mayo
CATEGORIES:GAA- LGFA
ATTACH;FMTTYPE=image/jpeg:https://charlestown.ie/wp-content/uploads/2024/09/Screenshot_20240923_154557_Adobe-Acrobat.jpg
END:VEVENT
BEGIN:VEVENT
DTSTART;TZID=Europe/Dublin:20250831T110000
DTEND;TZID=Europe/Dublin:20250831T123000
DTSTAMP:20260424T030614
CREATED:20250723T173938Z
LAST-MODIFIED:20250723T174242Z
UID:10002118-1756638000-1756643400@charlestown.ie
SUMMARY:LGFA - Senior C'ship v Carnacon (home)
DESCRIPTION:
URL:https://charlestown.ie/event/lgfa-seniors-v-carnacon-home/
LOCATION:Fr. O’ Hara Park\, Charlestown Sarsfields GAA Club\, Lowpark\, Charlestown\, Mayo
CATEGORIES:GAA- LGFA
ATTACH;FMTTYPE=image/jpeg:https://charlestown.ie/wp-content/uploads/2024/09/LGFA-Gloves.jpg
END:VEVENT
BEGIN:VEVENT
DTSTART;TZID=Europe/Dublin:20250827T190000
DTEND;TZID=Europe/Dublin:20250827T203000
DTSTAMP:20260424T030614
CREATED:20250813T221329Z
LAST-MODIFIED:20250813T221329Z
UID:10002145-1756321200-1756326600@charlestown.ie
SUMMARY:LGFA - U16 C'ship v Castlebar A(home)
DESCRIPTION:
URL:https://charlestown.ie/event/lgfa-u16-cship-v-castlebar-ahome/
LOCATION:Fr. O’ Hara Park\, Charlestown Sarsfields GAA Club\, Lowpark\, Charlestown\, Mayo
CATEGORIES:GAA- LGFA
ATTACH;FMTTYPE=image/jpeg:https://charlestown.ie/wp-content/uploads/2024/09/LGFA-Gloves.jpg
END:VEVENT
BEGIN:VEVENT
DTSTART;TZID=Europe/Dublin:20250824T150000
DTEND;TZID=Europe/Dublin:20250824T170000
DTSTAMP:20260424T030614
CREATED:20250807T112901Z
LAST-MODIFIED:20250807T112901Z
UID:10002136-1756047600-1756054800@charlestown.ie
SUMMARY:GAA - Senior C'ship Rd2 v Ballaghaderreen(home)
DESCRIPTION:
URL:https://charlestown.ie/event/gaa-senior-cship-rd2-v-ballaghaderreenhome/
LOCATION:Fr. O’ Hara Park\, Charlestown Sarsfields GAA Club\, Lowpark\, Charlestown\, Mayo
CATEGORIES:GAA- LGFA
ATTACH;FMTTYPE=image/jpeg:https://charlestown.ie/wp-content/uploads/2024/09/Screenshot_20240923_154557_Adobe-Acrobat.jpg
END:VEVENT
BEGIN:VEVENT
DTSTART;TZID=Europe/Dublin:20250820T190000
DTEND;TZID=Europe/Dublin:20250820T203000
DTSTAMP:20260424T030614
CREATED:20250813T221137Z
LAST-MODIFIED:20250813T221137Z
UID:10002144-1755716400-1755721800@charlestown.ie
SUMMARY:LGFA - U16 C'ship v Knockmore(home)
DESCRIPTION:
URL:https://charlestown.ie/event/lgfa-u16-cship-v-knockmorehome/
LOCATION:Fr. O’ Hara Park\, Charlestown Sarsfields GAA Club\, Lowpark\, Charlestown\, Mayo
CATEGORIES:GAA- LGFA
ATTACH;FMTTYPE=image/jpeg:https://charlestown.ie/wp-content/uploads/2024/09/LGFA-Gloves.jpg
END:VEVENT
BEGIN:VEVENT
DTSTART;TZID=Europe/Dublin:20250813T190000
DTEND;TZID=Europe/Dublin:20250813T203000
DTSTAMP:20260424T030614
CREATED:20250722T201131Z
LAST-MODIFIED:20250722T201131Z
UID:10002117-1755111600-1755117000@charlestown.ie
SUMMARY:GAA - U12 Summer League v Ballintubber(home)
DESCRIPTION:
URL:https://charlestown.ie/event/gaa-u12-summer-league-v-ballintubberhome/
LOCATION:Fr. O’ Hara Park\, Charlestown Sarsfields GAA Club\, Lowpark\, Charlestown\, Mayo
CATEGORIES:GAA- LGFA
ATTACH;FMTTYPE=image/jpeg:https://charlestown.ie/wp-content/uploads/2024/09/Screenshot_20240923_154557_Adobe-Acrobat.jpg
END:VEVENT
BEGIN:VEVENT
DTSTART;TZID=Europe/Dublin:20250811T190000
DTEND;TZID=Europe/Dublin:20250811T203000
DTSTAMP:20260424T030614
CREATED:20250801T192258Z
LAST-MODIFIED:20250801T192258Z
UID:10002133-1754938800-1754944200@charlestown.ie
SUMMARY:GAA - U14 'B' C'ship Shield Semi Final v Louisburg(home)
DESCRIPTION:
URL:https://charlestown.ie/event/gaa-u14-b-cship-shield-semi-final-v-louisburghome/
LOCATION:Fr. O’ Hara Park\, Charlestown Sarsfields GAA Club\, Lowpark\, Charlestown\, Mayo
CATEGORIES:GAA- LGFA
ATTACH;FMTTYPE=image/jpeg:https://charlestown.ie/wp-content/uploads/2024/09/Screenshot_20240923_154557_Adobe-Acrobat.jpg
END:VEVENT
BEGIN:VEVENT
DTSTART;TZID=Europe/Dublin:20250810T110000
DTEND;TZID=Europe/Dublin:20250810T130000
DTSTAMP:20260424T030614
CREATED:20250801T191936Z
LAST-MODIFIED:20250801T191936Z
UID:10002132-1754823600-1754830800@charlestown.ie
SUMMARY:GAA - U16 Dev C'ship v Ballintubber (home)
DESCRIPTION:
URL:https://charlestown.ie/event/gaa-u16-dev-cship-v-ballintubber-home/
LOCATION:Fr. O’ Hara Park\, Charlestown Sarsfields GAA Club\, Lowpark\, Charlestown\, Mayo
CATEGORIES:GAA- LGFA
ATTACH;FMTTYPE=image/jpeg:https://charlestown.ie/wp-content/uploads/2024/09/Screenshot_20240923_154557_Adobe-Acrobat.jpg
END:VEVENT
BEGIN:VEVENT
DTSTART;TZID=Europe/Dublin:20250809T190000
DTEND;TZID=Europe/Dublin:20250809T203000
DTSTAMP:20260424T030614
CREATED:20250801T191733Z
LAST-MODIFIED:20250801T192025Z
UID:10002131-1754766000-1754771400@charlestown.ie
SUMMARY:GAA - U14 Dev C'ship v Cill Chomain (home)
DESCRIPTION:
URL:https://charlestown.ie/event/gaa-u14-dev-league-v-cill-chomain-home/
LOCATION:Fr. O’ Hara Park\, Charlestown Sarsfields GAA Club\, Lowpark\, Charlestown\, Mayo
CATEGORIES:GAA- LGFA
ATTACH;FMTTYPE=image/jpeg:https://charlestown.ie/wp-content/uploads/2024/09/Screenshot_20240923_154557_Adobe-Acrobat.jpg
END:VEVENT
BEGIN:VEVENT
DTSTART;TZID=Europe/Dublin:20250729T190000
DTEND;TZID=Europe/Dublin:20250729T203000
DTSTAMP:20260424T030614
CREATED:20250721T162834Z
LAST-MODIFIED:20250721T162834Z
UID:10002113-1753815600-1753821000@charlestown.ie
SUMMARY:GAA - Minor D C'ship v Kilmeena(home)
DESCRIPTION:
URL:https://charlestown.ie/event/gaa-minor-d-cship-v-kilmeenahome/
LOCATION:Fr. O’ Hara Park\, Charlestown Sarsfields GAA Club\, Lowpark\, Charlestown\, Mayo
CATEGORIES:GAA- LGFA
ATTACH;FMTTYPE=image/jpeg:https://charlestown.ie/wp-content/uploads/2024/09/Screenshot_20240923_154557_Adobe-Acrobat.jpg
END:VEVENT
BEGIN:VEVENT
DTSTART;TZID=Europe/Dublin:20250728T190000
DTEND;TZID=Europe/Dublin:20250728T203000
DTSTAMP:20260424T030614
CREATED:20250721T162704Z
LAST-MODIFIED:20250721T162704Z
UID:10002112-1753729200-1753734600@charlestown.ie
SUMMARY:GAA - U14 B C'ship v Burrishoole (home)
DESCRIPTION:
URL:https://charlestown.ie/event/gaa-u14-b-cship-v-burrishoole-home/
LOCATION:Fr. O’ Hara Park\, Charlestown Sarsfields GAA Club\, Lowpark\, Charlestown\, Mayo
CATEGORIES:GAA- LGFA
ATTACH;FMTTYPE=image/jpeg:https://charlestown.ie/wp-content/uploads/2024/09/Screenshot_20240923_154557_Adobe-Acrobat.jpg
END:VEVENT
BEGIN:VEVENT
DTSTART;TZID=Europe/Dublin:20250726T110000
DTEND;TZID=Europe/Dublin:20250726T130000
DTSTAMP:20260424T030614
CREATED:20250721T155829Z
LAST-MODIFIED:20250721T155829Z
UID:10002102-1753527600-1753534800@charlestown.ie
SUMMARY:GAA - U12 Summer League v Breaffy (home)
DESCRIPTION:
URL:https://charlestown.ie/event/gaa-u12-summer-league-v-breaffy-home/
LOCATION:Charlestown Sarsfields GAA Club\, Lowpark\, Charlestown\, Mayo
CATEGORIES:GAA- LGFA
ATTACH;FMTTYPE=image/jpeg:https://charlestown.ie/wp-content/uploads/2024/09/Screenshot_20240923_154557_Adobe-Acrobat.jpg
END:VEVENT
BEGIN:VEVENT
DTSTART;TZID=Europe/Dublin:20250724T190000
DTEND;TZID=Europe/Dublin:20250724T200000
DTSTAMP:20260424T030614
CREATED:20250721T160603Z
LAST-MODIFIED:20250721T160603Z
UID:10002104-1753383600-1753387200@charlestown.ie
SUMMARY:GAA - U16 'A' C'ship v Breaffy (home)
DESCRIPTION:
URL:https://charlestown.ie/event/gaa-u16-a-cship-v-breaffy-home/
LOCATION:Charlestown Sarsfields GAA Club\, Lowpark\, Charlestown\, Mayo
CATEGORIES:GAA- LGFA
ATTACH;FMTTYPE=image/jpeg:https://charlestown.ie/wp-content/uploads/2024/09/Screenshot_20240923_154557_Adobe-Acrobat.jpg
END:VEVENT
BEGIN:VEVENT
DTSTART;TZID=Europe/Dublin:20250722T190000
DTEND;TZID=Europe/Dublin:20250722T203000
DTSTAMP:20260424T030614
CREATED:20250630T163346Z
LAST-MODIFIED:20250721T160308Z
UID:10002080-1753210800-1753216200@charlestown.ie
SUMMARY:GAA - Minor C'ship v Swinford (away)
DESCRIPTION:
URL:https://charlestown.ie/event/gaa-minor-east-mayo-cship-v-moy-davitts-home/
LOCATION:Fr. O’ Hara Park\, Charlestown Sarsfields GAA Club\, Lowpark\, Charlestown\, Mayo
CATEGORIES:GAA- LGFA
ATTACH;FMTTYPE=image/jpeg:https://charlestown.ie/wp-content/uploads/2024/09/Screenshot_20240923_154557_Adobe-Acrobat.jpg
END:VEVENT
BEGIN:VEVENT
DTSTART;TZID=Europe/Dublin:20250713T110000
DTEND;TZID=Europe/Dublin:20250713T130000
DTSTAMP:20260424T030614
CREATED:20250708T213000Z
LAST-MODIFIED:20250708T213413Z
UID:10002088-1752404400-1752411600@charlestown.ie
SUMMARY:LGFA - Senior Ladies League v Hollymount (Home)
DESCRIPTION:
URL:https://charlestown.ie/event/lgfa-senior-ladies-league-v-hollymount-home/
LOCATION:Fr. O’ Hara Park\, Charlestown Sarsfields GAA Club\, Lowpark\, Charlestown\, Mayo
ATTACH;FMTTYPE=image/jpeg:https://charlestown.ie/wp-content/uploads/2024/09/LGFA-Gloves.jpg
END:VEVENT
BEGIN:VEVENT
DTSTART;TZID=Europe/Dublin:20250712T190000
DTEND;TZID=Europe/Dublin:20250712T200000
DTSTAMP:20260424T030614
CREATED:20250708T214013Z
LAST-MODIFIED:20250710T014038Z
UID:10002091-1752346800-1752350400@charlestown.ie
SUMMARY:GAA - Seniors League v Ardnaree (home)
DESCRIPTION:
URL:https://charlestown.ie/event/gaa-seniors-league-v-ardnaree-home/
LOCATION:Fr. O’ Hara Park\, Charlestown Sarsfields GAA Club\, Lowpark\, Charlestown\, Mayo
CATEGORIES:GAA- LGFA
ATTACH;FMTTYPE=image/jpeg:https://charlestown.ie/wp-content/uploads/2024/09/Screenshot_20240919_200230_Facebook.jpg
ORGANIZER;CN="Charlestown Sarsfields GAA":MAILTO:secretary.charlestown.mayo@gaa.ie
END:VEVENT
BEGIN:VEVENT
DTSTART;TZID=Europe/Dublin:20250704T190000
DTEND;TZID=Europe/Dublin:20250704T203000
DTSTAMP:20260424T030614
CREATED:20250630T164122Z
LAST-MODIFIED:20250630T164122Z
UID:10002082-1751655600-1751661000@charlestown.ie
SUMMARY:GAA - U14 East Mayo C'ship v Ballaghaderreen (Home)
DESCRIPTION:
URL:https://charlestown.ie/event/gaa-u14-east-mayo-cship-v-ballaghaderreen-home/
LOCATION:Fr. O’ Hara Park\, Charlestown Sarsfields GAA Club\, Lowpark\, Charlestown\, Mayo
CATEGORIES:GAA- LGFA
ATTACH;FMTTYPE=image/jpeg:https://charlestown.ie/wp-content/uploads/2024/09/Screenshot_20240923_154557_Adobe-Acrobat.jpg
END:VEVENT
BEGIN:VEVENT
DTSTART;TZID=Europe/Dublin:20250702T190000
DTEND;TZID=Europe/Dublin:20250702T203000
DTSTAMP:20260424T030614
CREATED:20250701T184240Z
LAST-MODIFIED:20250701T184240Z
UID:10002084-1751482800-1751488200@charlestown.ie
SUMMARY:LGFA - U18 C'ship v Knockmore (home)
DESCRIPTION:
URL:https://charlestown.ie/event/lgfa-u18-cship-v-knockmore-home/
LOCATION:Fr. O’ Hara Park\, Charlestown Sarsfields GAA Club\, Lowpark\, Charlestown\, Mayo
CATEGORIES:GAA- LGFA
ATTACH;FMTTYPE=image/jpeg:https://charlestown.ie/wp-content/uploads/2024/09/LGFA-Gloves.jpg
END:VEVENT
BEGIN:VEVENT
DTSTART;TZID=Europe/Dublin:20250629T110000
DTEND;TZID=Europe/Dublin:20250629T130000
DTSTAMP:20260424T030614
CREATED:20250626T171836Z
LAST-MODIFIED:20250626T171836Z
UID:10002077-1751194800-1751202000@charlestown.ie
SUMMARY:LGFA - Senior Ladies v Burrishoole (home)
DESCRIPTION:
URL:https://charlestown.ie/event/lgfa-senior-ladies-v-burrishoole-home/
LOCATION:Fr. O’ Hara Park\, Charlestown Sarsfields GAA Club\, Lowpark\, Charlestown\, Mayo
CATEGORIES:GAA- LGFA
ATTACH;FMTTYPE=image/jpeg:https://charlestown.ie/wp-content/uploads/2023/05/LGFA-Logo.jpg
END:VEVENT
BEGIN:VEVENT
DTSTART;TZID=Europe/Dublin:20250628T110000
DTEND;TZID=Europe/Dublin:20250628T130000
DTSTAMP:20260424T030614
CREATED:20250624T090445Z
LAST-MODIFIED:20250624T090445Z
UID:10002074-1751108400-1751115600@charlestown.ie
SUMMARY:GAA - U14 Dev C'ship v Kilmovee (home)
DESCRIPTION:
URL:https://charlestown.ie/event/gaa-u14-dev-cship-v-kilmovee-home/
LOCATION:Fr. O’ Hara Park\, Charlestown Sarsfields GAA Club\, Lowpark\, Charlestown\, Mayo
CATEGORIES:GAA- LGFA
ATTACH;FMTTYPE=image/jpeg:https://charlestown.ie/wp-content/uploads/2024/09/Screenshot_20240923_154557_Adobe-Acrobat.jpg
END:VEVENT
BEGIN:VEVENT
DTSTART;TZID=Europe/Dublin:20250625T190000
DTEND;TZID=Europe/Dublin:20250625T203000
DTSTAMP:20260424T030614
CREATED:20250615T235049Z
LAST-MODIFIED:20250615T235049Z
UID:10002067-1750878000-1750883400@charlestown.ie
SUMMARY:GAA - U12 Div1 Summer League v Westport ( home)
DESCRIPTION:
URL:https://charlestown.ie/event/gaa-u12-div1-summer-league-v-westport-home/
LOCATION:Fr. O’ Hara Park\, Charlestown Sarsfields GAA Club\, Lowpark\, Charlestown\, Mayo
CATEGORIES:GAA- LGFA
ATTACH;FMTTYPE=image/jpeg:https://charlestown.ie/wp-content/uploads/2024/09/Screenshot_20240923_154557_Adobe-Acrobat.jpg
END:VEVENT
BEGIN:VEVENT
DTSTART;TZID=Europe/Dublin:20250620T190000
DTEND;TZID=Europe/Dublin:20250620T203000
DTSTAMP:20260424T030614
CREATED:20250530T214437Z
LAST-MODIFIED:20250530T214437Z
UID:10002053-1750446000-1750451400@charlestown.ie
SUMMARY:GAA - SFL Senior League Division1A v Breaffy (home)
DESCRIPTION:
URL:https://charlestown.ie/event/gaa-sfl-senior-league-division1a-v-breaffy-home/
LOCATION:Fr. O’ Hara Park\, Charlestown Sarsfields GAA Club\, Lowpark\, Charlestown\, Mayo
CATEGORIES:GAA- LGFA
ATTACH;FMTTYPE=image/jpeg:https://charlestown.ie/wp-content/uploads/2024/09/Screenshot_20240919_200230_Facebook.jpg
ORGANIZER;CN="Charlestown Sarsfields GAA":MAILTO:secretary.charlestown.mayo@gaa.ie
END:VEVENT
BEGIN:VEVENT
DTSTART;TZID=Europe/Dublin:20250616T190000
DTEND;TZID=Europe/Dublin:20250616T203000
DTSTAMP:20260424T030614
CREATED:20250615T230425Z
LAST-MODIFIED:20250615T230940Z
UID:10002063-1750100400-1750105800@charlestown.ie
SUMMARY:GAA - U14 A Championship v Moy Davitts ( Home)
DESCRIPTION:
URL:https://charlestown.ie/event/gaa-u14-league-v-moy-davitts-home/
LOCATION:Fr. O’ Hara Park\, Charlestown Sarsfields GAA Club\, Lowpark\, Charlestown\, Mayo
CATEGORIES:GAA- LGFA
ATTACH;FMTTYPE=image/jpeg:https://charlestown.ie/wp-content/uploads/2024/09/Screenshot_20240923_154557_Adobe-Acrobat.jpg
END:VEVENT
BEGIN:VEVENT
DTSTART;TZID=Europe/Dublin:20250607T190000
DTEND;TZID=Europe/Dublin:20250607T200000
DTSTAMP:20260424T030614
CREATED:20250530T214201Z
LAST-MODIFIED:20250530T214201Z
UID:10002052-1749322800-1749326400@charlestown.ie
SUMMARY:GAA - SFL Senior League Division 1A v Parke (home)
DESCRIPTION:
URL:https://charlestown.ie/event/gaa-sfl-senior-league-division-1a-v-parke-home/
LOCATION:Fr. O’ Hara Park\, Charlestown Sarsfields GAA Club\, Lowpark\, Charlestown\, Mayo
CATEGORIES:GAA- LGFA
ATTACH;FMTTYPE=image/jpeg:https://charlestown.ie/wp-content/uploads/2024/09/Screenshot_20240919_200230_Facebook.jpg
ORGANIZER;CN="Charlestown Sarsfields GAA":MAILTO:secretary.charlestown.mayo@gaa.ie
END:VEVENT
BEGIN:VEVENT
DTSTART;TZID=Europe/Dublin:20250602T190000
DTEND;TZID=Europe/Dublin:20250602T203000
DTSTAMP:20260424T030614
CREATED:20250530T213731Z
LAST-MODIFIED:20250530T213731Z
UID:10002051-1748890800-1748896200@charlestown.ie
SUMMARY:GAA - U14 Div3 League Semi Final v Ardnaree (Home)
DESCRIPTION:
URL:https://charlestown.ie/event/gaa-u14-div3-league-semi-final-v-ardnaree-home/
LOCATION:Fr. O’ Hara Park\, Charlestown Sarsfields GAA Club\, Lowpark\, Charlestown\, Mayo
CATEGORIES:GAA- LGFA
ATTACH;FMTTYPE=image/jpeg:https://charlestown.ie/wp-content/uploads/2024/09/Screenshot_20240923_154557_Adobe-Acrobat.jpg
END:VEVENT
BEGIN:VEVENT
DTSTART;TZID=Europe/Dublin:20250528T190000
DTEND;TZID=Europe/Dublin:20250528T203000
DTSTAMP:20260424T030614
CREATED:20250521T210754Z
LAST-MODIFIED:20250521T210754Z
UID:10001975-1748458800-1748464200@charlestown.ie
SUMMARY:GAA - U12 Spring League v Aghamore (home)
DESCRIPTION:
URL:https://charlestown.ie/event/gaa-u12-spring-league-v-aghamore-home-2/
LOCATION:Fr. O’ Hara Park\, Charlestown Sarsfields GAA Club\, Lowpark\, Charlestown\, Mayo
CATEGORIES:GAA- LGFA
ATTACH;FMTTYPE=image/jpeg:https://charlestown.ie/wp-content/uploads/2024/09/Screenshot_20240923_154557_Adobe-Acrobat.jpg
END:VEVENT
BEGIN:VEVENT
DTSTART;TZID=Europe/Dublin:20250528T190000
DTEND;TZID=Europe/Dublin:20250528T200000
DTSTAMP:20260424T030614
CREATED:20250527T063308Z
LAST-MODIFIED:20250527T063308Z
UID:10001979-1748458800-1748462400@charlestown.ie
SUMMARY:GAA - U12 Spring League v Aghamore (home)
DESCRIPTION:
URL:https://charlestown.ie/event/gaa-u12-spring-league-v-aghamore-home-3/
LOCATION:Fr. O’ Hara Park\, Charlestown Sarsfields GAA Club\, Lowpark\, Charlestown\, Mayo
CATEGORIES:GAA- LGFA
ATTACH;FMTTYPE=image/jpeg:https://charlestown.ie/wp-content/uploads/2024/09/Screenshot_20240923_154557_Adobe-Acrobat.jpg
END:VEVENT
END:VCALENDAR