BEGIN:VCALENDAR
VERSION:2.0
PRODID:-//Charlestown - ECPv6.6.4.2//NONSGML v1.0//EN
CALSCALE:GREGORIAN
METHOD:PUBLISH
X-WR-CALNAME:Charlestown
X-ORIGINAL-URL:https://charlestown.ie
X-WR-CALDESC:Events for Charlestown
REFRESH-INTERVAL;VALUE=DURATION:PT1H
X-Robots-Tag:noindex
X-PUBLISHED-TTL:PT1H
BEGIN:VTIMEZONE
TZID:Europe/Dublin
BEGIN:DAYLIGHT
TZOFFSETFROM:+0000
TZOFFSETTO:+0100
TZNAME:IST
DTSTART:20230326T010000
END:DAYLIGHT
BEGIN:STANDARD
TZOFFSETFROM:+0100
TZOFFSETTO:+0000
TZNAME:GMT
DTSTART:20231029T010000
END:STANDARD
END:VTIMEZONE
BEGIN:VEVENT
DTSTART;TZID=Europe/Dublin:20230812T110000
DTEND;TZID=Europe/Dublin:20230812T110000
DTSTAMP:20260424T143628
CREATED:20230808T095956Z
LAST-MODIFIED:20230808T100108Z
UID:10000723-1691838000-1691838000@charlestown.ie
SUMMARY:GAA - East Mayo U14 C Championship v Swinford (home)
DESCRIPTION:
URL:https://charlestown.ie/event/gaa-east-mayo-u14-c-championship-v-swinford-home/
LOCATION:Fr. O’ Hara Park\, Charlestown Sarsfields GAA Club\, Lowpark\, Charlestown\, Mayo
CATEGORIES:Community,Sport
END:VEVENT
BEGIN:VEVENT
DTSTART;TZID=Europe/Dublin:20230514T120000
DTEND;TZID=Europe/Dublin:20230514T120000
DTSTAMP:20260424T143628
CREATED:20230509T064302Z
LAST-MODIFIED:20230509T064302Z
UID:10000611-1684065600-1684065600@charlestown.ie
SUMMARY:GAA - SFL Division 3B v Westport (home)
DESCRIPTION:
URL:https://charlestown.ie/event/gaa-sfl-division-3b-v-westport-home/
LOCATION:Fr. O’ Hara Park\, Charlestown Sarsfields GAA Club\, Lowpark\, Charlestown\, Mayo
CATEGORIES:Community,Sport
END:VEVENT
BEGIN:VEVENT
DTSTART;TZID=Europe/Dublin:20230513T110000
DTEND;TZID=Europe/Dublin:20230513T110000
DTSTAMP:20260424T143628
CREATED:20230509T063556Z
LAST-MODIFIED:20230509T063556Z
UID:10000609-1683975600-1683975600@charlestown.ie
SUMMARY:GAA - U14 League v Belmullet (home)
DESCRIPTION:
URL:https://charlestown.ie/event/gaa-u14-league-v-belmullet-home/
LOCATION:Fr. O’ Hara Park\, Charlestown Sarsfields GAA Club\, Lowpark\, Charlestown\, Mayo
CATEGORIES:Community,Sport
END:VEVENT
BEGIN:VEVENT
DTSTART;TZID=Europe/Dublin:20230422T183000
DTEND;TZID=Europe/Dublin:20230422T183000
DTSTAMP:20260424T143628
CREATED:20230419T095447Z
LAST-MODIFIED:20230419T095447Z
UID:10000587-1682188200-1682188200@charlestown.ie
SUMMARY:GAA - Michael Walsh Senior Cup - Charlestown v Ballintubber (home)
DESCRIPTION:
URL:https://charlestown.ie/event/gaa-michael-walsh-senior-cup-charlestown-v-ballintubber-home/
LOCATION:Fr. O’ Hara Park\, Charlestown Sarsfields GAA Club\, Lowpark\, Charlestown\, Mayo
CATEGORIES:Sport
END:VEVENT
END:VCALENDAR