BEGIN:VCALENDAR
VERSION:2.0
PRODID:-//Charlestown - ECPv6.6.4.2//NONSGML v1.0//EN
CALSCALE:GREGORIAN
METHOD:PUBLISH
X-WR-CALNAME:Charlestown
X-ORIGINAL-URL:https://charlestown.ie
X-WR-CALDESC:Events for Charlestown
REFRESH-INTERVAL;VALUE=DURATION:PT1H
X-Robots-Tag:noindex
X-PUBLISHED-TTL:PT1H
BEGIN:VTIMEZONE
TZID:Europe/Dublin
BEGIN:DAYLIGHT
TZOFFSETFROM:+0000
TZOFFSETTO:+0100
TZNAME:IST
DTSTART:20230326T010000
END:DAYLIGHT
BEGIN:STANDARD
TZOFFSETFROM:+0100
TZOFFSETTO:+0000
TZNAME:GMT
DTSTART:20231029T010000
END:STANDARD
END:VTIMEZONE
BEGIN:VEVENT
DTSTART;TZID=Europe/Dublin:20230419T191500
DTEND;TZID=Europe/Dublin:20230419T191500
DTSTAMP:20260424T004934
CREATED:20230418T122858Z
LAST-MODIFIED:20230418T122858Z
UID:10000583-1681931700-1681931700@charlestown.ie
SUMMARY:GAA - U12 League v Bohola Moy Davitts (away)
DESCRIPTION:
URL:https://charlestown.ie/event/gaa-u12-league-v-bohola-moy-davitts-away/
LOCATION:Foxford Pitch
END:VEVENT
END:VCALENDAR