BEGIN:VCALENDAR
VERSION:2.0
PRODID:-//Charlestown - ECPv6.6.4.2//NONSGML v1.0//EN
CALSCALE:GREGORIAN
METHOD:PUBLISH
X-WR-CALNAME:Charlestown
X-ORIGINAL-URL:https://charlestown.ie
X-WR-CALDESC:Events for Charlestown
REFRESH-INTERVAL;VALUE=DURATION:PT1H
X-Robots-Tag:noindex
X-PUBLISHED-TTL:PT1H
BEGIN:VTIMEZONE
TZID:Europe/Dublin
BEGIN:DAYLIGHT
TZOFFSETFROM:+0000
TZOFFSETTO:+0100
TZNAME:IST
DTSTART:20230326T010000
END:DAYLIGHT
BEGIN:STANDARD
TZOFFSETFROM:+0100
TZOFFSETTO:+0000
TZNAME:GMT
DTSTART:20231029T010000
END:STANDARD
END:VTIMEZONE
BEGIN:VEVENT
DTSTART;TZID=Europe/Dublin:20230513T190000
DTEND;TZID=Europe/Dublin:20230513T190000
DTSTAMP:20260424T005312
CREATED:20230509T064022Z
LAST-MODIFIED:20230509T064022Z
UID:10000610-1684004400-1684004400@charlestown.ie
SUMMARY:GAA - SFL Division 1A v Claremorris (away)
DESCRIPTION:
URL:https://charlestown.ie/event/gaa-sfl-division-1a-v-claremorris-away/
LOCATION:Claremorris Pitch
END:VEVENT
END:VCALENDAR