BEGIN:VCALENDAR
VERSION:2.0
PRODID:-//Charlestown - ECPv6.6.4.2//NONSGML v1.0//EN
CALSCALE:GREGORIAN
METHOD:PUBLISH
X-WR-CALNAME:Charlestown
X-ORIGINAL-URL:https://charlestown.ie
X-WR-CALDESC:Events for Charlestown
REFRESH-INTERVAL;VALUE=DURATION:PT1H
X-Robots-Tag:noindex
X-PUBLISHED-TTL:PT1H
BEGIN:VTIMEZONE
TZID:Europe/Dublin
BEGIN:DAYLIGHT
TZOFFSETFROM:+0000
TZOFFSETTO:+0100
TZNAME:IST
DTSTART:20250330T010000
END:DAYLIGHT
BEGIN:STANDARD
TZOFFSETFROM:+0100
TZOFFSETTO:+0000
TZNAME:GMT
DTSTART:20251026T010000
END:STANDARD
END:VTIMEZONE
BEGIN:VEVENT
DTSTART;TZID=Europe/Dublin:20251010T120000
DTEND;TZID=Europe/Dublin:20251010T130000
DTSTAMP:20260424T072343
CREATED:20250924T153354Z
LAST-MODIFIED:20250924T153626Z
UID:10002915-1760097600-1760101200@charlestown.ie
SUMMARY:Exercise Class - Come along & give it a try
DESCRIPTION:
URL:https://charlestown.ie/event/exercise-class-come-along-give-it-a-try/2025-10-10/
LOCATION:Charlestown Arts Centre
CATEGORIES:Exercise Class
ATTACH;FMTTYPE=image/jpeg:https://charlestown.ie/wp-content/uploads/2025/09/Screenshot_20250924_162929_WhatsApp.jpg
END:VEVENT
BEGIN:VEVENT
DTSTART;TZID=Europe/Dublin:20251008T110000
DTEND;TZID=Europe/Dublin:20251008T130000
DTSTAMP:20260424T072343
CREATED:20250819T203259Z
LAST-MODIFIED:20250819T203259Z
UID:10002187-1759921200-1759928400@charlestown.ie
SUMMARY:Adult Arts & Crafts Group
DESCRIPTION:
URL:https://charlestown.ie/event/adult-arts-crafts-group/2025-10-08/
LOCATION:Charlestown Arts Centre
ATTACH;FMTTYPE=image/heic:https://charlestown.ie/wp-content/uploads/2025/08/20250819_175055.heic
END:VEVENT
BEGIN:VEVENT
DTSTART;TZID=Europe/Dublin:20251007T191500
DTEND;TZID=Europe/Dublin:20251007T201500
DTSTAMP:20260424T072343
CREATED:20250820T123631Z
LAST-MODIFIED:20250820T123631Z
UID:10002446-1759864500-1759868100@charlestown.ie
SUMMARY:Yoga with Trish
DESCRIPTION:
URL:https://charlestown.ie/event/yoga-with-trish/2025-10-07/
LOCATION:Charlestown Arts Centre
ATTACH;FMTTYPE=image/jpeg:https://charlestown.ie/wp-content/uploads/2025/08/Screenshot_20250819_162049_Canva.jpg
END:VEVENT
BEGIN:VEVENT
DTSTART;TZID=Europe/Dublin:20251001T110000
DTEND;TZID=Europe/Dublin:20251001T130000
DTSTAMP:20260424T072343
CREATED:20250819T203259Z
LAST-MODIFIED:20250819T203259Z
UID:10002186-1759316400-1759323600@charlestown.ie
SUMMARY:Adult Arts & Crafts Group
DESCRIPTION:
URL:https://charlestown.ie/event/adult-arts-crafts-group/2025-10-01/
LOCATION:Charlestown Arts Centre
ATTACH;FMTTYPE=image/heic:https://charlestown.ie/wp-content/uploads/2025/08/20250819_175055.heic
END:VEVENT
BEGIN:VEVENT
DTSTART;TZID=Europe/Dublin:20250930T191500
DTEND;TZID=Europe/Dublin:20250930T201500
DTSTAMP:20260424T072343
CREATED:20250820T123631Z
LAST-MODIFIED:20250820T123631Z
UID:10002445-1759259700-1759263300@charlestown.ie
SUMMARY:Yoga with Trish
DESCRIPTION:
URL:https://charlestown.ie/event/yoga-with-trish/2025-09-30/
LOCATION:Charlestown Arts Centre
ATTACH;FMTTYPE=image/jpeg:https://charlestown.ie/wp-content/uploads/2025/08/Screenshot_20250819_162049_Canva.jpg
END:VEVENT
BEGIN:VEVENT
DTSTART;TZID=Europe/Dublin:20250926T120000
DTEND;TZID=Europe/Dublin:20250926T130000
DTSTAMP:20260424T072343
CREATED:20250924T153354Z
LAST-MODIFIED:20250924T153626Z
UID:10002914-1758888000-1758891600@charlestown.ie
SUMMARY:Exercise Class - Come along & give it a try
DESCRIPTION:
URL:https://charlestown.ie/event/exercise-class-come-along-give-it-a-try/2025-09-26/
LOCATION:Charlestown Arts Centre
CATEGORIES:Exercise Class
ATTACH;FMTTYPE=image/jpeg:https://charlestown.ie/wp-content/uploads/2025/09/Screenshot_20250924_162929_WhatsApp.jpg
END:VEVENT
BEGIN:VEVENT
DTSTART;TZID=Europe/Dublin:20250924T110000
DTEND;TZID=Europe/Dublin:20250924T130000
DTSTAMP:20260424T072343
CREATED:20250819T203259Z
LAST-MODIFIED:20250819T203259Z
UID:10002185-1758711600-1758718800@charlestown.ie
SUMMARY:Adult Arts & Crafts Group
DESCRIPTION:
URL:https://charlestown.ie/event/adult-arts-crafts-group/2025-09-24/
LOCATION:Charlestown Arts Centre
ATTACH;FMTTYPE=image/heic:https://charlestown.ie/wp-content/uploads/2025/08/20250819_175055.heic
END:VEVENT
BEGIN:VEVENT
DTSTART;TZID=Europe/Dublin:20250923T191500
DTEND;TZID=Europe/Dublin:20250923T201500
DTSTAMP:20260424T072343
CREATED:20250820T123631Z
LAST-MODIFIED:20250820T123631Z
UID:10002444-1758654900-1758658500@charlestown.ie
SUMMARY:Yoga with Trish
DESCRIPTION:
URL:https://charlestown.ie/event/yoga-with-trish/2025-09-23/
LOCATION:Charlestown Arts Centre
ATTACH;FMTTYPE=image/jpeg:https://charlestown.ie/wp-content/uploads/2025/08/Screenshot_20250819_162049_Canva.jpg
END:VEVENT
BEGIN:VEVENT
DTSTART;TZID=Europe/Dublin:20250917T110000
DTEND;TZID=Europe/Dublin:20250917T130000
DTSTAMP:20260424T072343
CREATED:20250819T203259Z
LAST-MODIFIED:20250819T203259Z
UID:10002184-1758106800-1758114000@charlestown.ie
SUMMARY:Adult Arts & Crafts Group
DESCRIPTION:
URL:https://charlestown.ie/event/adult-arts-crafts-group/2025-09-17/
LOCATION:Charlestown Arts Centre
ATTACH;FMTTYPE=image/heic:https://charlestown.ie/wp-content/uploads/2025/08/20250819_175055.heic
END:VEVENT
BEGIN:VEVENT
DTSTART;TZID=Europe/Dublin:20250916T191500
DTEND;TZID=Europe/Dublin:20250916T201500
DTSTAMP:20260424T072343
CREATED:20250820T123631Z
LAST-MODIFIED:20250820T123631Z
UID:10002443-1758050100-1758053700@charlestown.ie
SUMMARY:Yoga with Trish
DESCRIPTION:
URL:https://charlestown.ie/event/yoga-with-trish/2025-09-16/
LOCATION:Charlestown Arts Centre
ATTACH;FMTTYPE=image/jpeg:https://charlestown.ie/wp-content/uploads/2025/08/Screenshot_20250819_162049_Canva.jpg
END:VEVENT
BEGIN:VEVENT
DTSTART;TZID=Europe/Dublin:20250910T110000
DTEND;TZID=Europe/Dublin:20250910T130000
DTSTAMP:20260424T072343
CREATED:20250819T203259Z
LAST-MODIFIED:20250819T203259Z
UID:10002183-1757502000-1757509200@charlestown.ie
SUMMARY:Adult Arts & Crafts Group
DESCRIPTION:
URL:https://charlestown.ie/event/adult-arts-crafts-group/2025-09-10/
LOCATION:Charlestown Arts Centre
ATTACH;FMTTYPE=image/heic:https://charlestown.ie/wp-content/uploads/2025/08/20250819_175055.heic
END:VEVENT
BEGIN:VEVENT
DTSTART;TZID=Europe/Dublin:20250909T191500
DTEND;TZID=Europe/Dublin:20250909T201500
DTSTAMP:20260424T072343
CREATED:20250820T123631Z
LAST-MODIFIED:20250820T123631Z
UID:10002442-1757445300-1757448900@charlestown.ie
SUMMARY:Yoga with Trish
DESCRIPTION:
URL:https://charlestown.ie/event/yoga-with-trish/2025-09-09/
LOCATION:Charlestown Arts Centre
ATTACH;FMTTYPE=image/jpeg:https://charlestown.ie/wp-content/uploads/2025/08/Screenshot_20250819_162049_Canva.jpg
END:VEVENT
BEGIN:VEVENT
DTSTART;TZID=Europe/Dublin:20250905T110000
DTEND;TZID=Europe/Dublin:20250905T130000
DTSTAMP:20260424T072343
CREATED:20250103T201103Z
LAST-MODIFIED:20250103T201103Z
UID:10001554-1757070000-1757077200@charlestown.ie
SUMMARY:Community Coffee Morning - All Welcome
DESCRIPTION:
URL:https://charlestown.ie/event/community-coffee-morning-all-welcome/2025-09-05/
LOCATION:Charlestown Arts Centre
CATEGORIES:Coffee Morning
ATTACH;FMTTYPE=image/jpeg:https://charlestown.ie/wp-content/uploads/2024/03/Coffee-Morning-General-e1710754785490.jpg
ORGANIZER;CN="Charlestown Development Association":MAILTO:charlestownda@gmail.com
END:VEVENT
BEGIN:VEVENT
DTSTART;TZID=Europe/Dublin:20250903T193000
DTEND;TZID=Europe/Dublin:20250903T203000
DTSTAMP:20260424T072343
CREATED:20250830T142739Z
LAST-MODIFIED:20250830T142740Z
UID:10001395-1756927800-1756931400@charlestown.ie
SUMMARY:Salsa Dancing
DESCRIPTION:💃🕺 Salsa dance classes in Charlestown Arts Centre are on every Wednesday evening from 7:30 – 8:30 💃🕺\n🔥🔥Newcomers welcome\, no experience necessary.\n🔥🔥Come alone or as a couple.
URL:https://charlestown.ie/event/salsa-dancing-8-2/
LOCATION:Charlestown Arts Centre
CATEGORIES:Community
ATTACH;FMTTYPE=image/jpeg:https://charlestown.ie/wp-content/uploads/2024/09/salsa-e1730497732958.jpg
END:VEVENT
BEGIN:VEVENT
DTSTART;TZID=Europe/Dublin:20250903T110000
DTEND;TZID=Europe/Dublin:20250903T130000
DTSTAMP:20260424T072343
CREATED:20250819T203259Z
LAST-MODIFIED:20250819T203259Z
UID:10002182-1756897200-1756904400@charlestown.ie
SUMMARY:Adult Arts & Crafts Group
DESCRIPTION:
URL:https://charlestown.ie/event/adult-arts-crafts-group/2025-09-03/
LOCATION:Charlestown Arts Centre
ATTACH;FMTTYPE=image/heic:https://charlestown.ie/wp-content/uploads/2025/08/20250819_175055.heic
END:VEVENT
BEGIN:VEVENT
DTSTART;TZID=Europe/Dublin:20250902T191500
DTEND;TZID=Europe/Dublin:20250902T201500
DTSTAMP:20260424T072343
CREATED:20250820T123631Z
LAST-MODIFIED:20250820T123631Z
UID:10002441-1756840500-1756844100@charlestown.ie
SUMMARY:Yoga with Trish
DESCRIPTION:
URL:https://charlestown.ie/event/yoga-with-trish/2025-09-02/
LOCATION:Charlestown Arts Centre
ATTACH;FMTTYPE=image/jpeg:https://charlestown.ie/wp-content/uploads/2025/08/Screenshot_20250819_162049_Canva.jpg
END:VEVENT
BEGIN:VEVENT
DTSTART;TZID=Europe/Dublin:20250827T110000
DTEND;TZID=Europe/Dublin:20250827T130000
DTSTAMP:20260424T072343
CREATED:20250819T203259Z
LAST-MODIFIED:20250819T203259Z
UID:10002181-1756292400-1756299600@charlestown.ie
SUMMARY:Adult Arts & Crafts Group
DESCRIPTION:
URL:https://charlestown.ie/event/adult-arts-crafts-group/2025-08-27/
LOCATION:Charlestown Arts Centre
ATTACH;FMTTYPE=image/heic:https://charlestown.ie/wp-content/uploads/2025/08/20250819_175055.heic
END:VEVENT
BEGIN:VEVENT
DTSTART;TZID=Europe/Dublin:20250820T110000
DTEND;TZID=Europe/Dublin:20250820T130000
DTSTAMP:20260424T072343
CREATED:20250819T203259Z
LAST-MODIFIED:20250819T203259Z
UID:10002180-1755687600-1755694800@charlestown.ie
SUMMARY:Adult Arts & Crafts Group
DESCRIPTION:
URL:https://charlestown.ie/event/adult-arts-crafts-group/2025-08-20/
LOCATION:Charlestown Arts Centre
ATTACH;FMTTYPE=image/heic:https://charlestown.ie/wp-content/uploads/2025/08/20250819_175055.heic
END:VEVENT
BEGIN:VEVENT
DTSTART;TZID=Europe/Dublin:20250801T110000
DTEND;TZID=Europe/Dublin:20250801T130000
DTSTAMP:20260424T072343
CREATED:20250103T201103Z
LAST-MODIFIED:20250103T201103Z
UID:10001553-1754046000-1754053200@charlestown.ie
SUMMARY:Community Coffee Morning - All Welcome
DESCRIPTION:
URL:https://charlestown.ie/event/community-coffee-morning-all-welcome/2025-08-01/
LOCATION:Charlestown Arts Centre
CATEGORIES:Coffee Morning
ATTACH;FMTTYPE=image/jpeg:https://charlestown.ie/wp-content/uploads/2024/03/Coffee-Morning-General-e1710754785490.jpg
ORGANIZER;CN="Charlestown Development Association":MAILTO:charlestownda@gmail.com
END:VEVENT
BEGIN:VEVENT
DTSTART;TZID=Europe/Dublin:20250704T110000
DTEND;TZID=Europe/Dublin:20250704T130000
DTSTAMP:20260424T072343
CREATED:20250103T201103Z
LAST-MODIFIED:20250103T201103Z
UID:10001552-1751626800-1751634000@charlestown.ie
SUMMARY:Community Coffee Morning - All Welcome
DESCRIPTION:
URL:https://charlestown.ie/event/community-coffee-morning-all-welcome/2025-07-04/
LOCATION:Charlestown Arts Centre
CATEGORIES:Coffee Morning
ATTACH;FMTTYPE=image/jpeg:https://charlestown.ie/wp-content/uploads/2024/03/Coffee-Morning-General-e1710754785490.jpg
ORGANIZER;CN="Charlestown Development Association":MAILTO:charlestownda@gmail.com
END:VEVENT
BEGIN:VEVENT
DTSTART;TZID=Europe/Dublin:20250630T200000
DTEND;TZID=Europe/Dublin:20250630T210000
DTSTAMP:20260424T072343
CREATED:20250103T200036Z
LAST-MODIFIED:20250103T200036Z
UID:10001546-1751313600-1751317200@charlestown.ie
SUMMARY:Pilates with Taragh
DESCRIPTION:
URL:https://charlestown.ie/event/pilates-with-taragh-9/2025-06-30/
LOCATION:Charlestown Arts Centre
ATTACH;FMTTYPE=image/jpeg:https://charlestown.ie/wp-content/uploads/2024/09/Pilates.jpg
END:VEVENT
BEGIN:VEVENT
DTSTART;TZID=Europe/Dublin:20250623T200000
DTEND;TZID=Europe/Dublin:20250623T210000
DTSTAMP:20260424T072343
CREATED:20250103T200036Z
LAST-MODIFIED:20250103T200036Z
UID:10001545-1750708800-1750712400@charlestown.ie
SUMMARY:Pilates with Taragh
DESCRIPTION:
URL:https://charlestown.ie/event/pilates-with-taragh-9/2025-06-23/
LOCATION:Charlestown Arts Centre
ATTACH;FMTTYPE=image/jpeg:https://charlestown.ie/wp-content/uploads/2024/09/Pilates.jpg
END:VEVENT
BEGIN:VEVENT
DTSTART;TZID=Europe/Dublin:20250616T200000
DTEND;TZID=Europe/Dublin:20250616T210000
DTSTAMP:20260424T072343
CREATED:20250103T200036Z
LAST-MODIFIED:20250103T200036Z
UID:10001544-1750104000-1750107600@charlestown.ie
SUMMARY:Pilates with Taragh
DESCRIPTION:
URL:https://charlestown.ie/event/pilates-with-taragh-9/2025-06-16/
LOCATION:Charlestown Arts Centre
ATTACH;FMTTYPE=image/jpeg:https://charlestown.ie/wp-content/uploads/2024/09/Pilates.jpg
END:VEVENT
BEGIN:VEVENT
DTSTART;TZID=Europe/Dublin:20250609T200000
DTEND;TZID=Europe/Dublin:20250609T210000
DTSTAMP:20260424T072343
CREATED:20250103T200036Z
LAST-MODIFIED:20250103T200036Z
UID:10001543-1749499200-1749502800@charlestown.ie
SUMMARY:Pilates with Taragh
DESCRIPTION:
URL:https://charlestown.ie/event/pilates-with-taragh-9/2025-06-09/
LOCATION:Charlestown Arts Centre
ATTACH;FMTTYPE=image/jpeg:https://charlestown.ie/wp-content/uploads/2024/09/Pilates.jpg
END:VEVENT
BEGIN:VEVENT
DTSTART;TZID=Europe/Dublin:20250606T110000
DTEND;TZID=Europe/Dublin:20250606T130000
DTSTAMP:20260424T072343
CREATED:20250103T201103Z
LAST-MODIFIED:20250103T201103Z
UID:10001551-1749207600-1749214800@charlestown.ie
SUMMARY:Community Coffee Morning - All Welcome
DESCRIPTION:
URL:https://charlestown.ie/event/community-coffee-morning-all-welcome/2025-06-06/
LOCATION:Charlestown Arts Centre
CATEGORIES:Coffee Morning
ATTACH;FMTTYPE=image/jpeg:https://charlestown.ie/wp-content/uploads/2024/03/Coffee-Morning-General-e1710754785490.jpg
ORGANIZER;CN="Charlestown Development Association":MAILTO:charlestownda@gmail.com
END:VEVENT
BEGIN:VEVENT
DTSTART;TZID=Europe/Dublin:20250602T200000
DTEND;TZID=Europe/Dublin:20250602T210000
DTSTAMP:20260424T072343
CREATED:20250103T200036Z
LAST-MODIFIED:20250103T200036Z
UID:10001542-1748894400-1748898000@charlestown.ie
SUMMARY:Pilates with Taragh
DESCRIPTION:
URL:https://charlestown.ie/event/pilates-with-taragh-9/2025-06-02/
LOCATION:Charlestown Arts Centre
ATTACH;FMTTYPE=image/jpeg:https://charlestown.ie/wp-content/uploads/2024/09/Pilates.jpg
END:VEVENT
BEGIN:VEVENT
DTSTART;TZID=Europe/Dublin:20250526T200000
DTEND;TZID=Europe/Dublin:20250526T210000
DTSTAMP:20260424T072343
CREATED:20250103T200036Z
LAST-MODIFIED:20250103T200036Z
UID:10001541-1748289600-1748293200@charlestown.ie
SUMMARY:Pilates with Taragh
DESCRIPTION:
URL:https://charlestown.ie/event/pilates-with-taragh-9/2025-05-26/
LOCATION:Charlestown Arts Centre
ATTACH;FMTTYPE=image/jpeg:https://charlestown.ie/wp-content/uploads/2024/09/Pilates.jpg
END:VEVENT
BEGIN:VEVENT
DTSTART;TZID=Europe/Dublin:20250519T200000
DTEND;TZID=Europe/Dublin:20250519T210000
DTSTAMP:20260424T072343
CREATED:20250103T200036Z
LAST-MODIFIED:20250103T200036Z
UID:10001540-1747684800-1747688400@charlestown.ie
SUMMARY:Pilates with Taragh
DESCRIPTION:
URL:https://charlestown.ie/event/pilates-with-taragh-9/2025-05-19/
LOCATION:Charlestown Arts Centre
ATTACH;FMTTYPE=image/jpeg:https://charlestown.ie/wp-content/uploads/2024/09/Pilates.jpg
END:VEVENT
BEGIN:VEVENT
DTSTART;TZID=Europe/Dublin:20250512T200000
DTEND;TZID=Europe/Dublin:20250512T210000
DTSTAMP:20260424T072343
CREATED:20250103T200036Z
LAST-MODIFIED:20250103T200036Z
UID:10001539-1747080000-1747083600@charlestown.ie
SUMMARY:Pilates with Taragh
DESCRIPTION:
URL:https://charlestown.ie/event/pilates-with-taragh-9/2025-05-12/
LOCATION:Charlestown Arts Centre
ATTACH;FMTTYPE=image/jpeg:https://charlestown.ie/wp-content/uploads/2024/09/Pilates.jpg
END:VEVENT
BEGIN:VEVENT
DTSTART;TZID=Europe/Dublin:20250502T110000
DTEND;TZID=Europe/Dublin:20250502T130000
DTSTAMP:20260424T072343
CREATED:20250103T201103Z
LAST-MODIFIED:20250103T201103Z
UID:10001550-1746183600-1746190800@charlestown.ie
SUMMARY:Community Coffee Morning - All Welcome
DESCRIPTION:
URL:https://charlestown.ie/event/community-coffee-morning-all-welcome/2025-05-02/
LOCATION:Charlestown Arts Centre
CATEGORIES:Coffee Morning
ATTACH;FMTTYPE=image/jpeg:https://charlestown.ie/wp-content/uploads/2024/03/Coffee-Morning-General-e1710754785490.jpg
ORGANIZER;CN="Charlestown Development Association":MAILTO:charlestownda@gmail.com
END:VEVENT
END:VCALENDAR