BEGIN:VCALENDAR
VERSION:2.0
PRODID:-//Charlestown - ECPv6.6.4.2//NONSGML v1.0//EN
CALSCALE:GREGORIAN
METHOD:PUBLISH
X-ORIGINAL-URL:https://charlestown.ie
X-WR-CALDESC:Events for Charlestown
REFRESH-INTERVAL;VALUE=DURATION:PT1H
X-Robots-Tag:noindex
X-PUBLISHED-TTL:PT1H
BEGIN:VTIMEZONE
TZID:Europe/Dublin
BEGIN:DAYLIGHT
TZOFFSETFROM:+0000
TZOFFSETTO:+0100
TZNAME:IST
DTSTART:20250330T010000
END:DAYLIGHT
BEGIN:STANDARD
TZOFFSETFROM:+0100
TZOFFSETTO:+0000
TZNAME:GMT
DTSTART:20251026T010000
END:STANDARD
END:VTIMEZONE
BEGIN:VEVENT
DTSTART;TZID=Europe/Dublin:20251216T191500
DTEND;TZID=Europe/Dublin:20251216T201500
DTSTAMP:20260424T031411
CREATED:20250820T123631Z
LAST-MODIFIED:20250820T123631Z
UID:10002456-1765912500-1765916100@charlestown.ie
SUMMARY:Yoga with Trish
DESCRIPTION:
URL:https://charlestown.ie/event/yoga-with-trish/2025-12-16/
LOCATION:Charlestown Arts Centre
ATTACH;FMTTYPE=image/jpeg:https://charlestown.ie/wp-content/uploads/2025/08/Screenshot_20250819_162049_Canva.jpg
END:VEVENT
BEGIN:VEVENT
DTSTART;TZID=Europe/Dublin:20251210T110000
DTEND;TZID=Europe/Dublin:20251210T130000
DTSTAMP:20260424T031411
CREATED:20250819T203259Z
LAST-MODIFIED:20250819T203259Z
UID:10002196-1765364400-1765371600@charlestown.ie
SUMMARY:Adult Arts & Crafts Group
DESCRIPTION:
URL:https://charlestown.ie/event/adult-arts-crafts-group/2025-12-10/
LOCATION:Charlestown Arts Centre
ATTACH;FMTTYPE=image/heic:https://charlestown.ie/wp-content/uploads/2025/08/20250819_175055.heic
END:VEVENT
BEGIN:VEVENT
DTSTART;TZID=Europe/Dublin:20251209T191500
DTEND;TZID=Europe/Dublin:20251209T201500
DTSTAMP:20260424T031411
CREATED:20250820T123631Z
LAST-MODIFIED:20250820T123631Z
UID:10002455-1765307700-1765311300@charlestown.ie
SUMMARY:Yoga with Trish
DESCRIPTION:
URL:https://charlestown.ie/event/yoga-with-trish/2025-12-09/
LOCATION:Charlestown Arts Centre
ATTACH;FMTTYPE=image/jpeg:https://charlestown.ie/wp-content/uploads/2025/08/Screenshot_20250819_162049_Canva.jpg
END:VEVENT
BEGIN:VEVENT
DTSTART;TZID=Europe/Dublin:20251205T110000
DTEND;TZID=Europe/Dublin:20251205T130000
DTSTAMP:20260424T031411
CREATED:20250103T201103Z
LAST-MODIFIED:20250103T201103Z
UID:10001557-1764932400-1764939600@charlestown.ie
SUMMARY:Community Coffee Morning - All Welcome
DESCRIPTION:
URL:https://charlestown.ie/event/community-coffee-morning-all-welcome/2025-12-05/
LOCATION:Charlestown Arts Centre
CATEGORIES:Coffee Morning
ATTACH;FMTTYPE=image/jpeg:https://charlestown.ie/wp-content/uploads/2024/03/Coffee-Morning-General-e1710754785490.jpg
ORGANIZER;CN="Charlestown Development Association":MAILTO:charlestownda@gmail.com
END:VEVENT
BEGIN:VEVENT
DTSTART;TZID=Europe/Dublin:20251203T110000
DTEND;TZID=Europe/Dublin:20251203T130000
DTSTAMP:20260424T031411
CREATED:20250819T203259Z
LAST-MODIFIED:20250819T203259Z
UID:10002195-1764759600-1764766800@charlestown.ie
SUMMARY:Adult Arts & Crafts Group
DESCRIPTION:
URL:https://charlestown.ie/event/adult-arts-crafts-group/2025-12-03/
LOCATION:Charlestown Arts Centre
ATTACH;FMTTYPE=image/heic:https://charlestown.ie/wp-content/uploads/2025/08/20250819_175055.heic
END:VEVENT
BEGIN:VEVENT
DTSTART;TZID=Europe/Dublin:20251202T191500
DTEND;TZID=Europe/Dublin:20251202T201500
DTSTAMP:20260424T031411
CREATED:20250820T123631Z
LAST-MODIFIED:20250820T123631Z
UID:10002454-1764702900-1764706500@charlestown.ie
SUMMARY:Yoga with Trish
DESCRIPTION:
URL:https://charlestown.ie/event/yoga-with-trish/2025-12-02/
LOCATION:Charlestown Arts Centre
ATTACH;FMTTYPE=image/jpeg:https://charlestown.ie/wp-content/uploads/2025/08/Screenshot_20250819_162049_Canva.jpg
END:VEVENT
BEGIN:VEVENT
DTSTART;TZID=Europe/Dublin:20251128T120000
DTEND;TZID=Europe/Dublin:20251128T130000
DTSTAMP:20260424T031411
CREATED:20250924T153354Z
LAST-MODIFIED:20250924T153626Z
UID:10002921-1764331200-1764334800@charlestown.ie
SUMMARY:Exercise Class - Come along & give it a try
DESCRIPTION:
URL:https://charlestown.ie/event/exercise-class-come-along-give-it-a-try/2025-11-28/
LOCATION:Charlestown Arts Centre
CATEGORIES:Exercise Class
ATTACH;FMTTYPE=image/jpeg:https://charlestown.ie/wp-content/uploads/2025/09/Screenshot_20250924_162929_WhatsApp.jpg
END:VEVENT
BEGIN:VEVENT
DTSTART;TZID=Europe/Dublin:20251126T110000
DTEND;TZID=Europe/Dublin:20251126T130000
DTSTAMP:20260424T031411
CREATED:20250819T203259Z
LAST-MODIFIED:20250819T203259Z
UID:10002194-1764154800-1764162000@charlestown.ie
SUMMARY:Adult Arts & Crafts Group
DESCRIPTION:
URL:https://charlestown.ie/event/adult-arts-crafts-group/2025-11-26/
LOCATION:Charlestown Arts Centre
ATTACH;FMTTYPE=image/heic:https://charlestown.ie/wp-content/uploads/2025/08/20250819_175055.heic
END:VEVENT
BEGIN:VEVENT
DTSTART;TZID=Europe/Dublin:20251125T191500
DTEND;TZID=Europe/Dublin:20251125T201500
DTSTAMP:20260424T031411
CREATED:20250820T123631Z
LAST-MODIFIED:20250820T123631Z
UID:10002453-1764098100-1764101700@charlestown.ie
SUMMARY:Yoga with Trish
DESCRIPTION:
URL:https://charlestown.ie/event/yoga-with-trish/2025-11-25/
LOCATION:Charlestown Arts Centre
ATTACH;FMTTYPE=image/jpeg:https://charlestown.ie/wp-content/uploads/2025/08/Screenshot_20250819_162049_Canva.jpg
END:VEVENT
BEGIN:VEVENT
DTSTART;TZID=Europe/Dublin:20251121T120000
DTEND;TZID=Europe/Dublin:20251121T130000
DTSTAMP:20260424T031411
CREATED:20250924T153354Z
LAST-MODIFIED:20250924T153626Z
UID:10002920-1763726400-1763730000@charlestown.ie
SUMMARY:Exercise Class - Come along & give it a try
DESCRIPTION:
URL:https://charlestown.ie/event/exercise-class-come-along-give-it-a-try/2025-11-21/
LOCATION:Charlestown Arts Centre
CATEGORIES:Exercise Class
ATTACH;FMTTYPE=image/jpeg:https://charlestown.ie/wp-content/uploads/2025/09/Screenshot_20250924_162929_WhatsApp.jpg
END:VEVENT
BEGIN:VEVENT
DTSTART;TZID=Europe/Dublin:20251119T110000
DTEND;TZID=Europe/Dublin:20251119T130000
DTSTAMP:20260424T031411
CREATED:20250819T203259Z
LAST-MODIFIED:20250819T203259Z
UID:10002193-1763550000-1763557200@charlestown.ie
SUMMARY:Adult Arts & Crafts Group
DESCRIPTION:
URL:https://charlestown.ie/event/adult-arts-crafts-group/2025-11-19/
LOCATION:Charlestown Arts Centre
ATTACH;FMTTYPE=image/heic:https://charlestown.ie/wp-content/uploads/2025/08/20250819_175055.heic
END:VEVENT
BEGIN:VEVENT
DTSTART;TZID=Europe/Dublin:20251118T191500
DTEND;TZID=Europe/Dublin:20251118T201500
DTSTAMP:20260424T031411
CREATED:20250820T123631Z
LAST-MODIFIED:20250820T123631Z
UID:10002452-1763493300-1763496900@charlestown.ie
SUMMARY:Yoga with Trish
DESCRIPTION:
URL:https://charlestown.ie/event/yoga-with-trish/2025-11-18/
LOCATION:Charlestown Arts Centre
ATTACH;FMTTYPE=image/jpeg:https://charlestown.ie/wp-content/uploads/2025/08/Screenshot_20250819_162049_Canva.jpg
END:VEVENT
BEGIN:VEVENT
DTSTART;TZID=Europe/Dublin:20251115T190000
DTEND;TZID=Europe/Dublin:20251115T220000
DTSTAMP:20260424T031411
CREATED:20251028T084828Z
LAST-MODIFIED:20251028T084828Z
UID:10002973-1763233200-1763244000@charlestown.ie
SUMMARY:Drama Club presents - ACT III
DESCRIPTION:
URL:https://charlestown.ie/event/drama-club-presents-act-iii-3/
LOCATION:Charlestown Arts Centre
CATEGORIES:Drama
ATTACH;FMTTYPE=image/jpeg:https://charlestown.ie/wp-content/uploads/2025/10/Screenshot_20251028_084414_Facebook.jpg
END:VEVENT
BEGIN:VEVENT
DTSTART;TZID=Europe/Dublin:20251114T190000
DTEND;TZID=Europe/Dublin:20251114T220000
DTSTAMP:20260424T031411
CREATED:20251028T084755Z
LAST-MODIFIED:20251028T084755Z
UID:10002972-1763146800-1763157600@charlestown.ie
SUMMARY:Drama Club presents - ACT III
DESCRIPTION:
URL:https://charlestown.ie/event/drama-club-presents-act-iii-2/
LOCATION:Charlestown Arts Centre
CATEGORIES:Drama
ATTACH;FMTTYPE=image/jpeg:https://charlestown.ie/wp-content/uploads/2025/10/Screenshot_20251028_084414_Facebook.jpg
END:VEVENT
BEGIN:VEVENT
DTSTART;TZID=Europe/Dublin:20251114T120000
DTEND;TZID=Europe/Dublin:20251114T130000
DTSTAMP:20260424T031411
CREATED:20250924T153354Z
LAST-MODIFIED:20250924T153626Z
UID:10002919-1763121600-1763125200@charlestown.ie
SUMMARY:Exercise Class - Come along & give it a try
DESCRIPTION:
URL:https://charlestown.ie/event/exercise-class-come-along-give-it-a-try/2025-11-14/
LOCATION:Charlestown Arts Centre
CATEGORIES:Exercise Class
ATTACH;FMTTYPE=image/jpeg:https://charlestown.ie/wp-content/uploads/2025/09/Screenshot_20250924_162929_WhatsApp.jpg
END:VEVENT
BEGIN:VEVENT
DTSTART;TZID=Europe/Dublin:20251113T190000
DTEND;TZID=Europe/Dublin:20251113T220000
DTSTAMP:20260424T031411
CREATED:20251028T084724Z
LAST-MODIFIED:20251028T084724Z
UID:10002971-1763060400-1763071200@charlestown.ie
SUMMARY:Drama Club presents - ACT III
DESCRIPTION:
URL:https://charlestown.ie/event/drama-club-presents-act-iii/
LOCATION:Charlestown Arts Centre
CATEGORIES:Drama
ATTACH;FMTTYPE=image/jpeg:https://charlestown.ie/wp-content/uploads/2025/10/Screenshot_20251028_084414_Facebook.jpg
END:VEVENT
BEGIN:VEVENT
DTSTART;TZID=Europe/Dublin:20251112T110000
DTEND;TZID=Europe/Dublin:20251112T130000
DTSTAMP:20260424T031411
CREATED:20250819T203259Z
LAST-MODIFIED:20250819T203259Z
UID:10002192-1762945200-1762952400@charlestown.ie
SUMMARY:Adult Arts & Crafts Group
DESCRIPTION:
URL:https://charlestown.ie/event/adult-arts-crafts-group/2025-11-12/
LOCATION:Charlestown Arts Centre
ATTACH;FMTTYPE=image/heic:https://charlestown.ie/wp-content/uploads/2025/08/20250819_175055.heic
END:VEVENT
BEGIN:VEVENT
DTSTART;TZID=Europe/Dublin:20251111T191500
DTEND;TZID=Europe/Dublin:20251111T201500
DTSTAMP:20260424T031411
CREATED:20250820T123631Z
LAST-MODIFIED:20250820T123631Z
UID:10002451-1762888500-1762892100@charlestown.ie
SUMMARY:Yoga with Trish
DESCRIPTION:
URL:https://charlestown.ie/event/yoga-with-trish/2025-11-11/
LOCATION:Charlestown Arts Centre
ATTACH;FMTTYPE=image/jpeg:https://charlestown.ie/wp-content/uploads/2025/08/Screenshot_20250819_162049_Canva.jpg
END:VEVENT
BEGIN:VEVENT
DTSTART;TZID=Europe/Dublin:20251107T110000
DTEND;TZID=Europe/Dublin:20251107T130000
DTSTAMP:20260424T031411
CREATED:20250103T201103Z
LAST-MODIFIED:20250103T201103Z
UID:10001556-1762513200-1762520400@charlestown.ie
SUMMARY:Community Coffee Morning - All Welcome
DESCRIPTION:
URL:https://charlestown.ie/event/community-coffee-morning-all-welcome/2025-11-07/
LOCATION:Charlestown Arts Centre
CATEGORIES:Coffee Morning
ATTACH;FMTTYPE=image/jpeg:https://charlestown.ie/wp-content/uploads/2024/03/Coffee-Morning-General-e1710754785490.jpg
ORGANIZER;CN="Charlestown Development Association":MAILTO:charlestownda@gmail.com
END:VEVENT
BEGIN:VEVENT
DTSTART;TZID=Europe/Dublin:20251105T110000
DTEND;TZID=Europe/Dublin:20251105T130000
DTSTAMP:20260424T031412
CREATED:20250819T203259Z
LAST-MODIFIED:20250819T203259Z
UID:10002191-1762340400-1762347600@charlestown.ie
SUMMARY:Adult Arts & Crafts Group
DESCRIPTION:
URL:https://charlestown.ie/event/adult-arts-crafts-group/2025-11-05/
LOCATION:Charlestown Arts Centre
ATTACH;FMTTYPE=image/heic:https://charlestown.ie/wp-content/uploads/2025/08/20250819_175055.heic
END:VEVENT
BEGIN:VEVENT
DTSTART;TZID=Europe/Dublin:20251104T191500
DTEND;TZID=Europe/Dublin:20251104T201500
DTSTAMP:20260424T031412
CREATED:20250820T123631Z
LAST-MODIFIED:20250820T123631Z
UID:10002450-1762283700-1762287300@charlestown.ie
SUMMARY:Yoga with Trish
DESCRIPTION:
URL:https://charlestown.ie/event/yoga-with-trish/2025-11-04/
LOCATION:Charlestown Arts Centre
ATTACH;FMTTYPE=image/jpeg:https://charlestown.ie/wp-content/uploads/2025/08/Screenshot_20250819_162049_Canva.jpg
END:VEVENT
BEGIN:VEVENT
DTSTART;TZID=Europe/Dublin:20251031T120000
DTEND;TZID=Europe/Dublin:20251031T130000
DTSTAMP:20260424T031412
CREATED:20251030T190211Z
LAST-MODIFIED:20251030T190213Z
UID:10002918-1761912000-1761915600@charlestown.ie
SUMMARY:Exercise Class - Come along & give it a try
DESCRIPTION:
URL:https://charlestown.ie/event/exercise-class-come-along-give-it-a-try-2/
LOCATION:Charlestown Arts Centre
CATEGORIES:Exercise Class
ATTACH;FMTTYPE=image/jpeg:https://charlestown.ie/wp-content/uploads/2025/09/Screenshot_20250924_162929_WhatsApp.jpg
END:VEVENT
BEGIN:VEVENT
DTSTART;TZID=Europe/Dublin:20251029T110000
DTEND;TZID=Europe/Dublin:20251029T130000
DTSTAMP:20260424T031412
CREATED:20250819T203259Z
LAST-MODIFIED:20250819T203259Z
UID:10002190-1761735600-1761742800@charlestown.ie
SUMMARY:Adult Arts & Crafts Group
DESCRIPTION:
URL:https://charlestown.ie/event/adult-arts-crafts-group/2025-10-29/
LOCATION:Charlestown Arts Centre
ATTACH;FMTTYPE=image/heic:https://charlestown.ie/wp-content/uploads/2025/08/20250819_175055.heic
END:VEVENT
BEGIN:VEVENT
DTSTART;TZID=Europe/Dublin:20251028T191500
DTEND;TZID=Europe/Dublin:20251028T201500
DTSTAMP:20260424T031412
CREATED:20250820T123631Z
LAST-MODIFIED:20250820T123631Z
UID:10002449-1761678900-1761682500@charlestown.ie
SUMMARY:Yoga with Trish
DESCRIPTION:
URL:https://charlestown.ie/event/yoga-with-trish/2025-10-28/
LOCATION:Charlestown Arts Centre
ATTACH;FMTTYPE=image/jpeg:https://charlestown.ie/wp-content/uploads/2025/08/Screenshot_20250819_162049_Canva.jpg
END:VEVENT
BEGIN:VEVENT
DTSTART;TZID=Europe/Dublin:20251024T120000
DTEND;TZID=Europe/Dublin:20251024T130000
DTSTAMP:20260424T031412
CREATED:20250924T153354Z
LAST-MODIFIED:20250924T153626Z
UID:10002917-1761307200-1761310800@charlestown.ie
SUMMARY:Exercise Class - Come along & give it a try
DESCRIPTION:
URL:https://charlestown.ie/event/exercise-class-come-along-give-it-a-try/2025-10-24/
LOCATION:Charlestown Arts Centre
CATEGORIES:Exercise Class
ATTACH;FMTTYPE=image/jpeg:https://charlestown.ie/wp-content/uploads/2025/09/Screenshot_20250924_162929_WhatsApp.jpg
END:VEVENT
BEGIN:VEVENT
DTSTART;TZID=Europe/Dublin:20251022T110000
DTEND;TZID=Europe/Dublin:20251022T130000
DTSTAMP:20260424T031412
CREATED:20250819T203259Z
LAST-MODIFIED:20250819T203259Z
UID:10002189-1761130800-1761138000@charlestown.ie
SUMMARY:Adult Arts & Crafts Group
DESCRIPTION:
URL:https://charlestown.ie/event/adult-arts-crafts-group/2025-10-22/
LOCATION:Charlestown Arts Centre
ATTACH;FMTTYPE=image/heic:https://charlestown.ie/wp-content/uploads/2025/08/20250819_175055.heic
END:VEVENT
BEGIN:VEVENT
DTSTART;TZID=Europe/Dublin:20251021T191500
DTEND;TZID=Europe/Dublin:20251021T201500
DTSTAMP:20260424T031412
CREATED:20250820T123631Z
LAST-MODIFIED:20250820T123631Z
UID:10002448-1761074100-1761077700@charlestown.ie
SUMMARY:Yoga with Trish
DESCRIPTION:
URL:https://charlestown.ie/event/yoga-with-trish/2025-10-21/
LOCATION:Charlestown Arts Centre
ATTACH;FMTTYPE=image/jpeg:https://charlestown.ie/wp-content/uploads/2025/08/Screenshot_20250819_162049_Canva.jpg
END:VEVENT
BEGIN:VEVENT
DTSTART;TZID=Europe/Dublin:20251017T120000
DTEND;TZID=Europe/Dublin:20251017T130000
DTSTAMP:20260424T031412
CREATED:20250924T153354Z
LAST-MODIFIED:20250924T153626Z
UID:10002916-1760702400-1760706000@charlestown.ie
SUMMARY:Exercise Class - Come along & give it a try
DESCRIPTION:
URL:https://charlestown.ie/event/exercise-class-come-along-give-it-a-try/2025-10-17/
LOCATION:Charlestown Arts Centre
CATEGORIES:Exercise Class
ATTACH;FMTTYPE=image/jpeg:https://charlestown.ie/wp-content/uploads/2025/09/Screenshot_20250924_162929_WhatsApp.jpg
END:VEVENT
BEGIN:VEVENT
DTSTART;TZID=Europe/Dublin:20251015T110000
DTEND;TZID=Europe/Dublin:20251015T130000
DTSTAMP:20260424T031412
CREATED:20250819T203259Z
LAST-MODIFIED:20250819T203259Z
UID:10002188-1760526000-1760533200@charlestown.ie
SUMMARY:Adult Arts & Crafts Group
DESCRIPTION:
URL:https://charlestown.ie/event/adult-arts-crafts-group/2025-10-15/
LOCATION:Charlestown Arts Centre
ATTACH;FMTTYPE=image/heic:https://charlestown.ie/wp-content/uploads/2025/08/20250819_175055.heic
END:VEVENT
BEGIN:VEVENT
DTSTART;TZID=Europe/Dublin:20251014T191500
DTEND;TZID=Europe/Dublin:20251014T201500
DTSTAMP:20260424T031412
CREATED:20250820T123631Z
LAST-MODIFIED:20250820T123631Z
UID:10002447-1760469300-1760472900@charlestown.ie
SUMMARY:Yoga with Trish
DESCRIPTION:
URL:https://charlestown.ie/event/yoga-with-trish/2025-10-14/
LOCATION:Charlestown Arts Centre
ATTACH;FMTTYPE=image/jpeg:https://charlestown.ie/wp-content/uploads/2025/08/Screenshot_20250819_162049_Canva.jpg
END:VEVENT
END:VCALENDAR