BEGIN:VCALENDAR
VERSION:2.0
PRODID:-//Charlestown - ECPv6.6.4.2//NONSGML v1.0//EN
CALSCALE:GREGORIAN
METHOD:PUBLISH
X-ORIGINAL-URL:https://charlestown.ie
X-WR-CALDESC:Events for Charlestown
REFRESH-INTERVAL;VALUE=DURATION:PT1H
X-Robots-Tag:noindex
X-PUBLISHED-TTL:PT1H
BEGIN:VTIMEZONE
TZID:Europe/Dublin
BEGIN:DAYLIGHT
TZOFFSETFROM:+0000
TZOFFSETTO:+0100
TZNAME:IST
DTSTART:20260329T010000
END:DAYLIGHT
BEGIN:STANDARD
TZOFFSETFROM:+0100
TZOFFSETTO:+0000
TZNAME:GMT
DTSTART:20261025T010000
END:STANDARD
BEGIN:DAYLIGHT
TZOFFSETFROM:+0000
TZOFFSETTO:+0100
TZNAME:IST
DTSTART:20270328T010000
END:DAYLIGHT
BEGIN:STANDARD
TZOFFSETFROM:+0100
TZOFFSETTO:+0000
TZNAME:GMT
DTSTART:20271031T010000
END:STANDARD
END:VTIMEZONE
BEGIN:VEVENT
DTSTART;TZID=Europe/Dublin:20260819T110000
DTEND;TZID=Europe/Dublin:20260819T130000
DTSTAMP:20260424T002612
CREATED:20250819T203259Z
LAST-MODIFIED:20250819T203259Z
UID:10002232-1787137200-1787144400@charlestown.ie
SUMMARY:Adult Arts & Crafts Group
DESCRIPTION:
URL:https://charlestown.ie/event/adult-arts-crafts-group/2026-08-19/
LOCATION:Charlestown Arts Centre
ATTACH;FMTTYPE=image/heic:https://charlestown.ie/wp-content/uploads/2025/08/20250819_175055.heic
END:VEVENT
BEGIN:VEVENT
DTSTART;TZID=Europe/Dublin:20260826T110000
DTEND;TZID=Europe/Dublin:20260826T130000
DTSTAMP:20260424T002612
CREATED:20250819T203259Z
LAST-MODIFIED:20250819T203259Z
UID:10002233-1787742000-1787749200@charlestown.ie
SUMMARY:Adult Arts & Crafts Group
DESCRIPTION:
URL:https://charlestown.ie/event/adult-arts-crafts-group/2026-08-26/
LOCATION:Charlestown Arts Centre
ATTACH;FMTTYPE=image/heic:https://charlestown.ie/wp-content/uploads/2025/08/20250819_175055.heic
END:VEVENT
BEGIN:VEVENT
DTSTART;TZID=Europe/Dublin:20260902T110000
DTEND;TZID=Europe/Dublin:20260902T130000
DTSTAMP:20260424T002612
CREATED:20250819T203259Z
LAST-MODIFIED:20250819T203259Z
UID:10002234-1788346800-1788354000@charlestown.ie
SUMMARY:Adult Arts & Crafts Group
DESCRIPTION:
URL:https://charlestown.ie/event/adult-arts-crafts-group/2026-09-02/
LOCATION:Charlestown Arts Centre
ATTACH;FMTTYPE=image/heic:https://charlestown.ie/wp-content/uploads/2025/08/20250819_175055.heic
END:VEVENT
BEGIN:VEVENT
DTSTART;TZID=Europe/Dublin:20260904T110000
DTEND;TZID=Europe/Dublin:20260904T130000
DTSTAMP:20260424T002612
CREATED:20251001T133539Z
LAST-MODIFIED:20260117T172145Z
UID:10003246-1788519600-1788526800@charlestown.ie
SUMMARY:Community Coffee Morning - All Welcome
DESCRIPTION:
URL:https://charlestown.ie/event/community-coffee-morning-all-welcome-3/2026-09-04/
LOCATION:Charlestown Arts Centre
CATEGORIES:Coffee Morning
ATTACH;FMTTYPE=image/jpeg:https://charlestown.ie/wp-content/uploads/2024/03/Coffee-Morning-General-e1710754785490.jpg
ORGANIZER;CN="Charlestown Development Association":MAILTO:charlestownda@gmail.com
END:VEVENT
BEGIN:VEVENT
DTSTART;TZID=Europe/Dublin:20260909T110000
DTEND;TZID=Europe/Dublin:20260909T130000
DTSTAMP:20260424T002612
CREATED:20250819T203259Z
LAST-MODIFIED:20250819T203259Z
UID:10002235-1788951600-1788958800@charlestown.ie
SUMMARY:Adult Arts & Crafts Group
DESCRIPTION:
URL:https://charlestown.ie/event/adult-arts-crafts-group/2026-09-09/
LOCATION:Charlestown Arts Centre
ATTACH;FMTTYPE=image/heic:https://charlestown.ie/wp-content/uploads/2025/08/20250819_175055.heic
END:VEVENT
BEGIN:VEVENT
DTSTART;TZID=Europe/Dublin:20260916T110000
DTEND;TZID=Europe/Dublin:20260916T130000
DTSTAMP:20260424T002612
CREATED:20250819T203259Z
LAST-MODIFIED:20250819T203259Z
UID:10002236-1789556400-1789563600@charlestown.ie
SUMMARY:Adult Arts & Crafts Group
DESCRIPTION:
URL:https://charlestown.ie/event/adult-arts-crafts-group/2026-09-16/
LOCATION:Charlestown Arts Centre
ATTACH;FMTTYPE=image/heic:https://charlestown.ie/wp-content/uploads/2025/08/20250819_175055.heic
END:VEVENT
BEGIN:VEVENT
DTSTART;TZID=Europe/Dublin:20260923T110000
DTEND;TZID=Europe/Dublin:20260923T130000
DTSTAMP:20260424T002612
CREATED:20250819T203259Z
LAST-MODIFIED:20250819T203259Z
UID:10002237-1790161200-1790168400@charlestown.ie
SUMMARY:Adult Arts & Crafts Group
DESCRIPTION:
URL:https://charlestown.ie/event/adult-arts-crafts-group/2026-09-23/
LOCATION:Charlestown Arts Centre
ATTACH;FMTTYPE=image/heic:https://charlestown.ie/wp-content/uploads/2025/08/20250819_175055.heic
END:VEVENT
BEGIN:VEVENT
DTSTART;TZID=Europe/Dublin:20260930T110000
DTEND;TZID=Europe/Dublin:20260930T130000
DTSTAMP:20260424T002612
CREATED:20250819T203259Z
LAST-MODIFIED:20250819T203259Z
UID:10002238-1790766000-1790773200@charlestown.ie
SUMMARY:Adult Arts & Crafts Group
DESCRIPTION:
URL:https://charlestown.ie/event/adult-arts-crafts-group/2026-09-30/
LOCATION:Charlestown Arts Centre
ATTACH;FMTTYPE=image/heic:https://charlestown.ie/wp-content/uploads/2025/08/20250819_175055.heic
END:VEVENT
BEGIN:VEVENT
DTSTART;TZID=Europe/Dublin:20261002T110000
DTEND;TZID=Europe/Dublin:20261002T130000
DTSTAMP:20260424T002612
CREATED:20251001T133539Z
LAST-MODIFIED:20260117T172145Z
UID:10003247-1790938800-1790946000@charlestown.ie
SUMMARY:Community Coffee Morning - All Welcome
DESCRIPTION:
URL:https://charlestown.ie/event/community-coffee-morning-all-welcome-3/2026-10-02/
LOCATION:Charlestown Arts Centre
CATEGORIES:Coffee Morning
ATTACH;FMTTYPE=image/jpeg:https://charlestown.ie/wp-content/uploads/2024/03/Coffee-Morning-General-e1710754785490.jpg
ORGANIZER;CN="Charlestown Development Association":MAILTO:charlestownda@gmail.com
END:VEVENT
BEGIN:VEVENT
DTSTART;TZID=Europe/Dublin:20261007T110000
DTEND;TZID=Europe/Dublin:20261007T130000
DTSTAMP:20260424T002612
CREATED:20250819T203259Z
LAST-MODIFIED:20250819T203259Z
UID:10002239-1791370800-1791378000@charlestown.ie
SUMMARY:Adult Arts & Crafts Group
DESCRIPTION:
URL:https://charlestown.ie/event/adult-arts-crafts-group/2026-10-07/
LOCATION:Charlestown Arts Centre
ATTACH;FMTTYPE=image/heic:https://charlestown.ie/wp-content/uploads/2025/08/20250819_175055.heic
END:VEVENT
BEGIN:VEVENT
DTSTART;TZID=Europe/Dublin:20261014T110000
DTEND;TZID=Europe/Dublin:20261014T130000
DTSTAMP:20260424T002612
CREATED:20250819T203259Z
LAST-MODIFIED:20250819T203259Z
UID:10002240-1791975600-1791982800@charlestown.ie
SUMMARY:Adult Arts & Crafts Group
DESCRIPTION:
URL:https://charlestown.ie/event/adult-arts-crafts-group/2026-10-14/
LOCATION:Charlestown Arts Centre
ATTACH;FMTTYPE=image/heic:https://charlestown.ie/wp-content/uploads/2025/08/20250819_175055.heic
END:VEVENT
BEGIN:VEVENT
DTSTART;TZID=Europe/Dublin:20261021T110000
DTEND;TZID=Europe/Dublin:20261021T130000
DTSTAMP:20260424T002612
CREATED:20250819T203259Z
LAST-MODIFIED:20250819T203259Z
UID:10002241-1792580400-1792587600@charlestown.ie
SUMMARY:Adult Arts & Crafts Group
DESCRIPTION:
URL:https://charlestown.ie/event/adult-arts-crafts-group/2026-10-21/
LOCATION:Charlestown Arts Centre
ATTACH;FMTTYPE=image/heic:https://charlestown.ie/wp-content/uploads/2025/08/20250819_175055.heic
END:VEVENT
BEGIN:VEVENT
DTSTART;TZID=Europe/Dublin:20261028T110000
DTEND;TZID=Europe/Dublin:20261028T130000
DTSTAMP:20260424T002612
CREATED:20250819T203259Z
LAST-MODIFIED:20250819T203259Z
UID:10002242-1793185200-1793192400@charlestown.ie
SUMMARY:Adult Arts & Crafts Group
DESCRIPTION:
URL:https://charlestown.ie/event/adult-arts-crafts-group/2026-10-28/
LOCATION:Charlestown Arts Centre
ATTACH;FMTTYPE=image/heic:https://charlestown.ie/wp-content/uploads/2025/08/20250819_175055.heic
END:VEVENT
BEGIN:VEVENT
DTSTART;TZID=Europe/Dublin:20261104T110000
DTEND;TZID=Europe/Dublin:20261104T130000
DTSTAMP:20260424T002612
CREATED:20250819T203259Z
LAST-MODIFIED:20250819T203259Z
UID:10002243-1793790000-1793797200@charlestown.ie
SUMMARY:Adult Arts & Crafts Group
DESCRIPTION:
URL:https://charlestown.ie/event/adult-arts-crafts-group/2026-11-04/
LOCATION:Charlestown Arts Centre
ATTACH;FMTTYPE=image/heic:https://charlestown.ie/wp-content/uploads/2025/08/20250819_175055.heic
END:VEVENT
BEGIN:VEVENT
DTSTART;TZID=Europe/Dublin:20261106T110000
DTEND;TZID=Europe/Dublin:20261106T130000
DTSTAMP:20260424T002612
CREATED:20251001T133539Z
LAST-MODIFIED:20260117T172145Z
UID:10003248-1793962800-1793970000@charlestown.ie
SUMMARY:Community Coffee Morning - All Welcome
DESCRIPTION:
URL:https://charlestown.ie/event/community-coffee-morning-all-welcome-3/2026-11-06/
LOCATION:Charlestown Arts Centre
CATEGORIES:Coffee Morning
ATTACH;FMTTYPE=image/jpeg:https://charlestown.ie/wp-content/uploads/2024/03/Coffee-Morning-General-e1710754785490.jpg
ORGANIZER;CN="Charlestown Development Association":MAILTO:charlestownda@gmail.com
END:VEVENT
BEGIN:VEVENT
DTSTART;TZID=Europe/Dublin:20261111T110000
DTEND;TZID=Europe/Dublin:20261111T130000
DTSTAMP:20260424T002612
CREATED:20250819T203259Z
LAST-MODIFIED:20250819T203259Z
UID:10002244-1794394800-1794402000@charlestown.ie
SUMMARY:Adult Arts & Crafts Group
DESCRIPTION:
URL:https://charlestown.ie/event/adult-arts-crafts-group/2026-11-11/
LOCATION:Charlestown Arts Centre
ATTACH;FMTTYPE=image/heic:https://charlestown.ie/wp-content/uploads/2025/08/20250819_175055.heic
END:VEVENT
BEGIN:VEVENT
DTSTART;TZID=Europe/Dublin:20261118T110000
DTEND;TZID=Europe/Dublin:20261118T130000
DTSTAMP:20260424T002612
CREATED:20250819T203259Z
LAST-MODIFIED:20250819T203259Z
UID:10002245-1794999600-1795006800@charlestown.ie
SUMMARY:Adult Arts & Crafts Group
DESCRIPTION:
URL:https://charlestown.ie/event/adult-arts-crafts-group/2026-11-18/
LOCATION:Charlestown Arts Centre
ATTACH;FMTTYPE=image/heic:https://charlestown.ie/wp-content/uploads/2025/08/20250819_175055.heic
END:VEVENT
BEGIN:VEVENT
DTSTART;TZID=Europe/Dublin:20261125T110000
DTEND;TZID=Europe/Dublin:20261125T130000
DTSTAMP:20260424T002612
CREATED:20250819T203259Z
LAST-MODIFIED:20250819T203259Z
UID:10002246-1795604400-1795611600@charlestown.ie
SUMMARY:Adult Arts & Crafts Group
DESCRIPTION:
URL:https://charlestown.ie/event/adult-arts-crafts-group/2026-11-25/
LOCATION:Charlestown Arts Centre
ATTACH;FMTTYPE=image/heic:https://charlestown.ie/wp-content/uploads/2025/08/20250819_175055.heic
END:VEVENT
BEGIN:VEVENT
DTSTART;TZID=Europe/Dublin:20261202T110000
DTEND;TZID=Europe/Dublin:20261202T130000
DTSTAMP:20260424T002612
CREATED:20250819T203259Z
LAST-MODIFIED:20250819T203259Z
UID:10002247-1796209200-1796216400@charlestown.ie
SUMMARY:Adult Arts & Crafts Group
DESCRIPTION:
URL:https://charlestown.ie/event/adult-arts-crafts-group/2026-12-02/
LOCATION:Charlestown Arts Centre
ATTACH;FMTTYPE=image/heic:https://charlestown.ie/wp-content/uploads/2025/08/20250819_175055.heic
END:VEVENT
BEGIN:VEVENT
DTSTART;TZID=Europe/Dublin:20261204T110000
DTEND;TZID=Europe/Dublin:20261204T130000
DTSTAMP:20260424T002612
CREATED:20251001T133539Z
LAST-MODIFIED:20260117T172145Z
UID:10003249-1796382000-1796389200@charlestown.ie
SUMMARY:Community Coffee Morning - All Welcome
DESCRIPTION:
URL:https://charlestown.ie/event/community-coffee-morning-all-welcome-3/2026-12-04/
LOCATION:Charlestown Arts Centre
CATEGORIES:Coffee Morning
ATTACH;FMTTYPE=image/jpeg:https://charlestown.ie/wp-content/uploads/2024/03/Coffee-Morning-General-e1710754785490.jpg
ORGANIZER;CN="Charlestown Development Association":MAILTO:charlestownda@gmail.com
END:VEVENT
BEGIN:VEVENT
DTSTART;TZID=Europe/Dublin:20261209T110000
DTEND;TZID=Europe/Dublin:20261209T130000
DTSTAMP:20260424T002612
CREATED:20250819T203259Z
LAST-MODIFIED:20250819T203259Z
UID:10002248-1796814000-1796821200@charlestown.ie
SUMMARY:Adult Arts & Crafts Group
DESCRIPTION:
URL:https://charlestown.ie/event/adult-arts-crafts-group/2026-12-09/
LOCATION:Charlestown Arts Centre
ATTACH;FMTTYPE=image/heic:https://charlestown.ie/wp-content/uploads/2025/08/20250819_175055.heic
END:VEVENT
BEGIN:VEVENT
DTSTART;TZID=Europe/Dublin:20261216T110000
DTEND;TZID=Europe/Dublin:20261216T130000
DTSTAMP:20260424T002612
CREATED:20250819T203259Z
LAST-MODIFIED:20250819T203259Z
UID:10002249-1797418800-1797426000@charlestown.ie
SUMMARY:Adult Arts & Crafts Group
DESCRIPTION:
URL:https://charlestown.ie/event/adult-arts-crafts-group/2026-12-16/
LOCATION:Charlestown Arts Centre
ATTACH;FMTTYPE=image/heic:https://charlestown.ie/wp-content/uploads/2025/08/20250819_175055.heic
END:VEVENT
BEGIN:VEVENT
DTSTART;TZID=Europe/Dublin:20261223T110000
DTEND;TZID=Europe/Dublin:20261223T130000
DTSTAMP:20260424T002612
CREATED:20250819T203259Z
LAST-MODIFIED:20250819T203259Z
UID:10002250-1798023600-1798030800@charlestown.ie
SUMMARY:Adult Arts & Crafts Group
DESCRIPTION:
URL:https://charlestown.ie/event/adult-arts-crafts-group/2026-12-23/
LOCATION:Charlestown Arts Centre
ATTACH;FMTTYPE=image/heic:https://charlestown.ie/wp-content/uploads/2025/08/20250819_175055.heic
END:VEVENT
BEGIN:VEVENT
DTSTART;TZID=Europe/Dublin:20261230T110000
DTEND;TZID=Europe/Dublin:20261230T130000
DTSTAMP:20260424T002612
CREATED:20250819T203259Z
LAST-MODIFIED:20250819T203259Z
UID:10002251-1798628400-1798635600@charlestown.ie
SUMMARY:Adult Arts & Crafts Group
DESCRIPTION:
URL:https://charlestown.ie/event/adult-arts-crafts-group/2026-12-30/
LOCATION:Charlestown Arts Centre
ATTACH;FMTTYPE=image/heic:https://charlestown.ie/wp-content/uploads/2025/08/20250819_175055.heic
END:VEVENT
BEGIN:VEVENT
DTSTART;TZID=Europe/Dublin:20270101T110000
DTEND;TZID=Europe/Dublin:20270101T130000
DTSTAMP:20260424T002612
CREATED:20251001T133539Z
LAST-MODIFIED:20260117T172145Z
UID:10003250-1798801200-1798808400@charlestown.ie
SUMMARY:Community Coffee Morning - All Welcome
DESCRIPTION:
URL:https://charlestown.ie/event/community-coffee-morning-all-welcome-3/2027-01-01/
LOCATION:Charlestown Arts Centre
CATEGORIES:Coffee Morning
ATTACH;FMTTYPE=image/jpeg:https://charlestown.ie/wp-content/uploads/2024/03/Coffee-Morning-General-e1710754785490.jpg
ORGANIZER;CN="Charlestown Development Association":MAILTO:charlestownda@gmail.com
END:VEVENT
BEGIN:VEVENT
DTSTART;TZID=Europe/Dublin:20270106T110000
DTEND;TZID=Europe/Dublin:20270106T130000
DTSTAMP:20260424T002612
CREATED:20250819T203259Z
LAST-MODIFIED:20250819T203259Z
UID:10002252-1799233200-1799240400@charlestown.ie
SUMMARY:Adult Arts & Crafts Group
DESCRIPTION:
URL:https://charlestown.ie/event/adult-arts-crafts-group/2027-01-06/
LOCATION:Charlestown Arts Centre
ATTACH;FMTTYPE=image/heic:https://charlestown.ie/wp-content/uploads/2025/08/20250819_175055.heic
END:VEVENT
BEGIN:VEVENT
DTSTART;TZID=Europe/Dublin:20270113T110000
DTEND;TZID=Europe/Dublin:20270113T130000
DTSTAMP:20260424T002612
CREATED:20250819T203259Z
LAST-MODIFIED:20250819T203259Z
UID:10002253-1799838000-1799845200@charlestown.ie
SUMMARY:Adult Arts & Crafts Group
DESCRIPTION:
URL:https://charlestown.ie/event/adult-arts-crafts-group/2027-01-13/
LOCATION:Charlestown Arts Centre
ATTACH;FMTTYPE=image/heic:https://charlestown.ie/wp-content/uploads/2025/08/20250819_175055.heic
END:VEVENT
BEGIN:VEVENT
DTSTART;TZID=Europe/Dublin:20270120T110000
DTEND;TZID=Europe/Dublin:20270120T130000
DTSTAMP:20260424T002612
CREATED:20250819T203259Z
LAST-MODIFIED:20250819T203259Z
UID:10002254-1800442800-1800450000@charlestown.ie
SUMMARY:Adult Arts & Crafts Group
DESCRIPTION:
URL:https://charlestown.ie/event/adult-arts-crafts-group/2027-01-20/
LOCATION:Charlestown Arts Centre
ATTACH;FMTTYPE=image/heic:https://charlestown.ie/wp-content/uploads/2025/08/20250819_175055.heic
END:VEVENT
BEGIN:VEVENT
DTSTART;TZID=Europe/Dublin:20270127T110000
DTEND;TZID=Europe/Dublin:20270127T130000
DTSTAMP:20260424T002612
CREATED:20250819T203259Z
LAST-MODIFIED:20250819T203259Z
UID:10002255-1801047600-1801054800@charlestown.ie
SUMMARY:Adult Arts & Crafts Group
DESCRIPTION:
URL:https://charlestown.ie/event/adult-arts-crafts-group/2027-01-27/
LOCATION:Charlestown Arts Centre
ATTACH;FMTTYPE=image/heic:https://charlestown.ie/wp-content/uploads/2025/08/20250819_175055.heic
END:VEVENT
BEGIN:VEVENT
DTSTART;TZID=Europe/Dublin:20270203T110000
DTEND;TZID=Europe/Dublin:20270203T130000
DTSTAMP:20260424T002612
CREATED:20250819T203259Z
LAST-MODIFIED:20250819T203259Z
UID:10002256-1801652400-1801659600@charlestown.ie
SUMMARY:Adult Arts & Crafts Group
DESCRIPTION:
URL:https://charlestown.ie/event/adult-arts-crafts-group/2027-02-03/
LOCATION:Charlestown Arts Centre
ATTACH;FMTTYPE=image/heic:https://charlestown.ie/wp-content/uploads/2025/08/20250819_175055.heic
END:VEVENT
END:VCALENDAR