BEGIN:VCALENDAR
VERSION:2.0
PRODID:-//Charlestown - ECPv6.6.4.2//NONSGML v1.0//EN
CALSCALE:GREGORIAN
METHOD:PUBLISH
X-ORIGINAL-URL:https://charlestown.ie
X-WR-CALDESC:Events for Charlestown
REFRESH-INTERVAL;VALUE=DURATION:PT1H
X-Robots-Tag:noindex
X-PUBLISHED-TTL:PT1H
BEGIN:VTIMEZONE
TZID:Europe/Dublin
BEGIN:DAYLIGHT
TZOFFSETFROM:+0000
TZOFFSETTO:+0100
TZNAME:IST
DTSTART:20300331T010000
END:DAYLIGHT
BEGIN:STANDARD
TZOFFSETFROM:+0100
TZOFFSETTO:+0000
TZNAME:GMT
DTSTART:20301027T010000
END:STANDARD
END:VTIMEZONE
BEGIN:VEVENT
DTSTART;TZID=Europe/Dublin:20300508T110000
DTEND;TZID=Europe/Dublin:20300508T130000
DTSTAMP:20260425T032554
CREATED:20250819T203259Z
LAST-MODIFIED:20250819T203259Z
UID:10002426-1904468400-1904475600@charlestown.ie
SUMMARY:Adult Arts & Crafts Group
DESCRIPTION:
URL:https://charlestown.ie/event/adult-arts-crafts-group/2030-05-08/
LOCATION:Charlestown Arts Centre
ATTACH;FMTTYPE=image/heic:https://charlestown.ie/wp-content/uploads/2025/08/20250819_175055.heic
END:VEVENT
BEGIN:VEVENT
DTSTART;TZID=Europe/Dublin:20300515T110000
DTEND;TZID=Europe/Dublin:20300515T130000
DTSTAMP:20260425T032554
CREATED:20250819T203259Z
LAST-MODIFIED:20250819T203259Z
UID:10002427-1905073200-1905080400@charlestown.ie
SUMMARY:Adult Arts & Crafts Group
DESCRIPTION:
URL:https://charlestown.ie/event/adult-arts-crafts-group/2030-05-15/
LOCATION:Charlestown Arts Centre
ATTACH;FMTTYPE=image/heic:https://charlestown.ie/wp-content/uploads/2025/08/20250819_175055.heic
END:VEVENT
BEGIN:VEVENT
DTSTART;TZID=Europe/Dublin:20300522T110000
DTEND;TZID=Europe/Dublin:20300522T130000
DTSTAMP:20260425T032554
CREATED:20250819T203259Z
LAST-MODIFIED:20250819T203259Z
UID:10002428-1905678000-1905685200@charlestown.ie
SUMMARY:Adult Arts & Crafts Group
DESCRIPTION:
URL:https://charlestown.ie/event/adult-arts-crafts-group/2030-05-22/
LOCATION:Charlestown Arts Centre
ATTACH;FMTTYPE=image/heic:https://charlestown.ie/wp-content/uploads/2025/08/20250819_175055.heic
END:VEVENT
BEGIN:VEVENT
DTSTART;TZID=Europe/Dublin:20300529T110000
DTEND;TZID=Europe/Dublin:20300529T130000
DTSTAMP:20260425T032554
CREATED:20250819T203259Z
LAST-MODIFIED:20250819T203259Z
UID:10002429-1906282800-1906290000@charlestown.ie
SUMMARY:Adult Arts & Crafts Group
DESCRIPTION:
URL:https://charlestown.ie/event/adult-arts-crafts-group/2030-05-29/
LOCATION:Charlestown Arts Centre
ATTACH;FMTTYPE=image/heic:https://charlestown.ie/wp-content/uploads/2025/08/20250819_175055.heic
END:VEVENT
BEGIN:VEVENT
DTSTART;TZID=Europe/Dublin:20300605T110000
DTEND;TZID=Europe/Dublin:20300605T130000
DTSTAMP:20260425T032554
CREATED:20250819T203259Z
LAST-MODIFIED:20250819T203259Z
UID:10002430-1906887600-1906894800@charlestown.ie
SUMMARY:Adult Arts & Crafts Group
DESCRIPTION:
URL:https://charlestown.ie/event/adult-arts-crafts-group/2030-06-05/
LOCATION:Charlestown Arts Centre
ATTACH;FMTTYPE=image/heic:https://charlestown.ie/wp-content/uploads/2025/08/20250819_175055.heic
END:VEVENT
BEGIN:VEVENT
DTSTART;TZID=Europe/Dublin:20300612T110000
DTEND;TZID=Europe/Dublin:20300612T130000
DTSTAMP:20260425T032554
CREATED:20250819T203259Z
LAST-MODIFIED:20250819T203259Z
UID:10002431-1907492400-1907499600@charlestown.ie
SUMMARY:Adult Arts & Crafts Group
DESCRIPTION:
URL:https://charlestown.ie/event/adult-arts-crafts-group/2030-06-12/
LOCATION:Charlestown Arts Centre
ATTACH;FMTTYPE=image/heic:https://charlestown.ie/wp-content/uploads/2025/08/20250819_175055.heic
END:VEVENT
BEGIN:VEVENT
DTSTART;TZID=Europe/Dublin:20300619T110000
DTEND;TZID=Europe/Dublin:20300619T130000
DTSTAMP:20260425T032554
CREATED:20250819T203259Z
LAST-MODIFIED:20250819T203259Z
UID:10002432-1908097200-1908104400@charlestown.ie
SUMMARY:Adult Arts & Crafts Group
DESCRIPTION:
URL:https://charlestown.ie/event/adult-arts-crafts-group/2030-06-19/
LOCATION:Charlestown Arts Centre
ATTACH;FMTTYPE=image/heic:https://charlestown.ie/wp-content/uploads/2025/08/20250819_175055.heic
END:VEVENT
BEGIN:VEVENT
DTSTART;TZID=Europe/Dublin:20300626T110000
DTEND;TZID=Europe/Dublin:20300626T130000
DTSTAMP:20260425T032554
CREATED:20250819T203259Z
LAST-MODIFIED:20250819T203259Z
UID:10002433-1908702000-1908709200@charlestown.ie
SUMMARY:Adult Arts & Crafts Group
DESCRIPTION:
URL:https://charlestown.ie/event/adult-arts-crafts-group/2030-06-26/
LOCATION:Charlestown Arts Centre
ATTACH;FMTTYPE=image/heic:https://charlestown.ie/wp-content/uploads/2025/08/20250819_175055.heic
END:VEVENT
BEGIN:VEVENT
DTSTART;TZID=Europe/Dublin:20300703T110000
DTEND;TZID=Europe/Dublin:20300703T130000
DTSTAMP:20260425T032554
CREATED:20250819T203259Z
LAST-MODIFIED:20250819T203259Z
UID:10002434-1909306800-1909314000@charlestown.ie
SUMMARY:Adult Arts & Crafts Group
DESCRIPTION:
URL:https://charlestown.ie/event/adult-arts-crafts-group/2030-07-03/
LOCATION:Charlestown Arts Centre
ATTACH;FMTTYPE=image/heic:https://charlestown.ie/wp-content/uploads/2025/08/20250819_175055.heic
END:VEVENT
BEGIN:VEVENT
DTSTART;TZID=Europe/Dublin:20300710T110000
DTEND;TZID=Europe/Dublin:20300710T130000
DTSTAMP:20260425T032554
CREATED:20250819T203259Z
LAST-MODIFIED:20250819T203259Z
UID:10002435-1909911600-1909918800@charlestown.ie
SUMMARY:Adult Arts & Crafts Group
DESCRIPTION:
URL:https://charlestown.ie/event/adult-arts-crafts-group/2030-07-10/
LOCATION:Charlestown Arts Centre
ATTACH;FMTTYPE=image/heic:https://charlestown.ie/wp-content/uploads/2025/08/20250819_175055.heic
END:VEVENT
BEGIN:VEVENT
DTSTART;TZID=Europe/Dublin:20300717T110000
DTEND;TZID=Europe/Dublin:20300717T130000
DTSTAMP:20260425T032554
CREATED:20250819T203259Z
LAST-MODIFIED:20250819T203259Z
UID:10002436-1910516400-1910523600@charlestown.ie
SUMMARY:Adult Arts & Crafts Group
DESCRIPTION:
URL:https://charlestown.ie/event/adult-arts-crafts-group/2030-07-17/
LOCATION:Charlestown Arts Centre
ATTACH;FMTTYPE=image/heic:https://charlestown.ie/wp-content/uploads/2025/08/20250819_175055.heic
END:VEVENT
BEGIN:VEVENT
DTSTART;TZID=Europe/Dublin:20300724T110000
DTEND;TZID=Europe/Dublin:20300724T130000
DTSTAMP:20260425T032554
CREATED:20250819T203259Z
LAST-MODIFIED:20250819T203259Z
UID:10002437-1911121200-1911128400@charlestown.ie
SUMMARY:Adult Arts & Crafts Group
DESCRIPTION:
URL:https://charlestown.ie/event/adult-arts-crafts-group/2030-07-24/
LOCATION:Charlestown Arts Centre
ATTACH;FMTTYPE=image/heic:https://charlestown.ie/wp-content/uploads/2025/08/20250819_175055.heic
END:VEVENT
BEGIN:VEVENT
DTSTART;TZID=Europe/Dublin:20300731T110000
DTEND;TZID=Europe/Dublin:20300731T130000
DTSTAMP:20260425T032554
CREATED:20250819T203259Z
LAST-MODIFIED:20250819T203259Z
UID:10002438-1911726000-1911733200@charlestown.ie
SUMMARY:Adult Arts & Crafts Group
DESCRIPTION:
URL:https://charlestown.ie/event/adult-arts-crafts-group/2030-07-31/
LOCATION:Charlestown Arts Centre
ATTACH;FMTTYPE=image/heic:https://charlestown.ie/wp-content/uploads/2025/08/20250819_175055.heic
END:VEVENT
BEGIN:VEVENT
DTSTART;TZID=Europe/Dublin:20300807T110000
DTEND;TZID=Europe/Dublin:20300807T130000
DTSTAMP:20260425T032554
CREATED:20250819T203259Z
LAST-MODIFIED:20250819T203259Z
UID:10002439-1912330800-1912338000@charlestown.ie
SUMMARY:Adult Arts & Crafts Group
DESCRIPTION:
URL:https://charlestown.ie/event/adult-arts-crafts-group/2030-08-07/
LOCATION:Charlestown Arts Centre
ATTACH;FMTTYPE=image/heic:https://charlestown.ie/wp-content/uploads/2025/08/20250819_175055.heic
END:VEVENT
BEGIN:VEVENT
DTSTART;TZID=Europe/Dublin:20300814T110000
DTEND;TZID=Europe/Dublin:20300814T130000
DTSTAMP:20260425T032554
CREATED:20250819T203259Z
LAST-MODIFIED:20250819T203259Z
UID:10002440-1912935600-1912942800@charlestown.ie
SUMMARY:Adult Arts & Crafts Group
DESCRIPTION:
URL:https://charlestown.ie/event/adult-arts-crafts-group/2030-08-14/
LOCATION:Charlestown Arts Centre
ATTACH;FMTTYPE=image/heic:https://charlestown.ie/wp-content/uploads/2025/08/20250819_175055.heic
END:VEVENT
END:VCALENDAR