BEGIN:VCALENDAR
VERSION:2.0
PRODID:-//Charlestown - ECPv6.6.4.2//NONSGML v1.0//EN
CALSCALE:GREGORIAN
METHOD:PUBLISH
X-ORIGINAL-URL:https://charlestown.ie
X-WR-CALDESC:Events for Charlestown
REFRESH-INTERVAL;VALUE=DURATION:PT1H
X-Robots-Tag:noindex
X-PUBLISHED-TTL:PT1H
BEGIN:VTIMEZONE
TZID:Europe/Dublin
BEGIN:DAYLIGHT
TZOFFSETFROM:+0000
TZOFFSETTO:+0100
TZNAME:IST
DTSTART:20240331T010000
END:DAYLIGHT
BEGIN:STANDARD
TZOFFSETFROM:+0100
TZOFFSETTO:+0000
TZNAME:GMT
DTSTART:20241027T010000
END:STANDARD
END:VTIMEZONE
BEGIN:VEVENT
DTSTART;TZID=Europe/Dublin:20240923T200000
DTEND;TZID=Europe/Dublin:20240923T210000
DTSTAMP:20260425T041815
CREATED:20240910T211333Z
LAST-MODIFIED:20240910T211333Z
UID:10001092-1727121600-1727125200@charlestown.ie
SUMMARY:Pilates with Taragh
DESCRIPTION:
URL:https://charlestown.ie/event/pilates-with-taragh-2/
LOCATION:Charlestown Arts Centre
ATTACH;FMTTYPE=image/jpeg:https://charlestown.ie/wp-content/uploads/2024/09/Pilates.jpg
END:VEVENT
BEGIN:VEVENT
DTSTART;TZID=Europe/Dublin:20240919T203000
DTEND;TZID=Europe/Dublin:20240919T220000
DTSTAMP:20260425T041815
CREATED:20240910T214106Z
LAST-MODIFIED:20240910T214106Z
UID:10001103-1726777800-1726783200@charlestown.ie
SUMMARY:Charlestown Drama Group
DESCRIPTION:Rehearsal for upcoming productions in the art centre barrack street this Thursday 12 th @ 8.30pm .We are looking for volunteers to help out with make up \, Wardrobe\, lighting etc… Please come along if you can help us out
URL:https://charlestown.ie/event/charlestown-drama-group/
LOCATION:Charlestown Arts Centre
ATTACH;FMTTYPE=image/jpeg:https://charlestown.ie/wp-content/uploads/2024/09/Drama.jpg
END:VEVENT
BEGIN:VEVENT
DTSTART;TZID=Europe/Dublin:20240919T191500
DTEND;TZID=Europe/Dublin:20240919T201500
DTSTAMP:20260425T041815
CREATED:20240910T205912Z
LAST-MODIFIED:20240910T205912Z
UID:10001084-1726773300-1726776900@charlestown.ie
SUMMARY:Yoga - Mixed (Male & Female)
DESCRIPTION:
URL:https://charlestown.ie/event/yoga-mixed-male-female/
LOCATION:Charlestown Arts Centre
ATTACH;FMTTYPE=image/jpeg:https://charlestown.ie/wp-content/uploads/2024/09/Yoga.jpg
END:VEVENT
BEGIN:VEVENT
DTSTART;TZID=Europe/Dublin:20240918T193000
DTEND;TZID=Europe/Dublin:20240918T203000
DTSTAMP:20260425T041815
CREATED:20240910T150043Z
LAST-MODIFIED:20240910T150043Z
UID:10001083-1726687800-1726691400@charlestown.ie
SUMMARY:Salsa Dancing
DESCRIPTION:https://www.facebook.com/profile.php?id=61551009330167 \n  \n353 86 357 1360
URL:https://charlestown.ie/event/salsa-dancing/
LOCATION:Charlestown Arts Centre
ATTACH;FMTTYPE=image/jpeg:https://charlestown.ie/wp-content/uploads/2024/09/salsa-e1730497732958.jpg
END:VEVENT
BEGIN:VEVENT
DTSTART;TZID=Europe/Dublin:20240918T160000
DTEND;TZID=Europe/Dublin:20240918T190000
DTSTAMP:20260425T041815
CREATED:20240910T212802Z
LAST-MODIFIED:20240910T212802Z
UID:10001100-1726675200-1726686000@charlestown.ie
SUMMARY:KatieMairead Ballet/Acro Arts
DESCRIPTION:KatieMairead Ballet/Acro Arts \n4pm  – Baby Ballet \n4.30 – Ballet 5 Yrs Plus \n6pm -Acro Arts 5 Yrs Plus
URL:https://charlestown.ie/event/katiemairead-ballet-acro-arts/
LOCATION:Charlestown Arts Centre
ATTACH;FMTTYPE=image/jpeg:https://charlestown.ie/wp-content/uploads/2024/09/Ballet.jpg
END:VEVENT
BEGIN:VEVENT
DTSTART;TZID=Europe/Dublin:20240916T200000
DTEND;TZID=Europe/Dublin:20240916T210000
DTSTAMP:20260425T041815
CREATED:20240910T211226Z
LAST-MODIFIED:20240910T211226Z
UID:10001091-1726516800-1726520400@charlestown.ie
SUMMARY:Pilates with Taragh
DESCRIPTION:
URL:https://charlestown.ie/event/pilates-with-taragh/
LOCATION:Charlestown Arts Centre
ATTACH;FMTTYPE=image/jpeg:https://charlestown.ie/wp-content/uploads/2024/09/Pilates.jpg
END:VEVENT
BEGIN:VEVENT
DTSTART;TZID=Europe/Dublin:20240913T120000
DTEND;TZID=Europe/Dublin:20240913T133000
DTSTAMP:20260425T041815
CREATED:20240626T092445Z
LAST-MODIFIED:20240910T214516Z
UID:10000997-1726228800-1726234200@charlestown.ie
SUMMARY:Activator Pole/Chair Exercise Class
DESCRIPTION:
URL:https://charlestown.ie/event/activator-pole-chair-exercise-class-11/
LOCATION:Charlestown Arts Centre
CATEGORIES:Community,Fitness
ATTACH;FMTTYPE=image/jpeg:https://charlestown.ie/wp-content/uploads/2015/06/Charlestown-Aerial-View.jpg
END:VEVENT
BEGIN:VEVENT
DTSTART;TZID=Europe/Dublin:20240912T203000
DTEND;TZID=Europe/Dublin:20240912T220000
DTSTAMP:20260425T041815
CREATED:20240911T110806Z
LAST-MODIFIED:20240911T110806Z
UID:10001115-1726173000-1726178400@charlestown.ie
SUMMARY:Charlestown Drama Group
DESCRIPTION:
URL:https://charlestown.ie/event/charlestown-drama-group-2/
LOCATION:Charlestown Arts Centre
ATTACH;FMTTYPE=image/jpeg:https://charlestown.ie/wp-content/uploads/2024/09/Drama.jpg
END:VEVENT
BEGIN:VEVENT
DTSTART;TZID=Europe/Dublin:20240912T191500
DTEND;TZID=Europe/Dublin:20240912T201500
DTSTAMP:20260425T041815
CREATED:20240911T120638Z
LAST-MODIFIED:20240911T120638Z
UID:10001131-1726168500-1726172100@charlestown.ie
SUMMARY:Yoga - Mixed (Male & Female)
DESCRIPTION:
URL:https://charlestown.ie/event/yoga-mixed-male-female-8/
LOCATION:Charlestown Arts Centre
ATTACH;FMTTYPE=image/jpeg:https://charlestown.ie/wp-content/uploads/2024/09/Yoga.jpg
END:VEVENT
BEGIN:VEVENT
DTSTART;TZID=Europe/Dublin:20240816T120000
DTEND;TZID=Europe/Dublin:20240816T120000
DTSTAMP:20260425T041815
CREATED:20240626T092332Z
LAST-MODIFIED:20240626T092332Z
UID:10000996-1723809600-1723809600@charlestown.ie
SUMMARY:Activator Pole/Chair Exercise Class
DESCRIPTION:
URL:https://charlestown.ie/event/activator-pole-chair-exercise-class-10/
LOCATION:Charlestown Arts Centre
CATEGORIES:Community,Fitness
ATTACH;FMTTYPE=image/jpeg:https://charlestown.ie/wp-content/uploads/2024/06/Pole-jULY.jpg
END:VEVENT
BEGIN:VEVENT
DTSTART;TZID=Europe/Dublin:20240802T110000
DTEND;TZID=Europe/Dublin:20240802T130000
DTSTAMP:20260425T041815
CREATED:20240724T110917Z
LAST-MODIFIED:20240724T110917Z
UID:10001027-1722596400-1722603600@charlestown.ie
SUMMARY:Community Coffee Morning
DESCRIPTION:
URL:https://charlestown.ie/event/community-coffee-morning-17/
LOCATION:Charlestown Arts Centre
CATEGORIES:Community
ATTACH;FMTTYPE=image/jpeg:https://charlestown.ie/wp-content/uploads/2024/07/Coffee-Morning-August.jpg
END:VEVENT
BEGIN:VEVENT
DTSTART;TZID=Europe/Dublin:20240726T120000
DTEND;TZID=Europe/Dublin:20240726T120000
DTSTAMP:20260425T041815
CREATED:20240723T093023Z
LAST-MODIFIED:20240723T093023Z
UID:10001022-1721995200-1721995200@charlestown.ie
SUMMARY:Activator Pole/Chair Exercise Class
DESCRIPTION:
URL:https://charlestown.ie/event/activator-pole-chair-exercise-class-12/
LOCATION:Charlestown Arts Centre
CATEGORIES:Community,Fitness
ATTACH;FMTTYPE=image/jpeg:https://charlestown.ie/wp-content/uploads/2024/06/Pole-jULY.jpg
END:VEVENT
BEGIN:VEVENT
DTSTART;TZID=Europe/Dublin:20240719T120000
DTEND;TZID=Europe/Dublin:20240719T120000
DTSTAMP:20260425T041815
CREATED:20240626T092033Z
LAST-MODIFIED:20240626T092033Z
UID:10000995-1721390400-1721390400@charlestown.ie
SUMMARY:Activator Pole/Chair Exercise Class
DESCRIPTION:
URL:https://charlestown.ie/event/activator-pole-chair-exercise-class-9/
LOCATION:Charlestown Arts Centre
CATEGORIES:Community,Fitness
ATTACH;FMTTYPE=image/jpeg:https://charlestown.ie/wp-content/uploads/2024/06/Pole-jULY.jpg
END:VEVENT
BEGIN:VEVENT
DTSTART;TZID=Europe/Dublin:20240626T193000
DTEND;TZID=Europe/Dublin:20240626T203000
DTSTAMP:20260425T041815
CREATED:20240617T215908Z
LAST-MODIFIED:20240617T215908Z
UID:10000980-1719430200-1719433800@charlestown.ie
SUMMARY:Salsa Dancing (Weekly)
DESCRIPTION:
URL:https://charlestown.ie/event/salsa-dancing-weekly-2/
LOCATION:Charlestown Arts Centre
CATEGORIES:Community
ATTACH;FMTTYPE=image/jpeg:https://charlestown.ie/wp-content/uploads/2015/06/Charlestown-Aerial-View.jpg
END:VEVENT
BEGIN:VEVENT
DTSTART;TZID=Europe/Dublin:20240619T193000
DTEND;TZID=Europe/Dublin:20240619T203000
DTSTAMP:20260425T041815
CREATED:20240617T215754Z
LAST-MODIFIED:20240617T215754Z
UID:10000979-1718825400-1718829000@charlestown.ie
SUMMARY:Salsa Dancing (weekly)
DESCRIPTION:
URL:https://charlestown.ie/event/salsa-dancing-weekly/
LOCATION:Charlestown Arts Centre
CATEGORIES:Community
ATTACH;FMTTYPE=image/jpeg:https://charlestown.ie/wp-content/uploads/2015/06/Charlestown-Aerial-View.jpg
END:VEVENT
BEGIN:VEVENT
DTSTART;TZID=Europe/Dublin:20240619T190000
DTEND;TZID=Europe/Dublin:20240619T203000
DTSTAMP:20260425T041815
CREATED:20240617T220109Z
LAST-MODIFIED:20240617T220109Z
UID:10000981-1718823600-1718829000@charlestown.ie
SUMMARY:GAA U12 v Carras (away)
DESCRIPTION:
URL:https://charlestown.ie/event/gaa-u12-v-carras-away/
LOCATION:Charlestown Arts Centre
CATEGORIES:Community,GAA- LGFA,Sport
ATTACH;FMTTYPE=image/jpeg:https://charlestown.ie/wp-content/uploads/2015/06/Charlestown-Aerial-View.jpg
END:VEVENT
BEGIN:VEVENT
DTSTART;TZID=Europe/Dublin:20240503T110000
DTEND;TZID=Europe/Dublin:20240503T130000
DTSTAMP:20260425T041815
CREATED:20240318T094032Z
LAST-MODIFIED:20240328T110018Z
UID:10000896-1714734000-1714741200@charlestown.ie
SUMMARY:Community Coffee Morning
DESCRIPTION:
URL:https://charlestown.ie/event/community-coffee-morning-13/
LOCATION:Charlestown Arts Centre
ATTACH;FMTTYPE=image/jpeg:https://charlestown.ie/wp-content/uploads/2024/03/Coffee-Morning-General-e1710754785490.jpg
ORGANIZER;CN="Charlestown Development Association":MAILTO:charlestownda@gmail.com
END:VEVENT
BEGIN:VEVENT
DTSTART;TZID=Europe/Dublin:20240405T110000
DTEND;TZID=Europe/Dublin:20240405T130000
DTSTAMP:20260425T041815
CREATED:20240318T094133Z
LAST-MODIFIED:20240328T105932Z
UID:10000897-1712314800-1712322000@charlestown.ie
SUMMARY:Community Coffee Morning
DESCRIPTION:
URL:https://charlestown.ie/event/community-coffee-morning-14/
LOCATION:Charlestown Arts Centre
CATEGORIES:Community
ATTACH;FMTTYPE=image/jpeg:https://charlestown.ie/wp-content/uploads/2024/03/Coffee-Morning-General-e1710754785490.jpg
ORGANIZER;CN="Charlestown Development Association":MAILTO:charlestownda@gmail.com
END:VEVENT
BEGIN:VEVENT
DTSTART;TZID=Europe/Dublin:20240322T120000
DTEND;TZID=Europe/Dublin:20240322T133000
DTSTAMP:20260425T041815
CREATED:20240220T224638Z
LAST-MODIFIED:20240220T224638Z
UID:10000883-1711108800-1711114200@charlestown.ie
SUMMARY:Activator Pole/ Chair Exercise Classes
DESCRIPTION:
URL:https://charlestown.ie/event/activator-pole-chair-exercise-classes-4/
LOCATION:Charlestown Arts Centre
END:VEVENT
BEGIN:VEVENT
DTSTART;TZID=Europe/Dublin:20240315T120000
DTEND;TZID=Europe/Dublin:20240315T133000
DTSTAMP:20260425T041815
CREATED:20240220T224516Z
LAST-MODIFIED:20240220T224516Z
UID:10000882-1710504000-1710509400@charlestown.ie
SUMMARY:Activator Pole/Chair Exercise Classes
DESCRIPTION:
URL:https://charlestown.ie/event/activator-pole-chair-exercise-classes-3/
LOCATION:Charlestown Arts Centre
END:VEVENT
BEGIN:VEVENT
DTSTART;TZID=Europe/Dublin:20240308T080000
DTEND;TZID=Europe/Dublin:20240308T170000
DTSTAMP:20260425T041815
CREATED:20240220T224338Z
LAST-MODIFIED:20240220T224338Z
UID:10000881-1709884800-1709917200@charlestown.ie
SUMMARY:Activator Pole/ Chair Exercise Classes
DESCRIPTION:
URL:https://charlestown.ie/event/activator-pole-chair-exercise-classes-2/
LOCATION:Charlestown Arts Centre
CATEGORIES:Community
END:VEVENT
BEGIN:VEVENT
DTSTART;TZID=Europe/Dublin:20240223T120000
DTEND;TZID=Europe/Dublin:20240223T130000
DTSTAMP:20260425T041815
CREATED:20240220T224207Z
LAST-MODIFIED:20240220T224207Z
UID:10000880-1708689600-1708693200@charlestown.ie
SUMMARY:Activator Pole/ Chair Exercise Classes
DESCRIPTION:
URL:https://charlestown.ie/event/activator-pole-chair-exercise-classes/
LOCATION:Charlestown Arts Centre
CATEGORIES:Community
END:VEVENT
BEGIN:VEVENT
DTSTART;TZID=Europe/Dublin:20240222T190000
DTEND;TZID=Europe/Dublin:20240222T200000
DTSTAMP:20260425T041815
CREATED:20240105T104820Z
LAST-MODIFIED:20240105T104820Z
UID:10000848-1708628400-1708632000@charlestown.ie
SUMMARY:Anusara Yoga Classes
DESCRIPTION:
URL:https://charlestown.ie/event/anusara-yoga-classes-6/
LOCATION:Charlestown Arts Centre
CATEGORIES:Community
END:VEVENT
BEGIN:VEVENT
DTSTART;TZID=Europe/Dublin:20240215T190000
DTEND;TZID=Europe/Dublin:20240215T200000
DTSTAMP:20260425T041815
CREATED:20240105T104708Z
LAST-MODIFIED:20240105T104708Z
UID:10000847-1708023600-1708027200@charlestown.ie
SUMMARY:Anusara Yoga Classes
DESCRIPTION:
URL:https://charlestown.ie/event/anusara-yoga-classes-5/
LOCATION:Charlestown Arts Centre
CATEGORIES:Community
END:VEVENT
BEGIN:VEVENT
DTSTART;TZID=Europe/Dublin:20240208T190000
DTEND;TZID=Europe/Dublin:20240208T200000
DTSTAMP:20260425T041815
CREATED:20240105T104535Z
LAST-MODIFIED:20240105T104535Z
UID:10000846-1707418800-1707422400@charlestown.ie
SUMMARY:Anusara Yoga Classes
DESCRIPTION:
URL:https://charlestown.ie/event/anusara-yoga-classes-4/
LOCATION:Charlestown Arts Centre
CATEGORIES:Community
END:VEVENT
BEGIN:VEVENT
DTSTART;TZID=Europe/Dublin:20240205T170000
DTEND;TZID=Europe/Dublin:20240205T190000
DTSTAMP:20260425T041815
CREATED:20240202T231715Z
LAST-MODIFIED:20240202T231715Z
UID:10000872-1707152400-1707159600@charlestown.ie
SUMMARY:Charlestown AFC Registration Evening
DESCRIPTION:
URL:https://charlestown.ie/event/charlestown-afc-registration-evening-2/
LOCATION:Charlestown Arts Centre
END:VEVENT
BEGIN:VEVENT
DTSTART;TZID=Europe/Dublin:20240125T200000
DTEND;TZID=Europe/Dublin:20240125T210000
DTSTAMP:20260425T041815
CREATED:20240110T201623Z
LAST-MODIFIED:20240110T201623Z
UID:10000852-1706212800-1706216400@charlestown.ie
SUMMARY:Charlestown Drama Group Meeting
DESCRIPTION:
URL:https://charlestown.ie/event/charlestown-drama-group-meeting/
LOCATION:Charlestown Arts Centre
CATEGORIES:Community
END:VEVENT
BEGIN:VEVENT
DTSTART;TZID=Europe/Dublin:20240125T190000
DTEND;TZID=Europe/Dublin:20240125T200000
DTSTAMP:20260425T041815
CREATED:20240105T104340Z
LAST-MODIFIED:20240105T104340Z
UID:10000845-1706209200-1706212800@charlestown.ie
SUMMARY:Anusara Yoga Classes
DESCRIPTION:
URL:https://charlestown.ie/event/anusara-yoga-classes-3/
LOCATION:Charlestown Arts Centre
CATEGORIES:Community
END:VEVENT
BEGIN:VEVENT
DTSTART;TZID=Europe/Dublin:20240118T190000
DTEND;TZID=Europe/Dublin:20240118T200000
DTSTAMP:20260425T041815
CREATED:20240105T104226Z
LAST-MODIFIED:20240105T104226Z
UID:10000844-1705604400-1705608000@charlestown.ie
SUMMARY:Anusara Yoga Classes
DESCRIPTION:
URL:https://charlestown.ie/event/anusara-yoga-classes-2/
LOCATION:Charlestown Arts Centre
CATEGORIES:Community
END:VEVENT
BEGIN:VEVENT
DTSTART;TZID=Europe/Dublin:20240116T190000
DTEND;TZID=Europe/Dublin:20240116T200000
DTSTAMP:20260425T041815
CREATED:20240109T190235Z
LAST-MODIFIED:20240109T190235Z
UID:10000851-1705431600-1705435200@charlestown.ie
SUMMARY:Kilbeagh Community Alert - Community Meeting with An Garda Siochana
DESCRIPTION:You are welcome to join Kilbeagh Community Alert Group who will be hosting a meeting with members of An Garda Siochàna and the community of Charlestown on Tuesday 16th January 2024 at 7pm in the Arts Centre\, Charlestown F12 D6V9.\nInspector Naomi De Rís (Swinford)\, Sergeant Regina Carley (Swinford)\, Garda Karen Weymouth (Charlestown) and Sean Cunnane Crime Prevention Officer will be in attendance.\nThey will provide a presentation on the latest crime prevention measures in the district.\nThey will also provide information on the change of districts in Mayo where Charlestown now comes under the North Mayo district with headquarters changing from Claremorris to Ballina and what effects this will have on the community of Charlestown.\nThis is also an opportunity to raise your concerns about policing in Charlestown and the surrounding areas.\nLet’s work together to enhance community safety and foster a sense of collective responsibility within the community of Charlestown.\nFor information please contact:\nPaul 0876259746\nAlan 0868523515
URL:https://charlestown.ie/event/kilbeagh-community-alert-community-meeting-with-an-garda-siochana/
LOCATION:Charlestown Arts Centre
CATEGORIES:Community
END:VEVENT
END:VCALENDAR