BEGIN:VCALENDAR
VERSION:2.0
PRODID:-//Charlestown - ECPv6.6.4.2//NONSGML v1.0//EN
CALSCALE:GREGORIAN
METHOD:PUBLISH
X-WR-CALNAME:Charlestown
X-ORIGINAL-URL:https://charlestown.ie
X-WR-CALDESC:Events for Charlestown
REFRESH-INTERVAL;VALUE=DURATION:PT1H
X-Robots-Tag:noindex
X-PUBLISHED-TTL:PT1H
BEGIN:VTIMEZONE
TZID:Europe/Dublin
BEGIN:DAYLIGHT
TZOFFSETFROM:+0000
TZOFFSETTO:+0100
TZNAME:IST
DTSTART:20240331T010000
END:DAYLIGHT
BEGIN:STANDARD
TZOFFSETFROM:+0100
TZOFFSETTO:+0000
TZNAME:GMT
DTSTART:20241027T010000
END:STANDARD
END:VTIMEZONE
BEGIN:VEVENT
DTSTART;TZID=Europe/Dublin:20241017T203000
DTEND;TZID=Europe/Dublin:20241017T220000
DTSTAMP:20260425T014516
CREATED:20240911T111228Z
LAST-MODIFIED:20240911T111228Z
UID:10001120-1729197000-1729202400@charlestown.ie
SUMMARY:Charlestown Drama Group
DESCRIPTION:
URL:https://charlestown.ie/event/charlestown-drama-group-7/
LOCATION:Charlestown Arts Centre
ATTACH;FMTTYPE=image/jpeg:https://charlestown.ie/wp-content/uploads/2024/09/Drama.jpg
END:VEVENT
BEGIN:VEVENT
DTSTART;TZID=Europe/Dublin:20241017T191500
DTEND;TZID=Europe/Dublin:20241017T201500
DTSTAMP:20260425T014516
CREATED:20240910T210436Z
LAST-MODIFIED:20240910T210436Z
UID:10001088-1729192500-1729196100@charlestown.ie
SUMMARY:Yoga - Mixed (Male & Female)
DESCRIPTION:
URL:https://charlestown.ie/event/yoga-mixed-male-female-5/
LOCATION:Charlestown Arts Centre
ATTACH;FMTTYPE=image/jpeg:https://charlestown.ie/wp-content/uploads/2024/09/Yoga.jpg
END:VEVENT
BEGIN:VEVENT
DTSTART;TZID=Europe/Dublin:20241016T160000
DTEND;TZID=Europe/Dublin:20241016T190000
DTSTAMP:20260425T014516
CREATED:20240911T110302Z
LAST-MODIFIED:20240911T110302Z
UID:10001112-1729094400-1729105200@charlestown.ie
SUMMARY:KatieMairead Ballet & Acro Arts
DESCRIPTION:KatieMairead Ballet & Acro Arts \nBaby Ballet @4pm \nBallet 5 Yrs+ @4.30pm \n  \nAcro Arts 5 Yrs+ @6pm
URL:https://charlestown.ie/event/katiemairead-ballet-acro-arts-5/
LOCATION:Charlestown Arts Centre
ATTACH;FMTTYPE=image/jpeg:https://charlestown.ie/wp-content/uploads/2024/09/Ballet.jpg
END:VEVENT
BEGIN:VEVENT
DTSTART;TZID=Europe/Dublin:20241014T200000
DTEND;TZID=Europe/Dublin:20241014T210000
DTSTAMP:20260425T014516
CREATED:20240910T211649Z
LAST-MODIFIED:20240910T211649Z
UID:10001095-1728936000-1728939600@charlestown.ie
SUMMARY:Pilates with Taragh
DESCRIPTION:
URL:https://charlestown.ie/event/pilates-with-taragh-5/
LOCATION:Charlestown Arts Centre
ATTACH;FMTTYPE=image/jpeg:https://charlestown.ie/wp-content/uploads/2024/09/Pilates.jpg
END:VEVENT
BEGIN:VEVENT
DTSTART;TZID=Europe/Dublin:20241011T193000
DTEND;TZID=Europe/Dublin:20241011T203000
DTSTAMP:20260425T014516
CREATED:20241009T130257Z
LAST-MODIFIED:20241009T130257Z
UID:10001304-1728675000-1728678600@charlestown.ie
SUMMARY:GAA - Community Feedback Workshop - Club Strategic Plan 2025-2027
DESCRIPTION:Community Engagment Evening – Club Strategic Plan\n\n\n\nCharlestown Sarsfields GAA Club are hosting a community engagement evening next Friday evening 11th Oct at 7.30 in the Arts Centre as part of our Club Strategic Plan.\nWe invite all members\, non members\, businesses\, voluntary groups and our wider community to come along and have your say in our clubs plan for the next 3 years.\n\n\nThe Sarsfields club is an important part of our community. It’s your community\, please help us as we set out on this exciting phase in the clubs future development.\n\n\nWe hope to see you there!
URL:https://charlestown.ie/event/gaa-community-feedback-workshop-club-strategic-plan-2025-2027/
LOCATION:Charlestown Arts Centre
CATEGORIES:Children,Community,Family Event,GAA- LGFA,Schools
ATTACH;FMTTYPE=image/jpeg:https://charlestown.ie/wp-content/uploads/2024/10/Strategic-Plan.jpg
ORGANIZER;CN="Charlestown Sarsfields GAA":MAILTO:secretary.charlestown.mayo@gaa.ie
END:VEVENT
BEGIN:VEVENT
DTSTART;TZID=Europe/Dublin:20241011T120000
DTEND;TZID=Europe/Dublin:20241011T130000
DTSTAMP:20260425T014516
CREATED:20241009T125325Z
LAST-MODIFIED:20241009T125325Z
UID:10001296-1728648000-1728651600@charlestown.ie
SUMMARY:Activator Pole & Chair Exercises - Winter Schedule 2024
DESCRIPTION:
URL:https://charlestown.ie/event/activator-pole-chair-exercises-winter-schedule-2024/2024-10-11/
LOCATION:Charlestown Arts Centre
CATEGORIES:Community
ATTACH;FMTTYPE=image/jpeg:https://charlestown.ie/wp-content/uploads/2024/10/Winter-Schedule-Exercise.jpg
ORGANIZER;CN="Charlestown Development Association":MAILTO:charlestownda@gmail.com
END:VEVENT
BEGIN:VEVENT
DTSTART;TZID=Europe/Dublin:20241010T203000
DTEND;TZID=Europe/Dublin:20241010T220000
DTSTAMP:20260425T014516
CREATED:20240911T111131Z
LAST-MODIFIED:20240911T111131Z
UID:10001119-1728592200-1728597600@charlestown.ie
SUMMARY:Charlestown Drama Group
DESCRIPTION:
URL:https://charlestown.ie/event/charlestown-drama-group-6/
LOCATION:Charlestown Arts Centre
ATTACH;FMTTYPE=image/jpeg:https://charlestown.ie/wp-content/uploads/2024/09/Drama.jpg
END:VEVENT
BEGIN:VEVENT
DTSTART;TZID=Europe/Dublin:20241010T191500
DTEND;TZID=Europe/Dublin:20241010T201500
DTSTAMP:20260425T014516
CREATED:20240910T210310Z
LAST-MODIFIED:20240910T210310Z
UID:10001087-1728587700-1728591300@charlestown.ie
SUMMARY:Yoga - Mixed (Male & Female)
DESCRIPTION:
URL:https://charlestown.ie/event/yoga-mixed-male-female-4/
LOCATION:Charlestown Arts Centre
ATTACH;FMTTYPE=image/jpeg:https://charlestown.ie/wp-content/uploads/2024/09/Yoga.jpg
END:VEVENT
BEGIN:VEVENT
DTSTART;TZID=Europe/Dublin:20241009T193000
DTEND;TZID=Europe/Dublin:20241009T203000
DTSTAMP:20260425T014516
CREATED:20240911T105235Z
LAST-MODIFIED:20240911T105235Z
UID:10001104-1728502200-1728505800@charlestown.ie
SUMMARY:Salsa Dancing
DESCRIPTION:
URL:https://charlestown.ie/event/salsa-dancing-4/
LOCATION:Charlestown Arts Centre
ATTACH;FMTTYPE=image/jpeg:https://charlestown.ie/wp-content/uploads/2024/09/salsa-e1730497732958.jpg
END:VEVENT
BEGIN:VEVENT
DTSTART;TZID=Europe/Dublin:20241009T160000
DTEND;TZID=Europe/Dublin:20241009T190000
DTSTAMP:20260425T014516
CREATED:20240911T110138Z
LAST-MODIFIED:20240911T110138Z
UID:10001111-1728489600-1728500400@charlestown.ie
SUMMARY:KatieMairead Ballet & Acro Arts
DESCRIPTION:  \nKatieMairead Ballet & Acro Arts \nBaby Ballet @4pm \nBallet 5 Yrs+ @4.30pm \nAcro Arts 5 Yrs+ @6pm
URL:https://charlestown.ie/event/katiemairead-ballet-acro-arts-4/
LOCATION:Charlestown Arts Centre
ATTACH;FMTTYPE=image/jpeg:https://charlestown.ie/wp-content/uploads/2024/09/Ballet.jpg
END:VEVENT
BEGIN:VEVENT
DTSTART;TZID=Europe/Dublin:20241007T200000
DTEND;TZID=Europe/Dublin:20241007T210000
DTSTAMP:20260425T014516
CREATED:20240910T211528Z
LAST-MODIFIED:20240910T211528Z
UID:10001094-1728331200-1728334800@charlestown.ie
SUMMARY:Pilates with Taragh
DESCRIPTION:
URL:https://charlestown.ie/event/pilates-with-taragh-4/
LOCATION:Charlestown Arts Centre
ATTACH;FMTTYPE=image/jpeg:https://charlestown.ie/wp-content/uploads/2024/09/Pilates.jpg
END:VEVENT
BEGIN:VEVENT
DTSTART;TZID=Europe/Dublin:20241003T203000
DTEND;TZID=Europe/Dublin:20241003T220000
DTSTAMP:20260425T014516
CREATED:20240911T111044Z
LAST-MODIFIED:20240911T111044Z
UID:10001118-1727987400-1727992800@charlestown.ie
SUMMARY:Charlestown Drama Group
DESCRIPTION:
URL:https://charlestown.ie/event/charlestown-drama-group-5/
LOCATION:Charlestown Arts Centre
ATTACH;FMTTYPE=image/jpeg:https://charlestown.ie/wp-content/uploads/2024/09/Drama.jpg
END:VEVENT
BEGIN:VEVENT
DTSTART;TZID=Europe/Dublin:20241003T191500
DTEND;TZID=Europe/Dublin:20241003T201500
DTSTAMP:20260425T014516
CREATED:20240910T210149Z
LAST-MODIFIED:20240910T210149Z
UID:10001086-1727982900-1727986500@charlestown.ie
SUMMARY:Yoga - Mixed (Male & Female)
DESCRIPTION:
URL:https://charlestown.ie/event/yoga-mixed-male-female-3/
LOCATION:Charlestown Arts Centre
ATTACH;FMTTYPE=image/jpeg:https://charlestown.ie/wp-content/uploads/2024/09/Yoga.jpg
END:VEVENT
BEGIN:VEVENT
DTSTART;TZID=Europe/Dublin:20241002T193000
DTEND;TZID=Europe/Dublin:20241002T203000
DTSTAMP:20260425T014516
CREATED:20240910T212227Z
LAST-MODIFIED:20240910T212227Z
UID:10001099-1727897400-1727901000@charlestown.ie
SUMMARY:Salsa Dancing
DESCRIPTION:
URL:https://charlestown.ie/event/salsa-dancing-3/
LOCATION:Charlestown Arts Centre
ATTACH;FMTTYPE=image/jpeg:https://charlestown.ie/wp-content/uploads/2024/09/salsa-e1730497732958.jpg
END:VEVENT
BEGIN:VEVENT
DTSTART;TZID=Europe/Dublin:20241002T160000
DTEND;TZID=Europe/Dublin:20241002T190000
DTSTAMP:20260425T014516
CREATED:20240910T213010Z
LAST-MODIFIED:20240910T213010Z
UID:10001102-1727884800-1727895600@charlestown.ie
SUMMARY:KatieMairead Ballet/Acro Arts
DESCRIPTION:KatieMairead Ballet/Acro Arts
URL:https://charlestown.ie/event/katiemairead-ballet-acro-arts-3/
LOCATION:Charlestown Arts Centre
ATTACH;FMTTYPE=image/jpeg:https://charlestown.ie/wp-content/uploads/2024/09/Ballet.jpg
END:VEVENT
BEGIN:VEVENT
DTSTART;TZID=Europe/Dublin:20240930T200000
DTEND;TZID=Europe/Dublin:20240930T210000
DTSTAMP:20260425T014516
CREATED:20240910T211430Z
LAST-MODIFIED:20240910T211430Z
UID:10001093-1727726400-1727730000@charlestown.ie
SUMMARY:Pilates with Taragh
DESCRIPTION:
URL:https://charlestown.ie/event/pilates-with-taragh-3/
LOCATION:Charlestown Arts Centre
ATTACH;FMTTYPE=image/jpeg:https://charlestown.ie/wp-content/uploads/2024/09/Pilates.jpg
END:VEVENT
BEGIN:VEVENT
DTSTART;TZID=Europe/Dublin:20240926T203000
DTEND;TZID=Europe/Dublin:20240926T220000
DTSTAMP:20260425T014516
CREATED:20240911T110940Z
LAST-MODIFIED:20240911T110940Z
UID:10001117-1727382600-1727388000@charlestown.ie
SUMMARY:Charlestown Drama Group
DESCRIPTION:
URL:https://charlestown.ie/event/charlestown-drama-group-4/
LOCATION:Charlestown Arts Centre
ATTACH;FMTTYPE=image/jpeg:https://charlestown.ie/wp-content/uploads/2024/09/Drama.jpg
END:VEVENT
BEGIN:VEVENT
DTSTART;TZID=Europe/Dublin:20240926T191500
DTEND;TZID=Europe/Dublin:20240926T201500
DTSTAMP:20260425T014516
CREATED:20240910T210024Z
LAST-MODIFIED:20240910T210024Z
UID:10001085-1727378100-1727381700@charlestown.ie
SUMMARY:Yoga - Mixed (Male & Female)
DESCRIPTION:
URL:https://charlestown.ie/event/yoga-mixed-male-female-2/
LOCATION:Charlestown Arts Centre
ATTACH;FMTTYPE=image/jpeg:https://charlestown.ie/wp-content/uploads/2024/09/Yoga.jpg
END:VEVENT
BEGIN:VEVENT
DTSTART;TZID=Europe/Dublin:20240925T193000
DTEND;TZID=Europe/Dublin:20240925T203000
DTSTAMP:20260425T014516
CREATED:20240910T212124Z
LAST-MODIFIED:20240910T212124Z
UID:10001098-1727292600-1727296200@charlestown.ie
SUMMARY:Salsa Dancing
DESCRIPTION:
URL:https://charlestown.ie/event/salsa-dancing-2/
LOCATION:Charlestown Arts Centre
ATTACH;FMTTYPE=image/jpeg:https://charlestown.ie/wp-content/uploads/2024/09/salsa-e1730497732958.jpg
END:VEVENT
BEGIN:VEVENT
DTSTART;TZID=Europe/Dublin:20240925T160000
DTEND;TZID=Europe/Dublin:20240925T190000
DTSTAMP:20260425T014516
CREATED:20240910T212904Z
LAST-MODIFIED:20240910T212904Z
UID:10001101-1727280000-1727290800@charlestown.ie
SUMMARY:KatieMairead Ballet/Acro Arts
DESCRIPTION:KatieMairead Ballet/Acro Arts \n4pm  – Baby Ballet \n4.30 – Ballet 5 Yrs Plus \n6pm -Acro Arts 5 Yrs Plus
URL:https://charlestown.ie/event/katiemairead-ballet-acro-arts-2/
LOCATION:Charlestown Arts Centre
ATTACH;FMTTYPE=image/jpeg:https://charlestown.ie/wp-content/uploads/2024/09/Ballet.jpg
END:VEVENT
BEGIN:VEVENT
DTSTART;TZID=Europe/Dublin:20240923T200000
DTEND;TZID=Europe/Dublin:20240923T210000
DTSTAMP:20260425T014516
CREATED:20240910T211333Z
LAST-MODIFIED:20240910T211333Z
UID:10001092-1727121600-1727125200@charlestown.ie
SUMMARY:Pilates with Taragh
DESCRIPTION:
URL:https://charlestown.ie/event/pilates-with-taragh-2/
LOCATION:Charlestown Arts Centre
ATTACH;FMTTYPE=image/jpeg:https://charlestown.ie/wp-content/uploads/2024/09/Pilates.jpg
END:VEVENT
BEGIN:VEVENT
DTSTART;TZID=Europe/Dublin:20240919T203000
DTEND;TZID=Europe/Dublin:20240919T220000
DTSTAMP:20260425T014516
CREATED:20240910T214106Z
LAST-MODIFIED:20240910T214106Z
UID:10001103-1726777800-1726783200@charlestown.ie
SUMMARY:Charlestown Drama Group
DESCRIPTION:Rehearsal for upcoming productions in the art centre barrack street this Thursday 12 th @ 8.30pm .We are looking for volunteers to help out with make up \, Wardrobe\, lighting etc… Please come along if you can help us out
URL:https://charlestown.ie/event/charlestown-drama-group/
LOCATION:Charlestown Arts Centre
ATTACH;FMTTYPE=image/jpeg:https://charlestown.ie/wp-content/uploads/2024/09/Drama.jpg
END:VEVENT
BEGIN:VEVENT
DTSTART;TZID=Europe/Dublin:20240919T191500
DTEND;TZID=Europe/Dublin:20240919T201500
DTSTAMP:20260425T014516
CREATED:20240910T205912Z
LAST-MODIFIED:20240910T205912Z
UID:10001084-1726773300-1726776900@charlestown.ie
SUMMARY:Yoga - Mixed (Male & Female)
DESCRIPTION:
URL:https://charlestown.ie/event/yoga-mixed-male-female/
LOCATION:Charlestown Arts Centre
ATTACH;FMTTYPE=image/jpeg:https://charlestown.ie/wp-content/uploads/2024/09/Yoga.jpg
END:VEVENT
BEGIN:VEVENT
DTSTART;TZID=Europe/Dublin:20240918T193000
DTEND;TZID=Europe/Dublin:20240918T203000
DTSTAMP:20260425T014516
CREATED:20240910T150043Z
LAST-MODIFIED:20240910T150043Z
UID:10001083-1726687800-1726691400@charlestown.ie
SUMMARY:Salsa Dancing
DESCRIPTION:https://www.facebook.com/profile.php?id=61551009330167 \n  \n353 86 357 1360
URL:https://charlestown.ie/event/salsa-dancing/
LOCATION:Charlestown Arts Centre
ATTACH;FMTTYPE=image/jpeg:https://charlestown.ie/wp-content/uploads/2024/09/salsa-e1730497732958.jpg
END:VEVENT
BEGIN:VEVENT
DTSTART;TZID=Europe/Dublin:20240918T160000
DTEND;TZID=Europe/Dublin:20240918T190000
DTSTAMP:20260425T014516
CREATED:20240910T212802Z
LAST-MODIFIED:20240910T212802Z
UID:10001100-1726675200-1726686000@charlestown.ie
SUMMARY:KatieMairead Ballet/Acro Arts
DESCRIPTION:KatieMairead Ballet/Acro Arts \n4pm  – Baby Ballet \n4.30 – Ballet 5 Yrs Plus \n6pm -Acro Arts 5 Yrs Plus
URL:https://charlestown.ie/event/katiemairead-ballet-acro-arts/
LOCATION:Charlestown Arts Centre
ATTACH;FMTTYPE=image/jpeg:https://charlestown.ie/wp-content/uploads/2024/09/Ballet.jpg
END:VEVENT
BEGIN:VEVENT
DTSTART;TZID=Europe/Dublin:20240916T200000
DTEND;TZID=Europe/Dublin:20240916T210000
DTSTAMP:20260425T014516
CREATED:20240910T211226Z
LAST-MODIFIED:20240910T211226Z
UID:10001091-1726516800-1726520400@charlestown.ie
SUMMARY:Pilates with Taragh
DESCRIPTION:
URL:https://charlestown.ie/event/pilates-with-taragh/
LOCATION:Charlestown Arts Centre
ATTACH;FMTTYPE=image/jpeg:https://charlestown.ie/wp-content/uploads/2024/09/Pilates.jpg
END:VEVENT
BEGIN:VEVENT
DTSTART;TZID=Europe/Dublin:20240913T120000
DTEND;TZID=Europe/Dublin:20240913T133000
DTSTAMP:20260425T014516
CREATED:20240626T092445Z
LAST-MODIFIED:20240910T214516Z
UID:10000997-1726228800-1726234200@charlestown.ie
SUMMARY:Activator Pole/Chair Exercise Class
DESCRIPTION:
URL:https://charlestown.ie/event/activator-pole-chair-exercise-class-11/
LOCATION:Charlestown Arts Centre
CATEGORIES:Community,Fitness
ATTACH;FMTTYPE=image/jpeg:https://charlestown.ie/wp-content/uploads/2015/06/Charlestown-Aerial-View.jpg
END:VEVENT
BEGIN:VEVENT
DTSTART;TZID=Europe/Dublin:20240912T203000
DTEND;TZID=Europe/Dublin:20240912T220000
DTSTAMP:20260425T014516
CREATED:20240911T110806Z
LAST-MODIFIED:20240911T110806Z
UID:10001115-1726173000-1726178400@charlestown.ie
SUMMARY:Charlestown Drama Group
DESCRIPTION:
URL:https://charlestown.ie/event/charlestown-drama-group-2/
LOCATION:Charlestown Arts Centre
ATTACH;FMTTYPE=image/jpeg:https://charlestown.ie/wp-content/uploads/2024/09/Drama.jpg
END:VEVENT
BEGIN:VEVENT
DTSTART;TZID=Europe/Dublin:20240912T191500
DTEND;TZID=Europe/Dublin:20240912T201500
DTSTAMP:20260425T014516
CREATED:20240911T120638Z
LAST-MODIFIED:20240911T120638Z
UID:10001131-1726168500-1726172100@charlestown.ie
SUMMARY:Yoga - Mixed (Male & Female)
DESCRIPTION:
URL:https://charlestown.ie/event/yoga-mixed-male-female-8/
LOCATION:Charlestown Arts Centre
ATTACH;FMTTYPE=image/jpeg:https://charlestown.ie/wp-content/uploads/2024/09/Yoga.jpg
END:VEVENT
BEGIN:VEVENT
DTSTART;TZID=Europe/Dublin:20240816T120000
DTEND;TZID=Europe/Dublin:20240816T120000
DTSTAMP:20260425T014516
CREATED:20240626T092332Z
LAST-MODIFIED:20240626T092332Z
UID:10000996-1723809600-1723809600@charlestown.ie
SUMMARY:Activator Pole/Chair Exercise Class
DESCRIPTION:
URL:https://charlestown.ie/event/activator-pole-chair-exercise-class-10/
LOCATION:Charlestown Arts Centre
CATEGORIES:Community,Fitness
ATTACH;FMTTYPE=image/jpeg:https://charlestown.ie/wp-content/uploads/2024/06/Pole-jULY.jpg
END:VEVENT
END:VCALENDAR