BEGIN:VCALENDAR
VERSION:2.0
PRODID:-//Charlestown - ECPv6.6.4.2//NONSGML v1.0//EN
CALSCALE:GREGORIAN
METHOD:PUBLISH
X-ORIGINAL-URL:https://charlestown.ie
X-WR-CALDESC:Events for Charlestown
REFRESH-INTERVAL;VALUE=DURATION:PT1H
X-Robots-Tag:noindex
X-PUBLISHED-TTL:PT1H
BEGIN:VTIMEZONE
TZID:Europe/Dublin
BEGIN:DAYLIGHT
TZOFFSETFROM:+0000
TZOFFSETTO:+0100
TZNAME:IST
DTSTART:20290325T010000
END:DAYLIGHT
BEGIN:STANDARD
TZOFFSETFROM:+0100
TZOFFSETTO:+0000
TZNAME:GMT
DTSTART:20291028T010000
END:STANDARD
END:VTIMEZONE
BEGIN:VEVENT
DTSTART;TZID=Europe/Dublin:20290103T110000
DTEND;TZID=Europe/Dublin:20290103T130000
DTSTAMP:20260424T183144
CREATED:20250819T203259Z
LAST-MODIFIED:20250819T203259Z
UID:10002356-1862132400-1862139600@charlestown.ie
SUMMARY:Adult Arts & Crafts Group
DESCRIPTION:
URL:https://charlestown.ie/event/adult-arts-crafts-group/2029-01-03/
LOCATION:Charlestown Arts Centre
ATTACH;FMTTYPE=image/heic:https://charlestown.ie/wp-content/uploads/2025/08/20250819_175055.heic
END:VEVENT
BEGIN:VEVENT
DTSTART;TZID=Europe/Dublin:20290110T110000
DTEND;TZID=Europe/Dublin:20290110T130000
DTSTAMP:20260424T183144
CREATED:20250819T203259Z
LAST-MODIFIED:20250819T203259Z
UID:10002357-1862737200-1862744400@charlestown.ie
SUMMARY:Adult Arts & Crafts Group
DESCRIPTION:
URL:https://charlestown.ie/event/adult-arts-crafts-group/2029-01-10/
LOCATION:Charlestown Arts Centre
ATTACH;FMTTYPE=image/heic:https://charlestown.ie/wp-content/uploads/2025/08/20250819_175055.heic
END:VEVENT
BEGIN:VEVENT
DTSTART;TZID=Europe/Dublin:20290117T110000
DTEND;TZID=Europe/Dublin:20290117T130000
DTSTAMP:20260424T183144
CREATED:20250819T203259Z
LAST-MODIFIED:20250819T203259Z
UID:10002358-1863342000-1863349200@charlestown.ie
SUMMARY:Adult Arts & Crafts Group
DESCRIPTION:
URL:https://charlestown.ie/event/adult-arts-crafts-group/2029-01-17/
LOCATION:Charlestown Arts Centre
ATTACH;FMTTYPE=image/heic:https://charlestown.ie/wp-content/uploads/2025/08/20250819_175055.heic
END:VEVENT
BEGIN:VEVENT
DTSTART;TZID=Europe/Dublin:20290124T110000
DTEND;TZID=Europe/Dublin:20290124T130000
DTSTAMP:20260424T183144
CREATED:20250819T203259Z
LAST-MODIFIED:20250819T203259Z
UID:10002359-1863946800-1863954000@charlestown.ie
SUMMARY:Adult Arts & Crafts Group
DESCRIPTION:
URL:https://charlestown.ie/event/adult-arts-crafts-group/2029-01-24/
LOCATION:Charlestown Arts Centre
ATTACH;FMTTYPE=image/heic:https://charlestown.ie/wp-content/uploads/2025/08/20250819_175055.heic
END:VEVENT
BEGIN:VEVENT
DTSTART;TZID=Europe/Dublin:20290131T110000
DTEND;TZID=Europe/Dublin:20290131T130000
DTSTAMP:20260424T183144
CREATED:20250819T203259Z
LAST-MODIFIED:20250819T203259Z
UID:10002360-1864551600-1864558800@charlestown.ie
SUMMARY:Adult Arts & Crafts Group
DESCRIPTION:
URL:https://charlestown.ie/event/adult-arts-crafts-group/2029-01-31/
LOCATION:Charlestown Arts Centre
ATTACH;FMTTYPE=image/heic:https://charlestown.ie/wp-content/uploads/2025/08/20250819_175055.heic
END:VEVENT
BEGIN:VEVENT
DTSTART;TZID=Europe/Dublin:20290207T110000
DTEND;TZID=Europe/Dublin:20290207T130000
DTSTAMP:20260424T183144
CREATED:20250819T203259Z
LAST-MODIFIED:20250819T203259Z
UID:10002361-1865156400-1865163600@charlestown.ie
SUMMARY:Adult Arts & Crafts Group
DESCRIPTION:
URL:https://charlestown.ie/event/adult-arts-crafts-group/2029-02-07/
LOCATION:Charlestown Arts Centre
ATTACH;FMTTYPE=image/heic:https://charlestown.ie/wp-content/uploads/2025/08/20250819_175055.heic
END:VEVENT
BEGIN:VEVENT
DTSTART;TZID=Europe/Dublin:20290214T110000
DTEND;TZID=Europe/Dublin:20290214T130000
DTSTAMP:20260424T183144
CREATED:20250819T203259Z
LAST-MODIFIED:20250819T203259Z
UID:10002362-1865761200-1865768400@charlestown.ie
SUMMARY:Adult Arts & Crafts Group
DESCRIPTION:
URL:https://charlestown.ie/event/adult-arts-crafts-group/2029-02-14/
LOCATION:Charlestown Arts Centre
ATTACH;FMTTYPE=image/heic:https://charlestown.ie/wp-content/uploads/2025/08/20250819_175055.heic
END:VEVENT
BEGIN:VEVENT
DTSTART;TZID=Europe/Dublin:20290221T110000
DTEND;TZID=Europe/Dublin:20290221T130000
DTSTAMP:20260424T183144
CREATED:20250819T203259Z
LAST-MODIFIED:20250819T203259Z
UID:10002363-1866366000-1866373200@charlestown.ie
SUMMARY:Adult Arts & Crafts Group
DESCRIPTION:
URL:https://charlestown.ie/event/adult-arts-crafts-group/2029-02-21/
LOCATION:Charlestown Arts Centre
ATTACH;FMTTYPE=image/heic:https://charlestown.ie/wp-content/uploads/2025/08/20250819_175055.heic
END:VEVENT
BEGIN:VEVENT
DTSTART;TZID=Europe/Dublin:20290228T110000
DTEND;TZID=Europe/Dublin:20290228T130000
DTSTAMP:20260424T183144
CREATED:20250819T203259Z
LAST-MODIFIED:20250819T203259Z
UID:10002364-1866970800-1866978000@charlestown.ie
SUMMARY:Adult Arts & Crafts Group
DESCRIPTION:
URL:https://charlestown.ie/event/adult-arts-crafts-group/2029-02-28/
LOCATION:Charlestown Arts Centre
ATTACH;FMTTYPE=image/heic:https://charlestown.ie/wp-content/uploads/2025/08/20250819_175055.heic
END:VEVENT
BEGIN:VEVENT
DTSTART;TZID=Europe/Dublin:20290307T110000
DTEND;TZID=Europe/Dublin:20290307T130000
DTSTAMP:20260424T183144
CREATED:20250819T203259Z
LAST-MODIFIED:20250819T203259Z
UID:10002365-1867575600-1867582800@charlestown.ie
SUMMARY:Adult Arts & Crafts Group
DESCRIPTION:
URL:https://charlestown.ie/event/adult-arts-crafts-group/2029-03-07/
LOCATION:Charlestown Arts Centre
ATTACH;FMTTYPE=image/heic:https://charlestown.ie/wp-content/uploads/2025/08/20250819_175055.heic
END:VEVENT
BEGIN:VEVENT
DTSTART;TZID=Europe/Dublin:20290314T110000
DTEND;TZID=Europe/Dublin:20290314T130000
DTSTAMP:20260424T183144
CREATED:20250819T203259Z
LAST-MODIFIED:20250819T203259Z
UID:10002366-1868180400-1868187600@charlestown.ie
SUMMARY:Adult Arts & Crafts Group
DESCRIPTION:
URL:https://charlestown.ie/event/adult-arts-crafts-group/2029-03-14/
LOCATION:Charlestown Arts Centre
ATTACH;FMTTYPE=image/heic:https://charlestown.ie/wp-content/uploads/2025/08/20250819_175055.heic
END:VEVENT
BEGIN:VEVENT
DTSTART;TZID=Europe/Dublin:20290321T110000
DTEND;TZID=Europe/Dublin:20290321T130000
DTSTAMP:20260424T183144
CREATED:20250819T203259Z
LAST-MODIFIED:20250819T203259Z
UID:10002367-1868785200-1868792400@charlestown.ie
SUMMARY:Adult Arts & Crafts Group
DESCRIPTION:
URL:https://charlestown.ie/event/adult-arts-crafts-group/2029-03-21/
LOCATION:Charlestown Arts Centre
ATTACH;FMTTYPE=image/heic:https://charlestown.ie/wp-content/uploads/2025/08/20250819_175055.heic
END:VEVENT
BEGIN:VEVENT
DTSTART;TZID=Europe/Dublin:20290328T110000
DTEND;TZID=Europe/Dublin:20290328T130000
DTSTAMP:20260424T183144
CREATED:20250819T203259Z
LAST-MODIFIED:20250819T203259Z
UID:10002368-1869390000-1869397200@charlestown.ie
SUMMARY:Adult Arts & Crafts Group
DESCRIPTION:
URL:https://charlestown.ie/event/adult-arts-crafts-group/2029-03-28/
LOCATION:Charlestown Arts Centre
ATTACH;FMTTYPE=image/heic:https://charlestown.ie/wp-content/uploads/2025/08/20250819_175055.heic
END:VEVENT
BEGIN:VEVENT
DTSTART;TZID=Europe/Dublin:20290404T110000
DTEND;TZID=Europe/Dublin:20290404T130000
DTSTAMP:20260424T183144
CREATED:20250819T203259Z
LAST-MODIFIED:20250819T203259Z
UID:10002369-1869994800-1870002000@charlestown.ie
SUMMARY:Adult Arts & Crafts Group
DESCRIPTION:
URL:https://charlestown.ie/event/adult-arts-crafts-group/2029-04-04/
LOCATION:Charlestown Arts Centre
ATTACH;FMTTYPE=image/heic:https://charlestown.ie/wp-content/uploads/2025/08/20250819_175055.heic
END:VEVENT
BEGIN:VEVENT
DTSTART;TZID=Europe/Dublin:20290411T110000
DTEND;TZID=Europe/Dublin:20290411T130000
DTSTAMP:20260424T183144
CREATED:20250819T203259Z
LAST-MODIFIED:20250819T203259Z
UID:10002370-1870599600-1870606800@charlestown.ie
SUMMARY:Adult Arts & Crafts Group
DESCRIPTION:
URL:https://charlestown.ie/event/adult-arts-crafts-group/2029-04-11/
LOCATION:Charlestown Arts Centre
ATTACH;FMTTYPE=image/heic:https://charlestown.ie/wp-content/uploads/2025/08/20250819_175055.heic
END:VEVENT
BEGIN:VEVENT
DTSTART;TZID=Europe/Dublin:20290418T110000
DTEND;TZID=Europe/Dublin:20290418T130000
DTSTAMP:20260424T183144
CREATED:20250819T203259Z
LAST-MODIFIED:20250819T203259Z
UID:10002371-1871204400-1871211600@charlestown.ie
SUMMARY:Adult Arts & Crafts Group
DESCRIPTION:
URL:https://charlestown.ie/event/adult-arts-crafts-group/2029-04-18/
LOCATION:Charlestown Arts Centre
ATTACH;FMTTYPE=image/heic:https://charlestown.ie/wp-content/uploads/2025/08/20250819_175055.heic
END:VEVENT
BEGIN:VEVENT
DTSTART;TZID=Europe/Dublin:20290425T110000
DTEND;TZID=Europe/Dublin:20290425T130000
DTSTAMP:20260424T183144
CREATED:20250819T203259Z
LAST-MODIFIED:20250819T203259Z
UID:10002372-1871809200-1871816400@charlestown.ie
SUMMARY:Adult Arts & Crafts Group
DESCRIPTION:
URL:https://charlestown.ie/event/adult-arts-crafts-group/2029-04-25/
LOCATION:Charlestown Arts Centre
ATTACH;FMTTYPE=image/heic:https://charlestown.ie/wp-content/uploads/2025/08/20250819_175055.heic
END:VEVENT
BEGIN:VEVENT
DTSTART;TZID=Europe/Dublin:20290502T110000
DTEND;TZID=Europe/Dublin:20290502T130000
DTSTAMP:20260424T183144
CREATED:20250819T203259Z
LAST-MODIFIED:20250819T203259Z
UID:10002373-1872414000-1872421200@charlestown.ie
SUMMARY:Adult Arts & Crafts Group
DESCRIPTION:
URL:https://charlestown.ie/event/adult-arts-crafts-group/2029-05-02/
LOCATION:Charlestown Arts Centre
ATTACH;FMTTYPE=image/heic:https://charlestown.ie/wp-content/uploads/2025/08/20250819_175055.heic
END:VEVENT
BEGIN:VEVENT
DTSTART;TZID=Europe/Dublin:20290509T110000
DTEND;TZID=Europe/Dublin:20290509T130000
DTSTAMP:20260424T183144
CREATED:20250819T203259Z
LAST-MODIFIED:20250819T203259Z
UID:10002374-1873018800-1873026000@charlestown.ie
SUMMARY:Adult Arts & Crafts Group
DESCRIPTION:
URL:https://charlestown.ie/event/adult-arts-crafts-group/2029-05-09/
LOCATION:Charlestown Arts Centre
ATTACH;FMTTYPE=image/heic:https://charlestown.ie/wp-content/uploads/2025/08/20250819_175055.heic
END:VEVENT
BEGIN:VEVENT
DTSTART;TZID=Europe/Dublin:20290516T110000
DTEND;TZID=Europe/Dublin:20290516T130000
DTSTAMP:20260424T183144
CREATED:20250819T203259Z
LAST-MODIFIED:20250819T203259Z
UID:10002375-1873623600-1873630800@charlestown.ie
SUMMARY:Adult Arts & Crafts Group
DESCRIPTION:
URL:https://charlestown.ie/event/adult-arts-crafts-group/2029-05-16/
LOCATION:Charlestown Arts Centre
ATTACH;FMTTYPE=image/heic:https://charlestown.ie/wp-content/uploads/2025/08/20250819_175055.heic
END:VEVENT
BEGIN:VEVENT
DTSTART;TZID=Europe/Dublin:20290523T110000
DTEND;TZID=Europe/Dublin:20290523T130000
DTSTAMP:20260424T183144
CREATED:20250819T203259Z
LAST-MODIFIED:20250819T203259Z
UID:10002376-1874228400-1874235600@charlestown.ie
SUMMARY:Adult Arts & Crafts Group
DESCRIPTION:
URL:https://charlestown.ie/event/adult-arts-crafts-group/2029-05-23/
LOCATION:Charlestown Arts Centre
ATTACH;FMTTYPE=image/heic:https://charlestown.ie/wp-content/uploads/2025/08/20250819_175055.heic
END:VEVENT
BEGIN:VEVENT
DTSTART;TZID=Europe/Dublin:20290530T110000
DTEND;TZID=Europe/Dublin:20290530T130000
DTSTAMP:20260424T183144
CREATED:20250819T203259Z
LAST-MODIFIED:20250819T203259Z
UID:10002377-1874833200-1874840400@charlestown.ie
SUMMARY:Adult Arts & Crafts Group
DESCRIPTION:
URL:https://charlestown.ie/event/adult-arts-crafts-group/2029-05-30/
LOCATION:Charlestown Arts Centre
ATTACH;FMTTYPE=image/heic:https://charlestown.ie/wp-content/uploads/2025/08/20250819_175055.heic
END:VEVENT
BEGIN:VEVENT
DTSTART;TZID=Europe/Dublin:20290606T110000
DTEND;TZID=Europe/Dublin:20290606T130000
DTSTAMP:20260424T183144
CREATED:20250819T203259Z
LAST-MODIFIED:20250819T203259Z
UID:10002378-1875438000-1875445200@charlestown.ie
SUMMARY:Adult Arts & Crafts Group
DESCRIPTION:
URL:https://charlestown.ie/event/adult-arts-crafts-group/2029-06-06/
LOCATION:Charlestown Arts Centre
ATTACH;FMTTYPE=image/heic:https://charlestown.ie/wp-content/uploads/2025/08/20250819_175055.heic
END:VEVENT
BEGIN:VEVENT
DTSTART;TZID=Europe/Dublin:20290613T110000
DTEND;TZID=Europe/Dublin:20290613T130000
DTSTAMP:20260424T183144
CREATED:20250819T203259Z
LAST-MODIFIED:20250819T203259Z
UID:10002379-1876042800-1876050000@charlestown.ie
SUMMARY:Adult Arts & Crafts Group
DESCRIPTION:
URL:https://charlestown.ie/event/adult-arts-crafts-group/2029-06-13/
LOCATION:Charlestown Arts Centre
ATTACH;FMTTYPE=image/heic:https://charlestown.ie/wp-content/uploads/2025/08/20250819_175055.heic
END:VEVENT
BEGIN:VEVENT
DTSTART;TZID=Europe/Dublin:20290620T110000
DTEND;TZID=Europe/Dublin:20290620T130000
DTSTAMP:20260424T183144
CREATED:20250819T203259Z
LAST-MODIFIED:20250819T203259Z
UID:10002380-1876647600-1876654800@charlestown.ie
SUMMARY:Adult Arts & Crafts Group
DESCRIPTION:
URL:https://charlestown.ie/event/adult-arts-crafts-group/2029-06-20/
LOCATION:Charlestown Arts Centre
ATTACH;FMTTYPE=image/heic:https://charlestown.ie/wp-content/uploads/2025/08/20250819_175055.heic
END:VEVENT
BEGIN:VEVENT
DTSTART;TZID=Europe/Dublin:20290627T110000
DTEND;TZID=Europe/Dublin:20290627T130000
DTSTAMP:20260424T183144
CREATED:20250819T203259Z
LAST-MODIFIED:20250819T203259Z
UID:10002381-1877252400-1877259600@charlestown.ie
SUMMARY:Adult Arts & Crafts Group
DESCRIPTION:
URL:https://charlestown.ie/event/adult-arts-crafts-group/2029-06-27/
LOCATION:Charlestown Arts Centre
ATTACH;FMTTYPE=image/heic:https://charlestown.ie/wp-content/uploads/2025/08/20250819_175055.heic
END:VEVENT
BEGIN:VEVENT
DTSTART;TZID=Europe/Dublin:20290704T110000
DTEND;TZID=Europe/Dublin:20290704T130000
DTSTAMP:20260424T183144
CREATED:20250819T203259Z
LAST-MODIFIED:20250819T203259Z
UID:10002382-1877857200-1877864400@charlestown.ie
SUMMARY:Adult Arts & Crafts Group
DESCRIPTION:
URL:https://charlestown.ie/event/adult-arts-crafts-group/2029-07-04/
LOCATION:Charlestown Arts Centre
ATTACH;FMTTYPE=image/heic:https://charlestown.ie/wp-content/uploads/2025/08/20250819_175055.heic
END:VEVENT
BEGIN:VEVENT
DTSTART;TZID=Europe/Dublin:20290711T110000
DTEND;TZID=Europe/Dublin:20290711T130000
DTSTAMP:20260424T183144
CREATED:20250819T203259Z
LAST-MODIFIED:20250819T203259Z
UID:10002383-1878462000-1878469200@charlestown.ie
SUMMARY:Adult Arts & Crafts Group
DESCRIPTION:
URL:https://charlestown.ie/event/adult-arts-crafts-group/2029-07-11/
LOCATION:Charlestown Arts Centre
ATTACH;FMTTYPE=image/heic:https://charlestown.ie/wp-content/uploads/2025/08/20250819_175055.heic
END:VEVENT
BEGIN:VEVENT
DTSTART;TZID=Europe/Dublin:20290718T110000
DTEND;TZID=Europe/Dublin:20290718T130000
DTSTAMP:20260424T183144
CREATED:20250819T203259Z
LAST-MODIFIED:20250819T203259Z
UID:10002384-1879066800-1879074000@charlestown.ie
SUMMARY:Adult Arts & Crafts Group
DESCRIPTION:
URL:https://charlestown.ie/event/adult-arts-crafts-group/2029-07-18/
LOCATION:Charlestown Arts Centre
ATTACH;FMTTYPE=image/heic:https://charlestown.ie/wp-content/uploads/2025/08/20250819_175055.heic
END:VEVENT
BEGIN:VEVENT
DTSTART;TZID=Europe/Dublin:20290725T110000
DTEND;TZID=Europe/Dublin:20290725T130000
DTSTAMP:20260424T183144
CREATED:20250819T203259Z
LAST-MODIFIED:20250819T203259Z
UID:10002385-1879671600-1879678800@charlestown.ie
SUMMARY:Adult Arts & Crafts Group
DESCRIPTION:
URL:https://charlestown.ie/event/adult-arts-crafts-group/2029-07-25/
LOCATION:Charlestown Arts Centre
ATTACH;FMTTYPE=image/heic:https://charlestown.ie/wp-content/uploads/2025/08/20250819_175055.heic
END:VEVENT
END:VCALENDAR