BEGIN:VCALENDAR
VERSION:2.0
PRODID:-//Charlestown - ECPv6.6.4.2//NONSGML v1.0//EN
CALSCALE:GREGORIAN
METHOD:PUBLISH
X-ORIGINAL-URL:https://charlestown.ie
X-WR-CALDESC:Events for Charlestown
REFRESH-INTERVAL;VALUE=DURATION:PT1H
X-Robots-Tag:noindex
X-PUBLISHED-TTL:PT1H
BEGIN:VTIMEZONE
TZID:Europe/Dublin
BEGIN:DAYLIGHT
TZOFFSETFROM:+0000
TZOFFSETTO:+0100
TZNAME:IST
DTSTART:20240331T010000
END:DAYLIGHT
BEGIN:STANDARD
TZOFFSETFROM:+0100
TZOFFSETTO:+0000
TZNAME:GMT
DTSTART:20241027T010000
END:STANDARD
END:VTIMEZONE
BEGIN:VEVENT
DTSTART;TZID=Europe/Dublin:20241216T200000
DTEND;TZID=Europe/Dublin:20241216T210000
DTSTAMP:20260424T202752
CREATED:20241101T214032Z
LAST-MODIFIED:20250103T195736Z
UID:10001341-1734379200-1734382800@charlestown.ie
SUMMARY:Pilates with Taragh
DESCRIPTION:
URL:https://charlestown.ie/event/pilates-with-taragh-8/2024-12-16/
LOCATION:Charlestown Arts Centre
CATEGORIES:Community
ATTACH;FMTTYPE=image/jpeg:https://charlestown.ie/wp-content/uploads/2024/09/Pilates.jpg
END:VEVENT
BEGIN:VEVENT
DTSTART;TZID=Europe/Dublin:20241213T120000
DTEND;TZID=Europe/Dublin:20241213T130000
DTSTAMP:20260424T202752
CREATED:20241009T125325Z
LAST-MODIFIED:20241009T125325Z
UID:10001302-1734091200-1734094800@charlestown.ie
SUMMARY:Activator Pole & Chair Exercises - Winter Schedule 2024
DESCRIPTION:
URL:https://charlestown.ie/event/activator-pole-chair-exercises-winter-schedule-2024/2024-12-13/
LOCATION:Charlestown Arts Centre
CATEGORIES:Community
ATTACH;FMTTYPE=image/jpeg:https://charlestown.ie/wp-content/uploads/2024/10/Winter-Schedule-Exercise.jpg
ORGANIZER;CN="Charlestown Development Association":MAILTO:charlestownda@gmail.com
END:VEVENT
BEGIN:VEVENT
DTSTART;TZID=Europe/Dublin:20241211T193000
DTEND;TZID=Europe/Dublin:20241211T203000
DTSTAMP:20260424T202752
CREATED:20241101T214915Z
LAST-MODIFIED:20241101T214915Z
UID:10001381-1733945400-1733949000@charlestown.ie
SUMMARY:Salsa Dancing
DESCRIPTION:
URL:https://charlestown.ie/event/salsa-dancing-8/2024-12-11/
LOCATION:Charlestown Arts Centre
CATEGORIES:Community
ATTACH;FMTTYPE=image/jpeg:https://charlestown.ie/wp-content/uploads/2024/09/salsa-e1730497732958.jpg
END:VEVENT
BEGIN:VEVENT
DTSTART;TZID=Europe/Dublin:20241211T154500
DTEND;TZID=Europe/Dublin:20241211T191500
DTSTAMP:20260424T202752
CREATED:20241101T214532Z
LAST-MODIFIED:20250310T023449Z
UID:10001361-1733931900-1733944500@charlestown.ie
SUMMARY:Ballet & Acro Arts
DESCRIPTION:
URL:https://charlestown.ie/event/ballet-acro-arts/2024-12-11/
LOCATION:Charlestown Arts Centre
CATEGORIES:Community
ATTACH;FMTTYPE=image/jpeg:https://charlestown.ie/wp-content/uploads/2024/11/Screenshot_20250310_023233_Facebook.jpg
END:VEVENT
BEGIN:VEVENT
DTSTART;TZID=Europe/Dublin:20241209T200000
DTEND;TZID=Europe/Dublin:20241209T210000
DTSTAMP:20260424T202752
CREATED:20241101T214032Z
LAST-MODIFIED:20250103T195736Z
UID:10001340-1733774400-1733778000@charlestown.ie
SUMMARY:Pilates with Taragh
DESCRIPTION:
URL:https://charlestown.ie/event/pilates-with-taragh-8/2024-12-09/
LOCATION:Charlestown Arts Centre
CATEGORIES:Community
ATTACH;FMTTYPE=image/jpeg:https://charlestown.ie/wp-content/uploads/2024/09/Pilates.jpg
END:VEVENT
BEGIN:VEVENT
DTSTART;TZID=Europe/Dublin:20241206T130000
DTEND;TZID=Europe/Dublin:20241206T153000
DTSTAMP:20260424T202752
CREATED:20241205T204717Z
LAST-MODIFIED:20241205T204717Z
UID:10001513-1733490000-1733499000@charlestown.ie
SUMMARY:Charlestown Community Lunch
DESCRIPTION:
URL:https://charlestown.ie/event/charlestown-community-lunch/
LOCATION:Charlestown Arts Centre
CATEGORIES:Christmas,Community
ATTACH;FMTTYPE=image/jpeg:https://charlestown.ie/wp-content/uploads/2024/12/Screenshot_20241205_204408_Canva.jpg
END:VEVENT
BEGIN:VEVENT
DTSTART;TZID=Europe/Dublin:20241204T193000
DTEND;TZID=Europe/Dublin:20241204T203000
DTSTAMP:20260424T202752
CREATED:20241101T214915Z
LAST-MODIFIED:20241101T214915Z
UID:10001380-1733340600-1733344200@charlestown.ie
SUMMARY:Salsa Dancing
DESCRIPTION:
URL:https://charlestown.ie/event/salsa-dancing-8/2024-12-04/
LOCATION:Charlestown Arts Centre
CATEGORIES:Community
ATTACH;FMTTYPE=image/jpeg:https://charlestown.ie/wp-content/uploads/2024/09/salsa-e1730497732958.jpg
END:VEVENT
BEGIN:VEVENT
DTSTART;TZID=Europe/Dublin:20241204T154500
DTEND;TZID=Europe/Dublin:20241204T191500
DTSTAMP:20260424T202752
CREATED:20241101T214532Z
LAST-MODIFIED:20250310T023449Z
UID:10001360-1733327100-1733339700@charlestown.ie
SUMMARY:Ballet & Acro Arts
DESCRIPTION:
URL:https://charlestown.ie/event/ballet-acro-arts/2024-12-04/
LOCATION:Charlestown Arts Centre
CATEGORIES:Community
ATTACH;FMTTYPE=image/jpeg:https://charlestown.ie/wp-content/uploads/2024/11/Screenshot_20250310_023233_Facebook.jpg
END:VEVENT
BEGIN:VEVENT
DTSTART;TZID=Europe/Dublin:20241202T200000
DTEND;TZID=Europe/Dublin:20241202T210000
DTSTAMP:20260424T202752
CREATED:20241101T214032Z
LAST-MODIFIED:20250103T195736Z
UID:10001339-1733169600-1733173200@charlestown.ie
SUMMARY:Pilates with Taragh
DESCRIPTION:
URL:https://charlestown.ie/event/pilates-with-taragh-8/2024-12-02/
LOCATION:Charlestown Arts Centre
CATEGORIES:Community
ATTACH;FMTTYPE=image/jpeg:https://charlestown.ie/wp-content/uploads/2024/09/Pilates.jpg
END:VEVENT
BEGIN:VEVENT
DTSTART;TZID=Europe/Dublin:20241129T200000
DTEND;TZID=Europe/Dublin:20241129T210000
DTSTAMP:20260424T202752
CREATED:20241129T143129Z
LAST-MODIFIED:20241129T143129Z
UID:10001498-1732910400-1732914000@charlestown.ie
SUMMARY:Charlestown Sarsfields GAA - AGM
DESCRIPTION:Reminder that our AGM takes place  (Friday 29th of November) in the Arts Centre at 8pm. \nAll members are invited to attend!
URL:https://charlestown.ie/event/charlestown-sarsfields-gaa-agm/
LOCATION:Charlestown Arts Centre
CATEGORIES:GAA- LGFA
ATTACH;FMTTYPE=image/jpeg:https://charlestown.ie/wp-content/uploads/2024/11/Screenshot_20241129_142852_Facebook.jpg
ORGANIZER;CN="Charlestown Sarsfields GAA":MAILTO:secretary.charlestown.mayo@gaa.ie
END:VEVENT
BEGIN:VEVENT
DTSTART;TZID=Europe/Dublin:20241129T120000
DTEND;TZID=Europe/Dublin:20241129T130000
DTSTAMP:20260424T202752
CREATED:20241009T125325Z
LAST-MODIFIED:20241009T125325Z
UID:10001301-1732881600-1732885200@charlestown.ie
SUMMARY:Activator Pole & Chair Exercises - Winter Schedule 2024
DESCRIPTION:
URL:https://charlestown.ie/event/activator-pole-chair-exercises-winter-schedule-2024/2024-11-29/
LOCATION:Charlestown Arts Centre
CATEGORIES:Community
ATTACH;FMTTYPE=image/jpeg:https://charlestown.ie/wp-content/uploads/2024/10/Winter-Schedule-Exercise.jpg
ORGANIZER;CN="Charlestown Development Association":MAILTO:charlestownda@gmail.com
END:VEVENT
BEGIN:VEVENT
DTSTART;TZID=Europe/Dublin:20241127T193000
DTEND;TZID=Europe/Dublin:20241127T203000
DTSTAMP:20260424T202752
CREATED:20241101T214915Z
LAST-MODIFIED:20241101T214915Z
UID:10001379-1732735800-1732739400@charlestown.ie
SUMMARY:Salsa Dancing
DESCRIPTION:
URL:https://charlestown.ie/event/salsa-dancing-8/2024-11-27/
LOCATION:Charlestown Arts Centre
CATEGORIES:Community
ATTACH;FMTTYPE=image/jpeg:https://charlestown.ie/wp-content/uploads/2024/09/salsa-e1730497732958.jpg
END:VEVENT
BEGIN:VEVENT
DTSTART;TZID=Europe/Dublin:20241127T154500
DTEND;TZID=Europe/Dublin:20241127T191500
DTSTAMP:20260424T202752
CREATED:20241101T214532Z
LAST-MODIFIED:20250310T023449Z
UID:10001359-1732722300-1732734900@charlestown.ie
SUMMARY:Ballet & Acro Arts
DESCRIPTION:
URL:https://charlestown.ie/event/ballet-acro-arts/2024-11-27/
LOCATION:Charlestown Arts Centre
CATEGORIES:Community
ATTACH;FMTTYPE=image/jpeg:https://charlestown.ie/wp-content/uploads/2024/11/Screenshot_20250310_023233_Facebook.jpg
END:VEVENT
BEGIN:VEVENT
DTSTART;TZID=Europe/Dublin:20241125T200000
DTEND;TZID=Europe/Dublin:20241125T210000
DTSTAMP:20260424T202752
CREATED:20241101T214032Z
LAST-MODIFIED:20250103T195736Z
UID:10001338-1732564800-1732568400@charlestown.ie
SUMMARY:Pilates with Taragh
DESCRIPTION:
URL:https://charlestown.ie/event/pilates-with-taragh-8/2024-11-25/
LOCATION:Charlestown Arts Centre
CATEGORIES:Community
ATTACH;FMTTYPE=image/jpeg:https://charlestown.ie/wp-content/uploads/2024/09/Pilates.jpg
END:VEVENT
BEGIN:VEVENT
DTSTART;TZID=Europe/Dublin:20241122T120000
DTEND;TZID=Europe/Dublin:20241122T130000
DTSTAMP:20260424T202752
CREATED:20241009T125325Z
LAST-MODIFIED:20241009T125325Z
UID:10001300-1732276800-1732280400@charlestown.ie
SUMMARY:Activator Pole & Chair Exercises - Winter Schedule 2024
DESCRIPTION:
URL:https://charlestown.ie/event/activator-pole-chair-exercises-winter-schedule-2024/2024-11-22/
LOCATION:Charlestown Arts Centre
CATEGORIES:Community
ATTACH;FMTTYPE=image/jpeg:https://charlestown.ie/wp-content/uploads/2024/10/Winter-Schedule-Exercise.jpg
ORGANIZER;CN="Charlestown Development Association":MAILTO:charlestownda@gmail.com
END:VEVENT
BEGIN:VEVENT
DTSTART;TZID=Europe/Dublin:20241120T193000
DTEND;TZID=Europe/Dublin:20241120T203000
DTSTAMP:20260424T202752
CREATED:20241101T214915Z
LAST-MODIFIED:20241101T214915Z
UID:10001378-1732131000-1732134600@charlestown.ie
SUMMARY:Salsa Dancing
DESCRIPTION:
URL:https://charlestown.ie/event/salsa-dancing-8/2024-11-20/
LOCATION:Charlestown Arts Centre
CATEGORIES:Community
ATTACH;FMTTYPE=image/jpeg:https://charlestown.ie/wp-content/uploads/2024/09/salsa-e1730497732958.jpg
END:VEVENT
BEGIN:VEVENT
DTSTART;TZID=Europe/Dublin:20241120T154500
DTEND;TZID=Europe/Dublin:20241120T191500
DTSTAMP:20260424T202752
CREATED:20241101T214532Z
LAST-MODIFIED:20250310T023449Z
UID:10001358-1732117500-1732130100@charlestown.ie
SUMMARY:Ballet & Acro Arts
DESCRIPTION:
URL:https://charlestown.ie/event/ballet-acro-arts/2024-11-20/
LOCATION:Charlestown Arts Centre
CATEGORIES:Community
ATTACH;FMTTYPE=image/jpeg:https://charlestown.ie/wp-content/uploads/2024/11/Screenshot_20250310_023233_Facebook.jpg
END:VEVENT
BEGIN:VEVENT
DTSTART;TZID=Europe/Dublin:20241118T200000
DTEND;TZID=Europe/Dublin:20241118T210000
DTSTAMP:20260424T202752
CREATED:20241101T214032Z
LAST-MODIFIED:20250103T195736Z
UID:10001337-1731960000-1731963600@charlestown.ie
SUMMARY:Pilates with Taragh
DESCRIPTION:
URL:https://charlestown.ie/event/pilates-with-taragh-8/2024-11-18/
LOCATION:Charlestown Arts Centre
CATEGORIES:Community
ATTACH;FMTTYPE=image/jpeg:https://charlestown.ie/wp-content/uploads/2024/09/Pilates.jpg
END:VEVENT
BEGIN:VEVENT
DTSTART;TZID=Europe/Dublin:20241115T120000
DTEND;TZID=Europe/Dublin:20241115T130000
DTSTAMP:20260424T202752
CREATED:20241114T230421Z
LAST-MODIFIED:20241114T230422Z
UID:10001299-1731672000-1731675600@charlestown.ie
SUMMARY:Activator Pole & Chair Exercises - Winter Schedule 2024
DESCRIPTION:
URL:https://charlestown.ie/event/activator-pole-chair-exercises-winter-schedule-2024-2/
LOCATION:Charlestown Arts Centre
CATEGORIES:Community
ATTACH;FMTTYPE=image/jpeg:https://charlestown.ie/wp-content/uploads/2024/10/Winter-Schedule-Exercise.jpg
ORGANIZER;CN="Charlestown Development Association":MAILTO:charlestownda@gmail.com
END:VEVENT
BEGIN:VEVENT
DTSTART;TZID=Europe/Dublin:20241113T193000
DTEND;TZID=Europe/Dublin:20241113T203000
DTSTAMP:20260424T202752
CREATED:20241101T214915Z
LAST-MODIFIED:20241101T214915Z
UID:10001377-1731526200-1731529800@charlestown.ie
SUMMARY:Salsa Dancing
DESCRIPTION:
URL:https://charlestown.ie/event/salsa-dancing-8/2024-11-13/
LOCATION:Charlestown Arts Centre
CATEGORIES:Community
ATTACH;FMTTYPE=image/jpeg:https://charlestown.ie/wp-content/uploads/2024/09/salsa-e1730497732958.jpg
END:VEVENT
BEGIN:VEVENT
DTSTART;TZID=Europe/Dublin:20241113T154500
DTEND;TZID=Europe/Dublin:20241113T191500
DTSTAMP:20260424T202752
CREATED:20241101T214532Z
LAST-MODIFIED:20250310T023449Z
UID:10001357-1731512700-1731525300@charlestown.ie
SUMMARY:Ballet & Acro Arts
DESCRIPTION:
URL:https://charlestown.ie/event/ballet-acro-arts/2024-11-13/
LOCATION:Charlestown Arts Centre
CATEGORIES:Community
ATTACH;FMTTYPE=image/jpeg:https://charlestown.ie/wp-content/uploads/2024/11/Screenshot_20250310_023233_Facebook.jpg
END:VEVENT
BEGIN:VEVENT
DTSTART;TZID=Europe/Dublin:20241111T200000
DTEND;TZID=Europe/Dublin:20241111T210000
DTSTAMP:20260424T202752
CREATED:20241101T214032Z
LAST-MODIFIED:20250103T195736Z
UID:10001336-1731355200-1731358800@charlestown.ie
SUMMARY:Pilates with Taragh
DESCRIPTION:
URL:https://charlestown.ie/event/pilates-with-taragh-8/2024-11-11/
LOCATION:Charlestown Arts Centre
CATEGORIES:Community
ATTACH;FMTTYPE=image/jpeg:https://charlestown.ie/wp-content/uploads/2024/09/Pilates.jpg
END:VEVENT
BEGIN:VEVENT
DTSTART;TZID=Europe/Dublin:20241110T190000
DTEND;TZID=Europe/Dublin:20241110T203000
DTSTAMP:20260424T202752
CREATED:20241127T114604Z
LAST-MODIFIED:20241127T114604Z
UID:10001496-1731265200-1731270600@charlestown.ie
SUMMARY:East Athletics A.C. AGM
DESCRIPTION:
URL:https://charlestown.ie/event/east-athletics-a-c-agm/
LOCATION:Charlestown Arts Centre
CATEGORIES:Community
ATTACH;FMTTYPE=image/jpeg:https://charlestown.ie/wp-content/uploads/2024/11/Screenshot_20241127_114417_Facebook.jpg
END:VEVENT
BEGIN:VEVENT
DTSTART;TZID=Europe/Dublin:20241108T120000
DTEND;TZID=Europe/Dublin:20241108T130000
DTSTAMP:20260424T202752
CREATED:20241009T125325Z
LAST-MODIFIED:20241009T125325Z
UID:10001298-1731067200-1731070800@charlestown.ie
SUMMARY:Activator Pole & Chair Exercises - Winter Schedule 2024
DESCRIPTION:
URL:https://charlestown.ie/event/activator-pole-chair-exercises-winter-schedule-2024/2024-11-08/
LOCATION:Charlestown Arts Centre
CATEGORIES:Community
ATTACH;FMTTYPE=image/jpeg:https://charlestown.ie/wp-content/uploads/2024/10/Winter-Schedule-Exercise.jpg
ORGANIZER;CN="Charlestown Development Association":MAILTO:charlestownda@gmail.com
END:VEVENT
BEGIN:VEVENT
DTSTART;TZID=Europe/Dublin:20241106T193000
DTEND;TZID=Europe/Dublin:20241106T203000
DTSTAMP:20260424T202752
CREATED:20241101T214915Z
LAST-MODIFIED:20241101T214915Z
UID:10001376-1730921400-1730925000@charlestown.ie
SUMMARY:Salsa Dancing
DESCRIPTION:
URL:https://charlestown.ie/event/salsa-dancing-8/2024-11-06/
LOCATION:Charlestown Arts Centre
CATEGORIES:Community
ATTACH;FMTTYPE=image/jpeg:https://charlestown.ie/wp-content/uploads/2024/09/salsa-e1730497732958.jpg
END:VEVENT
BEGIN:VEVENT
DTSTART;TZID=Europe/Dublin:20241106T154500
DTEND;TZID=Europe/Dublin:20241106T191500
DTSTAMP:20260424T202752
CREATED:20241101T214532Z
LAST-MODIFIED:20250310T023449Z
UID:10001356-1730907900-1730920500@charlestown.ie
SUMMARY:Ballet & Acro Arts
DESCRIPTION:
URL:https://charlestown.ie/event/ballet-acro-arts/2024-11-06/
LOCATION:Charlestown Arts Centre
CATEGORIES:Community
ATTACH;FMTTYPE=image/jpeg:https://charlestown.ie/wp-content/uploads/2024/11/Screenshot_20250310_023233_Facebook.jpg
END:VEVENT
BEGIN:VEVENT
DTSTART;TZID=Europe/Dublin:20241031T203000
DTEND;TZID=Europe/Dublin:20241031T220000
DTSTAMP:20260424T202752
CREATED:20240911T111440Z
LAST-MODIFIED:20240911T111440Z
UID:10001122-1730406600-1730412000@charlestown.ie
SUMMARY:Charlestown Drama Group
DESCRIPTION:
URL:https://charlestown.ie/event/charlestown-drama-group-9/
LOCATION:Charlestown Arts Centre
ATTACH;FMTTYPE=image/jpeg:https://charlestown.ie/wp-content/uploads/2024/09/Drama.jpg
END:VEVENT
BEGIN:VEVENT
DTSTART;TZID=Europe/Dublin:20241031T191500
DTEND;TZID=Europe/Dublin:20241031T201500
DTSTAMP:20260424T202752
CREATED:20240910T210852Z
LAST-MODIFIED:20240910T210852Z
UID:10001090-1730402100-1730405700@charlestown.ie
SUMMARY:Yoga - Mixed (Male & Female)
DESCRIPTION:
URL:https://charlestown.ie/event/yoga-mixed-male-female-7/
LOCATION:Charlestown Arts Centre
ATTACH;FMTTYPE=image/jpeg:https://charlestown.ie/wp-content/uploads/2024/09/Yoga.jpg
END:VEVENT
BEGIN:VEVENT
DTSTART;TZID=Europe/Dublin:20241030T193000
DTEND;TZID=Europe/Dublin:20241030T203000
DTSTAMP:20260424T202752
CREATED:20240911T105510Z
LAST-MODIFIED:20240911T105510Z
UID:10001107-1730316600-1730320200@charlestown.ie
SUMMARY:Salsa Dancing
DESCRIPTION:
URL:https://charlestown.ie/event/salsa-dancing-7/
LOCATION:Charlestown Arts Centre
ATTACH;FMTTYPE=image/jpeg:https://charlestown.ie/wp-content/uploads/2024/09/salsa-e1730497732958.jpg
END:VEVENT
BEGIN:VEVENT
DTSTART;TZID=Europe/Dublin:20241030T110000
DTEND;TZID=Europe/Dublin:20241030T190000
DTSTAMP:20260424T202752
CREATED:20240911T110623Z
LAST-MODIFIED:20240911T110623Z
UID:10001114-1730286000-1730314800@charlestown.ie
SUMMARY:KatieMairead Ballet & Acro Arts
DESCRIPTION:KatieMairead Ballet & Acro Arts \nBaby Ballet @4pm \nBallet 5 Yrs+ @4.30pm \nAcro Arts 5 Yrs+ @6pm
URL:https://charlestown.ie/event/katiemairead-ballet-acro-arts-7/
LOCATION:Charlestown Arts Centre
ATTACH;FMTTYPE=image/jpeg:https://charlestown.ie/wp-content/uploads/2024/09/Ballet.jpg
END:VEVENT
END:VCALENDAR