BEGIN:VCALENDAR
VERSION:2.0
PRODID:-//Charlestown - ECPv6.6.4.2//NONSGML v1.0//EN
CALSCALE:GREGORIAN
METHOD:PUBLISH
X-ORIGINAL-URL:https://charlestown.ie
X-WR-CALDESC:Events for Charlestown
REFRESH-INTERVAL;VALUE=DURATION:PT1H
X-Robots-Tag:noindex
X-PUBLISHED-TTL:PT1H
BEGIN:VTIMEZONE
TZID:Europe/Dublin
BEGIN:DAYLIGHT
TZOFFSETFROM:+0000
TZOFFSETTO:+0100
TZNAME:IST
DTSTART:20240331T010000
END:DAYLIGHT
BEGIN:STANDARD
TZOFFSETFROM:+0100
TZOFFSETTO:+0000
TZNAME:GMT
DTSTART:20241027T010000
END:STANDARD
BEGIN:DAYLIGHT
TZOFFSETFROM:+0000
TZOFFSETTO:+0100
TZNAME:IST
DTSTART:20250330T010000
END:DAYLIGHT
BEGIN:STANDARD
TZOFFSETFROM:+0100
TZOFFSETTO:+0000
TZNAME:GMT
DTSTART:20251026T010000
END:STANDARD
END:VTIMEZONE
BEGIN:VEVENT
DTSTART;TZID=Europe/Dublin:20250120T200000
DTEND;TZID=Europe/Dublin:20250120T210000
DTSTAMP:20260424T174405
CREATED:20241101T214032Z
LAST-MODIFIED:20250103T195736Z
UID:10001346-1737403200-1737406800@charlestown.ie
SUMMARY:Pilates with Taragh
DESCRIPTION:
URL:https://charlestown.ie/event/pilates-with-taragh-8/2025-01-20/
LOCATION:Charlestown Arts Centre
CATEGORIES:Community
ATTACH;FMTTYPE=image/jpeg:https://charlestown.ie/wp-content/uploads/2024/09/Pilates.jpg
END:VEVENT
BEGIN:VEVENT
DTSTART;TZID=Europe/Dublin:20250117T183000
DTEND;TZID=Europe/Dublin:20250117T194500
DTSTAMP:20260424T174405
CREATED:20250109T212030Z
LAST-MODIFIED:20250109T212030Z
UID:10001612-1737138600-1737143100@charlestown.ie
SUMMARY:East Mayo AGM
DESCRIPTION:7PM @ Arts Centre \nFriday 10th Jan
URL:https://charlestown.ie/event/east-mayo-agm-2/
LOCATION:Charlestown Arts Centre
ATTACH;FMTTYPE=image/jpeg:https://charlestown.ie/wp-content/uploads/2025/01/Screenshot_20250103_184021_Facebook.jpg
END:VEVENT
BEGIN:VEVENT
DTSTART;TZID=Europe/Dublin:20250117T080000
DTEND;TZID=Europe/Dublin:20250117T170000
DTSTAMP:20260424T174405
CREATED:20250103T194151Z
LAST-MODIFIED:20250103T194151Z
UID:10001530-1737100800-1737133200@charlestown.ie
SUMMARY:Activator Pole & Chair Exercise Class  - Spring 2025
DESCRIPTION:
URL:https://charlestown.ie/event/activator-pole-chair-exercise-class-spring-2025/2025-01-17/
LOCATION:Charlestown Arts Centre
ATTACH;FMTTYPE=image/png:https://charlestown.ie/wp-content/uploads/2025/01/Spring-Exercise-Class.png
ORGANIZER;CN="Charlestown Development Association":MAILTO:charlestownda@gmail.com
END:VEVENT
BEGIN:VEVENT
DTSTART;TZID=Europe/Dublin:20250115T193000
DTEND;TZID=Europe/Dublin:20250115T203000
DTSTAMP:20260424T174405
CREATED:20241101T214915Z
LAST-MODIFIED:20241101T214915Z
UID:10001386-1736969400-1736973000@charlestown.ie
SUMMARY:Salsa Dancing
DESCRIPTION:
URL:https://charlestown.ie/event/salsa-dancing-8/2025-01-15/
LOCATION:Charlestown Arts Centre
CATEGORIES:Community
ATTACH;FMTTYPE=image/jpeg:https://charlestown.ie/wp-content/uploads/2024/09/salsa-e1730497732958.jpg
END:VEVENT
BEGIN:VEVENT
DTSTART;TZID=Europe/Dublin:20250115T154500
DTEND;TZID=Europe/Dublin:20250115T191500
DTSTAMP:20260424T174405
CREATED:20241101T214532Z
LAST-MODIFIED:20250310T023449Z
UID:10001366-1736955900-1736968500@charlestown.ie
SUMMARY:Ballet & Acro Arts
DESCRIPTION:
URL:https://charlestown.ie/event/ballet-acro-arts/2025-01-15/
LOCATION:Charlestown Arts Centre
CATEGORIES:Community
ATTACH;FMTTYPE=image/jpeg:https://charlestown.ie/wp-content/uploads/2024/11/Screenshot_20250310_023233_Facebook.jpg
END:VEVENT
BEGIN:VEVENT
DTSTART;TZID=Europe/Dublin:20250113T200000
DTEND;TZID=Europe/Dublin:20250113T210000
DTSTAMP:20260424T174405
CREATED:20241101T214032Z
LAST-MODIFIED:20250103T195736Z
UID:10001345-1736798400-1736802000@charlestown.ie
SUMMARY:Pilates with Taragh
DESCRIPTION:
URL:https://charlestown.ie/event/pilates-with-taragh-8/2025-01-13/
LOCATION:Charlestown Arts Centre
CATEGORIES:Community
ATTACH;FMTTYPE=image/jpeg:https://charlestown.ie/wp-content/uploads/2024/09/Pilates.jpg
END:VEVENT
BEGIN:VEVENT
DTSTART;TZID=Europe/Dublin:20250110T200000
DTEND;TZID=Europe/Dublin:20250110T210000
DTSTAMP:20260424T174405
CREATED:20250109T103011Z
LAST-MODIFIED:20250109T132700Z
UID:10001462-1736539200-1736542800@charlestown.ie
SUMMARY:* NEW* Clubbercise - Dance Fitness Class ***Cancelled Due To Weather Conditions***
DESCRIPTION:
URL:https://charlestown.ie/event/new-clubercise-2/
LOCATION:Charlestown Arts Centre
CATEGORIES:Community
ATTACH;FMTTYPE=image/jpeg:https://charlestown.ie/wp-content/uploads/2024/11/Screenshot_20241113_113741_Gmail.jpg
END:VEVENT
BEGIN:VEVENT
DTSTART;TZID=Europe/Dublin:20250110T190000
DTEND;TZID=Europe/Dublin:20250110T200000
DTSTAMP:20260424T174405
CREATED:20250103T192056Z
LAST-MODIFIED:20250109T212123Z
UID:10001526-1736535600-1736539200@charlestown.ie
SUMMARY:East Mayo AGM
DESCRIPTION:7PM @ Arts Centre \nFriday 10th Jan
URL:https://charlestown.ie/event/east-mayo-agm/
LOCATION:Charlestown Arts Centre
ATTACH;FMTTYPE=image/jpeg:https://charlestown.ie/wp-content/uploads/2025/01/Screenshot_20250103_184021_Facebook.jpg
END:VEVENT
BEGIN:VEVENT
DTSTART;TZID=Europe/Dublin:20250110T080000
DTEND;TZID=Europe/Dublin:20250110T170000
DTSTAMP:20260424T174405
CREATED:20250103T201315Z
LAST-MODIFIED:20250109T190019Z
UID:10001558-1736496000-1736528400@charlestown.ie
SUMMARY:Community Coffee Morning - All Welcome
DESCRIPTION:
URL:https://charlestown.ie/event/community-coffee-morning-all-welcome-2/
LOCATION:Charlestown Arts Centre
ATTACH;FMTTYPE=image/jpeg:https://charlestown.ie/wp-content/uploads/2024/03/Coffee-Morning-General-e1710754785490.jpg
ORGANIZER;CN="Charlestown Development Association":MAILTO:charlestownda@gmail.com
END:VEVENT
BEGIN:VEVENT
DTSTART;TZID=Europe/Dublin:20250108T193000
DTEND;TZID=Europe/Dublin:20250108T203000
DTSTAMP:20260424T174405
CREATED:20241101T214915Z
LAST-MODIFIED:20241101T214915Z
UID:10001385-1736364600-1736368200@charlestown.ie
SUMMARY:Salsa Dancing
DESCRIPTION:
URL:https://charlestown.ie/event/salsa-dancing-8/2025-01-08/
LOCATION:Charlestown Arts Centre
CATEGORIES:Community
ATTACH;FMTTYPE=image/jpeg:https://charlestown.ie/wp-content/uploads/2024/09/salsa-e1730497732958.jpg
END:VEVENT
BEGIN:VEVENT
DTSTART;TZID=Europe/Dublin:20250108T154500
DTEND;TZID=Europe/Dublin:20250108T191500
DTSTAMP:20260424T174405
CREATED:20241101T214532Z
LAST-MODIFIED:20250310T023449Z
UID:10001365-1736351100-1736363700@charlestown.ie
SUMMARY:Ballet & Acro Arts
DESCRIPTION:
URL:https://charlestown.ie/event/ballet-acro-arts/2025-01-08/
LOCATION:Charlestown Arts Centre
CATEGORIES:Community
ATTACH;FMTTYPE=image/jpeg:https://charlestown.ie/wp-content/uploads/2024/11/Screenshot_20250310_023233_Facebook.jpg
END:VEVENT
BEGIN:VEVENT
DTSTART;TZID=Europe/Dublin:20250101T193000
DTEND;TZID=Europe/Dublin:20250101T203000
DTSTAMP:20260424T174405
CREATED:20241101T214915Z
LAST-MODIFIED:20241101T214915Z
UID:10001384-1735759800-1735763400@charlestown.ie
SUMMARY:Salsa Dancing
DESCRIPTION:
URL:https://charlestown.ie/event/salsa-dancing-8/2025-01-01/
LOCATION:Charlestown Arts Centre
CATEGORIES:Community
ATTACH;FMTTYPE=image/jpeg:https://charlestown.ie/wp-content/uploads/2024/09/salsa-e1730497732958.jpg
END:VEVENT
BEGIN:VEVENT
DTSTART;TZID=Europe/Dublin:20250101T154500
DTEND;TZID=Europe/Dublin:20250101T191500
DTSTAMP:20260424T174405
CREATED:20241101T214532Z
LAST-MODIFIED:20250310T023449Z
UID:10001364-1735746300-1735758900@charlestown.ie
SUMMARY:Ballet & Acro Arts
DESCRIPTION:
URL:https://charlestown.ie/event/ballet-acro-arts/2025-01-01/
LOCATION:Charlestown Arts Centre
CATEGORIES:Community
ATTACH;FMTTYPE=image/jpeg:https://charlestown.ie/wp-content/uploads/2024/11/Screenshot_20250310_023233_Facebook.jpg
END:VEVENT
BEGIN:VEVENT
DTSTART;TZID=Europe/Dublin:20241230T200000
DTEND;TZID=Europe/Dublin:20241230T210000
DTSTAMP:20260424T174405
CREATED:20241101T214032Z
LAST-MODIFIED:20250103T195736Z
UID:10001343-1735588800-1735592400@charlestown.ie
SUMMARY:Pilates with Taragh
DESCRIPTION:
URL:https://charlestown.ie/event/pilates-with-taragh-8/2024-12-30/
LOCATION:Charlestown Arts Centre
CATEGORIES:Community
ATTACH;FMTTYPE=image/jpeg:https://charlestown.ie/wp-content/uploads/2024/09/Pilates.jpg
END:VEVENT
BEGIN:VEVENT
DTSTART;TZID=Europe/Dublin:20241225T193000
DTEND;TZID=Europe/Dublin:20241225T203000
DTSTAMP:20260424T174405
CREATED:20241101T214915Z
LAST-MODIFIED:20241101T214915Z
UID:10001383-1735155000-1735158600@charlestown.ie
SUMMARY:Salsa Dancing
DESCRIPTION:
URL:https://charlestown.ie/event/salsa-dancing-8/2024-12-25/
LOCATION:Charlestown Arts Centre
CATEGORIES:Community
ATTACH;FMTTYPE=image/jpeg:https://charlestown.ie/wp-content/uploads/2024/09/salsa-e1730497732958.jpg
END:VEVENT
BEGIN:VEVENT
DTSTART;TZID=Europe/Dublin:20241225T154500
DTEND;TZID=Europe/Dublin:20241225T191500
DTSTAMP:20260424T174405
CREATED:20241101T214532Z
LAST-MODIFIED:20250310T023449Z
UID:10001363-1735141500-1735154100@charlestown.ie
SUMMARY:Ballet & Acro Arts
DESCRIPTION:
URL:https://charlestown.ie/event/ballet-acro-arts/2024-12-25/
LOCATION:Charlestown Arts Centre
CATEGORIES:Community
ATTACH;FMTTYPE=image/jpeg:https://charlestown.ie/wp-content/uploads/2024/11/Screenshot_20250310_023233_Facebook.jpg
END:VEVENT
BEGIN:VEVENT
DTSTART;TZID=Europe/Dublin:20241223T200000
DTEND;TZID=Europe/Dublin:20241223T210000
DTSTAMP:20260424T174405
CREATED:20241101T214032Z
LAST-MODIFIED:20250103T195736Z
UID:10001342-1734984000-1734987600@charlestown.ie
SUMMARY:Pilates with Taragh
DESCRIPTION:
URL:https://charlestown.ie/event/pilates-with-taragh-8/2024-12-23/
LOCATION:Charlestown Arts Centre
CATEGORIES:Community
ATTACH;FMTTYPE=image/jpeg:https://charlestown.ie/wp-content/uploads/2024/09/Pilates.jpg
END:VEVENT
BEGIN:VEVENT
DTSTART;TZID=Europe/Dublin:20241220T120000
DTEND;TZID=Europe/Dublin:20241220T130000
DTSTAMP:20260424T174405
CREATED:20241009T125325Z
LAST-MODIFIED:20241009T125325Z
UID:10001303-1734696000-1734699600@charlestown.ie
SUMMARY:Activator Pole & Chair Exercises - Winter Schedule 2024
DESCRIPTION:
URL:https://charlestown.ie/event/activator-pole-chair-exercises-winter-schedule-2024/2024-12-20/
LOCATION:Charlestown Arts Centre
CATEGORIES:Community
ATTACH;FMTTYPE=image/jpeg:https://charlestown.ie/wp-content/uploads/2024/10/Winter-Schedule-Exercise.jpg
ORGANIZER;CN="Charlestown Development Association":MAILTO:charlestownda@gmail.com
END:VEVENT
BEGIN:VEVENT
DTSTART;TZID=Europe/Dublin:20241218T193000
DTEND;TZID=Europe/Dublin:20241218T203000
DTSTAMP:20260424T174405
CREATED:20241101T214915Z
LAST-MODIFIED:20241101T214915Z
UID:10001382-1734550200-1734553800@charlestown.ie
SUMMARY:Salsa Dancing
DESCRIPTION:
URL:https://charlestown.ie/event/salsa-dancing-8/2024-12-18/
LOCATION:Charlestown Arts Centre
CATEGORIES:Community
ATTACH;FMTTYPE=image/jpeg:https://charlestown.ie/wp-content/uploads/2024/09/salsa-e1730497732958.jpg
END:VEVENT
BEGIN:VEVENT
DTSTART;TZID=Europe/Dublin:20241218T154500
DTEND;TZID=Europe/Dublin:20241218T191500
DTSTAMP:20260424T174405
CREATED:20241101T214532Z
LAST-MODIFIED:20250310T023449Z
UID:10001362-1734536700-1734549300@charlestown.ie
SUMMARY:Ballet & Acro Arts
DESCRIPTION:
URL:https://charlestown.ie/event/ballet-acro-arts/2024-12-18/
LOCATION:Charlestown Arts Centre
CATEGORIES:Community
ATTACH;FMTTYPE=image/jpeg:https://charlestown.ie/wp-content/uploads/2024/11/Screenshot_20250310_023233_Facebook.jpg
END:VEVENT
BEGIN:VEVENT
DTSTART;TZID=Europe/Dublin:20241216T200000
DTEND;TZID=Europe/Dublin:20241216T210000
DTSTAMP:20260424T174405
CREATED:20241101T214032Z
LAST-MODIFIED:20250103T195736Z
UID:10001341-1734379200-1734382800@charlestown.ie
SUMMARY:Pilates with Taragh
DESCRIPTION:
URL:https://charlestown.ie/event/pilates-with-taragh-8/2024-12-16/
LOCATION:Charlestown Arts Centre
CATEGORIES:Community
ATTACH;FMTTYPE=image/jpeg:https://charlestown.ie/wp-content/uploads/2024/09/Pilates.jpg
END:VEVENT
BEGIN:VEVENT
DTSTART;TZID=Europe/Dublin:20241213T120000
DTEND;TZID=Europe/Dublin:20241213T130000
DTSTAMP:20260424T174405
CREATED:20241009T125325Z
LAST-MODIFIED:20241009T125325Z
UID:10001302-1734091200-1734094800@charlestown.ie
SUMMARY:Activator Pole & Chair Exercises - Winter Schedule 2024
DESCRIPTION:
URL:https://charlestown.ie/event/activator-pole-chair-exercises-winter-schedule-2024/2024-12-13/
LOCATION:Charlestown Arts Centre
CATEGORIES:Community
ATTACH;FMTTYPE=image/jpeg:https://charlestown.ie/wp-content/uploads/2024/10/Winter-Schedule-Exercise.jpg
ORGANIZER;CN="Charlestown Development Association":MAILTO:charlestownda@gmail.com
END:VEVENT
BEGIN:VEVENT
DTSTART;TZID=Europe/Dublin:20241211T193000
DTEND;TZID=Europe/Dublin:20241211T203000
DTSTAMP:20260424T174405
CREATED:20241101T214915Z
LAST-MODIFIED:20241101T214915Z
UID:10001381-1733945400-1733949000@charlestown.ie
SUMMARY:Salsa Dancing
DESCRIPTION:
URL:https://charlestown.ie/event/salsa-dancing-8/2024-12-11/
LOCATION:Charlestown Arts Centre
CATEGORIES:Community
ATTACH;FMTTYPE=image/jpeg:https://charlestown.ie/wp-content/uploads/2024/09/salsa-e1730497732958.jpg
END:VEVENT
BEGIN:VEVENT
DTSTART;TZID=Europe/Dublin:20241211T154500
DTEND;TZID=Europe/Dublin:20241211T191500
DTSTAMP:20260424T174405
CREATED:20241101T214532Z
LAST-MODIFIED:20250310T023449Z
UID:10001361-1733931900-1733944500@charlestown.ie
SUMMARY:Ballet & Acro Arts
DESCRIPTION:
URL:https://charlestown.ie/event/ballet-acro-arts/2024-12-11/
LOCATION:Charlestown Arts Centre
CATEGORIES:Community
ATTACH;FMTTYPE=image/jpeg:https://charlestown.ie/wp-content/uploads/2024/11/Screenshot_20250310_023233_Facebook.jpg
END:VEVENT
BEGIN:VEVENT
DTSTART;TZID=Europe/Dublin:20241209T200000
DTEND;TZID=Europe/Dublin:20241209T210000
DTSTAMP:20260424T174405
CREATED:20241101T214032Z
LAST-MODIFIED:20250103T195736Z
UID:10001340-1733774400-1733778000@charlestown.ie
SUMMARY:Pilates with Taragh
DESCRIPTION:
URL:https://charlestown.ie/event/pilates-with-taragh-8/2024-12-09/
LOCATION:Charlestown Arts Centre
CATEGORIES:Community
ATTACH;FMTTYPE=image/jpeg:https://charlestown.ie/wp-content/uploads/2024/09/Pilates.jpg
END:VEVENT
BEGIN:VEVENT
DTSTART;TZID=Europe/Dublin:20241206T130000
DTEND;TZID=Europe/Dublin:20241206T153000
DTSTAMP:20260424T174406
CREATED:20241205T204717Z
LAST-MODIFIED:20241205T204717Z
UID:10001513-1733490000-1733499000@charlestown.ie
SUMMARY:Charlestown Community Lunch
DESCRIPTION:
URL:https://charlestown.ie/event/charlestown-community-lunch/
LOCATION:Charlestown Arts Centre
CATEGORIES:Christmas,Community
ATTACH;FMTTYPE=image/jpeg:https://charlestown.ie/wp-content/uploads/2024/12/Screenshot_20241205_204408_Canva.jpg
END:VEVENT
BEGIN:VEVENT
DTSTART;TZID=Europe/Dublin:20241204T193000
DTEND;TZID=Europe/Dublin:20241204T203000
DTSTAMP:20260424T174406
CREATED:20241101T214915Z
LAST-MODIFIED:20241101T214915Z
UID:10001380-1733340600-1733344200@charlestown.ie
SUMMARY:Salsa Dancing
DESCRIPTION:
URL:https://charlestown.ie/event/salsa-dancing-8/2024-12-04/
LOCATION:Charlestown Arts Centre
CATEGORIES:Community
ATTACH;FMTTYPE=image/jpeg:https://charlestown.ie/wp-content/uploads/2024/09/salsa-e1730497732958.jpg
END:VEVENT
BEGIN:VEVENT
DTSTART;TZID=Europe/Dublin:20241204T154500
DTEND;TZID=Europe/Dublin:20241204T191500
DTSTAMP:20260424T174406
CREATED:20241101T214532Z
LAST-MODIFIED:20250310T023449Z
UID:10001360-1733327100-1733339700@charlestown.ie
SUMMARY:Ballet & Acro Arts
DESCRIPTION:
URL:https://charlestown.ie/event/ballet-acro-arts/2024-12-04/
LOCATION:Charlestown Arts Centre
CATEGORIES:Community
ATTACH;FMTTYPE=image/jpeg:https://charlestown.ie/wp-content/uploads/2024/11/Screenshot_20250310_023233_Facebook.jpg
END:VEVENT
BEGIN:VEVENT
DTSTART;TZID=Europe/Dublin:20241202T200000
DTEND;TZID=Europe/Dublin:20241202T210000
DTSTAMP:20260424T174406
CREATED:20241101T214032Z
LAST-MODIFIED:20250103T195736Z
UID:10001339-1733169600-1733173200@charlestown.ie
SUMMARY:Pilates with Taragh
DESCRIPTION:
URL:https://charlestown.ie/event/pilates-with-taragh-8/2024-12-02/
LOCATION:Charlestown Arts Centre
CATEGORIES:Community
ATTACH;FMTTYPE=image/jpeg:https://charlestown.ie/wp-content/uploads/2024/09/Pilates.jpg
END:VEVENT
BEGIN:VEVENT
DTSTART;TZID=Europe/Dublin:20241129T200000
DTEND;TZID=Europe/Dublin:20241129T210000
DTSTAMP:20260424T174406
CREATED:20241129T143129Z
LAST-MODIFIED:20241129T143129Z
UID:10001498-1732910400-1732914000@charlestown.ie
SUMMARY:Charlestown Sarsfields GAA - AGM
DESCRIPTION:Reminder that our AGM takes place  (Friday 29th of November) in the Arts Centre at 8pm. \nAll members are invited to attend!
URL:https://charlestown.ie/event/charlestown-sarsfields-gaa-agm/
LOCATION:Charlestown Arts Centre
CATEGORIES:GAA- LGFA
ATTACH;FMTTYPE=image/jpeg:https://charlestown.ie/wp-content/uploads/2024/11/Screenshot_20241129_142852_Facebook.jpg
ORGANIZER;CN="Charlestown Sarsfields GAA":MAILTO:secretary.charlestown.mayo@gaa.ie
END:VEVENT
END:VCALENDAR