BEGIN:VCALENDAR
VERSION:2.0
PRODID:-//Charlestown - ECPv6.6.4.2//NONSGML v1.0//EN
CALSCALE:GREGORIAN
METHOD:PUBLISH
X-ORIGINAL-URL:https://charlestown.ie
X-WR-CALDESC:Events for Charlestown
REFRESH-INTERVAL;VALUE=DURATION:PT1H
X-Robots-Tag:noindex
X-PUBLISHED-TTL:PT1H
BEGIN:VTIMEZONE
TZID:Europe/Dublin
BEGIN:DAYLIGHT
TZOFFSETFROM:+0000
TZOFFSETTO:+0100
TZNAME:IST
DTSTART:20250330T010000
END:DAYLIGHT
BEGIN:STANDARD
TZOFFSETFROM:+0100
TZOFFSETTO:+0000
TZNAME:GMT
DTSTART:20251026T010000
END:STANDARD
END:VTIMEZONE
BEGIN:VEVENT
DTSTART;TZID=Europe/Dublin:20250310T200000
DTEND;TZID=Europe/Dublin:20250310T210000
DTSTAMP:20260424T131920
CREATED:20241101T214032Z
LAST-MODIFIED:20250103T195736Z
UID:10001353-1741636800-1741640400@charlestown.ie
SUMMARY:Pilates with Taragh
DESCRIPTION:
URL:https://charlestown.ie/event/pilates-with-taragh-8/2025-03-10/
LOCATION:Charlestown Arts Centre
CATEGORIES:Community
ATTACH;FMTTYPE=image/jpeg:https://charlestown.ie/wp-content/uploads/2024/09/Pilates.jpg
END:VEVENT
BEGIN:VEVENT
DTSTART;TZID=Europe/Dublin:20250308T200000
DTEND;TZID=Europe/Dublin:20250308T213000
DTSTAMP:20260424T131920
CREATED:20250204T224843Z
LAST-MODIFIED:20250204T224843Z
UID:10001619-1741464000-1741469400@charlestown.ie
SUMMARY:Charlestown Drama Play - Going away\, Echos of Emmigration
DESCRIPTION:Charlestown Drama Group are delighted to announce their relaunch production ‘Going Away – Echoes of Emigration’ details below. Book early to guarantee your ticket 🎭
URL:https://charlestown.ie/event/charlestown-drama-play-going-away-echos-of-emmigration/2025-03-08/
LOCATION:Charlestown Arts Centre
ATTACH;FMTTYPE=image/jpeg:https://charlestown.ie/wp-content/uploads/2025/02/Screenshot_20250204_224413_Facebook.jpg
END:VEVENT
BEGIN:VEVENT
DTSTART;TZID=Europe/Dublin:20250307T200000
DTEND;TZID=Europe/Dublin:20250307T210000
DTSTAMP:20260424T131920
CREATED:20250204T224843Z
LAST-MODIFIED:20250204T224843Z
UID:10001618-1741377600-1741381200@charlestown.ie
SUMMARY:Charlestown Drama Play - Going away\, Echos of Emmigration
DESCRIPTION:Charlestown Drama Group are delighted to announce their relaunch production ‘Going Away – Echoes of Emigration’ details below. Book early to guarantee your ticket 🎭
URL:https://charlestown.ie/event/charlestown-drama-play-going-away-echos-of-emmigration/2025-03-07/
LOCATION:Charlestown Arts Centre
ATTACH;FMTTYPE=image/jpeg:https://charlestown.ie/wp-content/uploads/2025/02/Screenshot_20250204_224413_Facebook.jpg
END:VEVENT
BEGIN:VEVENT
DTSTART;TZID=Europe/Dublin:20250307T110000
DTEND;TZID=Europe/Dublin:20250307T130000
DTSTAMP:20260424T131920
CREATED:20250103T201103Z
LAST-MODIFIED:20250103T201103Z
UID:10001548-1741345200-1741352400@charlestown.ie
SUMMARY:Community Coffee Morning - All Welcome
DESCRIPTION:
URL:https://charlestown.ie/event/community-coffee-morning-all-welcome/2025-03-07/
LOCATION:Charlestown Arts Centre
CATEGORIES:Coffee Morning
ATTACH;FMTTYPE=image/jpeg:https://charlestown.ie/wp-content/uploads/2024/03/Coffee-Morning-General-e1710754785490.jpg
ORGANIZER;CN="Charlestown Development Association":MAILTO:charlestownda@gmail.com
END:VEVENT
BEGIN:VEVENT
DTSTART;TZID=Europe/Dublin:20250305T193000
DTEND;TZID=Europe/Dublin:20250305T203000
DTSTAMP:20260424T131920
CREATED:20241101T214915Z
LAST-MODIFIED:20241101T214915Z
UID:10001393-1741203000-1741206600@charlestown.ie
SUMMARY:Salsa Dancing
DESCRIPTION:
URL:https://charlestown.ie/event/salsa-dancing-8/2025-03-05/
LOCATION:Charlestown Arts Centre
CATEGORIES:Community
ATTACH;FMTTYPE=image/jpeg:https://charlestown.ie/wp-content/uploads/2024/09/salsa-e1730497732958.jpg
END:VEVENT
BEGIN:VEVENT
DTSTART;TZID=Europe/Dublin:20250305T154500
DTEND;TZID=Europe/Dublin:20250305T191500
DTSTAMP:20260424T131920
CREATED:20241101T214532Z
LAST-MODIFIED:20250310T023449Z
UID:10001373-1741189500-1741202100@charlestown.ie
SUMMARY:Ballet & Acro Arts
DESCRIPTION:
URL:https://charlestown.ie/event/ballet-acro-arts/2025-03-05/
LOCATION:Charlestown Arts Centre
CATEGORIES:Community
ATTACH;FMTTYPE=image/jpeg:https://charlestown.ie/wp-content/uploads/2024/11/Screenshot_20250310_023233_Facebook.jpg
END:VEVENT
BEGIN:VEVENT
DTSTART;TZID=Europe/Dublin:20250303T200000
DTEND;TZID=Europe/Dublin:20250303T210000
DTSTAMP:20260424T131920
CREATED:20241101T214032Z
LAST-MODIFIED:20250103T195736Z
UID:10001352-1741032000-1741035600@charlestown.ie
SUMMARY:Pilates with Taragh
DESCRIPTION:
URL:https://charlestown.ie/event/pilates-with-taragh-8/2025-03-03/
LOCATION:Charlestown Arts Centre
CATEGORIES:Community
ATTACH;FMTTYPE=image/jpeg:https://charlestown.ie/wp-content/uploads/2024/09/Pilates.jpg
END:VEVENT
BEGIN:VEVENT
DTSTART;TZID=Europe/Dublin:20250228T080000
DTEND;TZID=Europe/Dublin:20250228T170000
DTSTAMP:20260424T131920
CREATED:20250103T194151Z
LAST-MODIFIED:20250103T194151Z
UID:10001535-1740729600-1740762000@charlestown.ie
SUMMARY:Activator Pole & Chair Exercise Class  - Spring 2025
DESCRIPTION:
URL:https://charlestown.ie/event/activator-pole-chair-exercise-class-spring-2025/2025-02-28/
LOCATION:Charlestown Arts Centre
ATTACH;FMTTYPE=image/png:https://charlestown.ie/wp-content/uploads/2025/01/Spring-Exercise-Class.png
ORGANIZER;CN="Charlestown Development Association":MAILTO:charlestownda@gmail.com
END:VEVENT
BEGIN:VEVENT
DTSTART;TZID=Europe/Dublin:20250226T193000
DTEND;TZID=Europe/Dublin:20250226T203000
DTSTAMP:20260424T131920
CREATED:20241101T214915Z
LAST-MODIFIED:20241101T214915Z
UID:10001392-1740598200-1740601800@charlestown.ie
SUMMARY:Salsa Dancing
DESCRIPTION:
URL:https://charlestown.ie/event/salsa-dancing-8/2025-02-26/
LOCATION:Charlestown Arts Centre
CATEGORIES:Community
ATTACH;FMTTYPE=image/jpeg:https://charlestown.ie/wp-content/uploads/2024/09/salsa-e1730497732958.jpg
END:VEVENT
BEGIN:VEVENT
DTSTART;TZID=Europe/Dublin:20250226T154500
DTEND;TZID=Europe/Dublin:20250226T191500
DTSTAMP:20260424T131920
CREATED:20241101T214532Z
LAST-MODIFIED:20250310T023449Z
UID:10001372-1740584700-1740597300@charlestown.ie
SUMMARY:Ballet & Acro Arts
DESCRIPTION:
URL:https://charlestown.ie/event/ballet-acro-arts/2025-02-26/
LOCATION:Charlestown Arts Centre
CATEGORIES:Community
ATTACH;FMTTYPE=image/jpeg:https://charlestown.ie/wp-content/uploads/2024/11/Screenshot_20250310_023233_Facebook.jpg
END:VEVENT
BEGIN:VEVENT
DTSTART;TZID=Europe/Dublin:20250224T200000
DTEND;TZID=Europe/Dublin:20250224T210000
DTSTAMP:20260424T131920
CREATED:20241101T214032Z
LAST-MODIFIED:20250103T195736Z
UID:10001351-1740427200-1740430800@charlestown.ie
SUMMARY:Pilates with Taragh
DESCRIPTION:
URL:https://charlestown.ie/event/pilates-with-taragh-8/2025-02-24/
LOCATION:Charlestown Arts Centre
CATEGORIES:Community
ATTACH;FMTTYPE=image/jpeg:https://charlestown.ie/wp-content/uploads/2024/09/Pilates.jpg
END:VEVENT
BEGIN:VEVENT
DTSTART;TZID=Europe/Dublin:20250221T080000
DTEND;TZID=Europe/Dublin:20250221T170000
DTSTAMP:20260424T131920
CREATED:20250103T194151Z
LAST-MODIFIED:20250103T194151Z
UID:10001534-1740124800-1740157200@charlestown.ie
SUMMARY:Activator Pole & Chair Exercise Class  - Spring 2025
DESCRIPTION:
URL:https://charlestown.ie/event/activator-pole-chair-exercise-class-spring-2025/2025-02-21/
LOCATION:Charlestown Arts Centre
ATTACH;FMTTYPE=image/png:https://charlestown.ie/wp-content/uploads/2025/01/Spring-Exercise-Class.png
ORGANIZER;CN="Charlestown Development Association":MAILTO:charlestownda@gmail.com
END:VEVENT
BEGIN:VEVENT
DTSTART;TZID=Europe/Dublin:20250219T193000
DTEND;TZID=Europe/Dublin:20250219T203000
DTSTAMP:20260424T131920
CREATED:20241101T214915Z
LAST-MODIFIED:20241101T214915Z
UID:10001391-1739993400-1739997000@charlestown.ie
SUMMARY:Salsa Dancing
DESCRIPTION:
URL:https://charlestown.ie/event/salsa-dancing-8/2025-02-19/
LOCATION:Charlestown Arts Centre
CATEGORIES:Community
ATTACH;FMTTYPE=image/jpeg:https://charlestown.ie/wp-content/uploads/2024/09/salsa-e1730497732958.jpg
END:VEVENT
BEGIN:VEVENT
DTSTART;TZID=Europe/Dublin:20250219T154500
DTEND;TZID=Europe/Dublin:20250219T191500
DTSTAMP:20260424T131920
CREATED:20241101T214532Z
LAST-MODIFIED:20250310T023449Z
UID:10001371-1739979900-1739992500@charlestown.ie
SUMMARY:Ballet & Acro Arts
DESCRIPTION:
URL:https://charlestown.ie/event/ballet-acro-arts/2025-02-19/
LOCATION:Charlestown Arts Centre
CATEGORIES:Community
ATTACH;FMTTYPE=image/jpeg:https://charlestown.ie/wp-content/uploads/2024/11/Screenshot_20250310_023233_Facebook.jpg
END:VEVENT
BEGIN:VEVENT
DTSTART;TZID=Europe/Dublin:20250217T200000
DTEND;TZID=Europe/Dublin:20250217T210000
DTSTAMP:20260424T131920
CREATED:20241101T214032Z
LAST-MODIFIED:20250103T195736Z
UID:10001350-1739822400-1739826000@charlestown.ie
SUMMARY:Pilates with Taragh
DESCRIPTION:
URL:https://charlestown.ie/event/pilates-with-taragh-8/2025-02-17/
LOCATION:Charlestown Arts Centre
CATEGORIES:Community
ATTACH;FMTTYPE=image/jpeg:https://charlestown.ie/wp-content/uploads/2024/09/Pilates.jpg
END:VEVENT
BEGIN:VEVENT
DTSTART;TZID=Europe/Dublin:20250214T080000
DTEND;TZID=Europe/Dublin:20250214T170000
DTSTAMP:20260424T131920
CREATED:20250103T194151Z
LAST-MODIFIED:20250103T194151Z
UID:10001533-1739520000-1739552400@charlestown.ie
SUMMARY:Activator Pole & Chair Exercise Class  - Spring 2025
DESCRIPTION:
URL:https://charlestown.ie/event/activator-pole-chair-exercise-class-spring-2025/2025-02-14/
LOCATION:Charlestown Arts Centre
ATTACH;FMTTYPE=image/png:https://charlestown.ie/wp-content/uploads/2025/01/Spring-Exercise-Class.png
ORGANIZER;CN="Charlestown Development Association":MAILTO:charlestownda@gmail.com
END:VEVENT
BEGIN:VEVENT
DTSTART;TZID=Europe/Dublin:20250212T193000
DTEND;TZID=Europe/Dublin:20250212T203000
DTSTAMP:20260424T131920
CREATED:20241101T214915Z
LAST-MODIFIED:20241101T214915Z
UID:10001390-1739388600-1739392200@charlestown.ie
SUMMARY:Salsa Dancing
DESCRIPTION:
URL:https://charlestown.ie/event/salsa-dancing-8/2025-02-12/
LOCATION:Charlestown Arts Centre
CATEGORIES:Community
ATTACH;FMTTYPE=image/jpeg:https://charlestown.ie/wp-content/uploads/2024/09/salsa-e1730497732958.jpg
END:VEVENT
BEGIN:VEVENT
DTSTART;TZID=Europe/Dublin:20250212T154500
DTEND;TZID=Europe/Dublin:20250212T191500
DTSTAMP:20260424T131920
CREATED:20241101T214532Z
LAST-MODIFIED:20250310T023449Z
UID:10001370-1739375100-1739387700@charlestown.ie
SUMMARY:Ballet & Acro Arts
DESCRIPTION:
URL:https://charlestown.ie/event/ballet-acro-arts/2025-02-12/
LOCATION:Charlestown Arts Centre
CATEGORIES:Community
ATTACH;FMTTYPE=image/jpeg:https://charlestown.ie/wp-content/uploads/2024/11/Screenshot_20250310_023233_Facebook.jpg
END:VEVENT
BEGIN:VEVENT
DTSTART;TZID=Europe/Dublin:20250210T200000
DTEND;TZID=Europe/Dublin:20250210T210000
DTSTAMP:20260424T131920
CREATED:20241101T214032Z
LAST-MODIFIED:20250103T195736Z
UID:10001349-1739217600-1739221200@charlestown.ie
SUMMARY:Pilates with Taragh
DESCRIPTION:
URL:https://charlestown.ie/event/pilates-with-taragh-8/2025-02-10/
LOCATION:Charlestown Arts Centre
CATEGORIES:Community
ATTACH;FMTTYPE=image/jpeg:https://charlestown.ie/wp-content/uploads/2024/09/Pilates.jpg
END:VEVENT
BEGIN:VEVENT
DTSTART;TZID=Europe/Dublin:20250207T110000
DTEND;TZID=Europe/Dublin:20250207T130000
DTSTAMP:20260424T131920
CREATED:20250103T201103Z
LAST-MODIFIED:20250103T201103Z
UID:10001547-1738926000-1738933200@charlestown.ie
SUMMARY:Community Coffee Morning - All Welcome
DESCRIPTION:
URL:https://charlestown.ie/event/community-coffee-morning-all-welcome/2025-02-07/
LOCATION:Charlestown Arts Centre
CATEGORIES:Coffee Morning
ATTACH;FMTTYPE=image/jpeg:https://charlestown.ie/wp-content/uploads/2024/03/Coffee-Morning-General-e1710754785490.jpg
ORGANIZER;CN="Charlestown Development Association":MAILTO:charlestownda@gmail.com
END:VEVENT
BEGIN:VEVENT
DTSTART;TZID=Europe/Dublin:20250205T193000
DTEND;TZID=Europe/Dublin:20250205T203000
DTSTAMP:20260424T131920
CREATED:20241101T214915Z
LAST-MODIFIED:20241101T214915Z
UID:10001389-1738783800-1738787400@charlestown.ie
SUMMARY:Salsa Dancing
DESCRIPTION:
URL:https://charlestown.ie/event/salsa-dancing-8/2025-02-05/
LOCATION:Charlestown Arts Centre
CATEGORIES:Community
ATTACH;FMTTYPE=image/jpeg:https://charlestown.ie/wp-content/uploads/2024/09/salsa-e1730497732958.jpg
END:VEVENT
BEGIN:VEVENT
DTSTART;TZID=Europe/Dublin:20250205T154500
DTEND;TZID=Europe/Dublin:20250205T191500
DTSTAMP:20260424T131920
CREATED:20241101T214532Z
LAST-MODIFIED:20250310T023449Z
UID:10001369-1738770300-1738782900@charlestown.ie
SUMMARY:Ballet & Acro Arts
DESCRIPTION:
URL:https://charlestown.ie/event/ballet-acro-arts/2025-02-05/
LOCATION:Charlestown Arts Centre
CATEGORIES:Community
ATTACH;FMTTYPE=image/jpeg:https://charlestown.ie/wp-content/uploads/2024/11/Screenshot_20250310_023233_Facebook.jpg
END:VEVENT
BEGIN:VEVENT
DTSTART;TZID=Europe/Dublin:20250203T200000
DTEND;TZID=Europe/Dublin:20250203T210000
DTSTAMP:20260424T131920
CREATED:20241101T214032Z
LAST-MODIFIED:20250103T195736Z
UID:10001348-1738612800-1738616400@charlestown.ie
SUMMARY:Pilates with Taragh
DESCRIPTION:
URL:https://charlestown.ie/event/pilates-with-taragh-8/2025-02-03/
LOCATION:Charlestown Arts Centre
CATEGORIES:Community
ATTACH;FMTTYPE=image/jpeg:https://charlestown.ie/wp-content/uploads/2024/09/Pilates.jpg
END:VEVENT
BEGIN:VEVENT
DTSTART;TZID=Europe/Dublin:20250131T080000
DTEND;TZID=Europe/Dublin:20250131T170000
DTSTAMP:20260424T131920
CREATED:20250103T194151Z
LAST-MODIFIED:20250103T194151Z
UID:10001532-1738310400-1738342800@charlestown.ie
SUMMARY:Activator Pole & Chair Exercise Class  - Spring 2025
DESCRIPTION:
URL:https://charlestown.ie/event/activator-pole-chair-exercise-class-spring-2025/2025-01-31/
LOCATION:Charlestown Arts Centre
ATTACH;FMTTYPE=image/png:https://charlestown.ie/wp-content/uploads/2025/01/Spring-Exercise-Class.png
ORGANIZER;CN="Charlestown Development Association":MAILTO:charlestownda@gmail.com
END:VEVENT
BEGIN:VEVENT
DTSTART;TZID=Europe/Dublin:20250129T193000
DTEND;TZID=Europe/Dublin:20250129T203000
DTSTAMP:20260424T131920
CREATED:20241101T214915Z
LAST-MODIFIED:20241101T214915Z
UID:10001388-1738179000-1738182600@charlestown.ie
SUMMARY:Salsa Dancing
DESCRIPTION:
URL:https://charlestown.ie/event/salsa-dancing-8/2025-01-29/
LOCATION:Charlestown Arts Centre
CATEGORIES:Community
ATTACH;FMTTYPE=image/jpeg:https://charlestown.ie/wp-content/uploads/2024/09/salsa-e1730497732958.jpg
END:VEVENT
BEGIN:VEVENT
DTSTART;TZID=Europe/Dublin:20250129T154500
DTEND;TZID=Europe/Dublin:20250129T191500
DTSTAMP:20260424T131920
CREATED:20241101T214532Z
LAST-MODIFIED:20250310T023449Z
UID:10001368-1738165500-1738178100@charlestown.ie
SUMMARY:Ballet & Acro Arts
DESCRIPTION:
URL:https://charlestown.ie/event/ballet-acro-arts/2025-01-29/
LOCATION:Charlestown Arts Centre
CATEGORIES:Community
ATTACH;FMTTYPE=image/jpeg:https://charlestown.ie/wp-content/uploads/2024/11/Screenshot_20250310_023233_Facebook.jpg
END:VEVENT
BEGIN:VEVENT
DTSTART;TZID=Europe/Dublin:20250127T200000
DTEND;TZID=Europe/Dublin:20250127T210000
DTSTAMP:20260424T131920
CREATED:20241101T214032Z
LAST-MODIFIED:20250103T195736Z
UID:10001347-1738008000-1738011600@charlestown.ie
SUMMARY:Pilates with Taragh
DESCRIPTION:
URL:https://charlestown.ie/event/pilates-with-taragh-8/2025-01-27/
LOCATION:Charlestown Arts Centre
CATEGORIES:Community
ATTACH;FMTTYPE=image/jpeg:https://charlestown.ie/wp-content/uploads/2024/09/Pilates.jpg
END:VEVENT
BEGIN:VEVENT
DTSTART;TZID=Europe/Dublin:20250124T080000
DTEND;TZID=Europe/Dublin:20250124T170000
DTSTAMP:20260424T131920
CREATED:20250123T055954Z
LAST-MODIFIED:20250123T055956Z
UID:10001531-1737705600-1737738000@charlestown.ie
SUMMARY:Activator Pole & Chair Exercise Class  - Spring 2025
DESCRIPTION:
URL:https://charlestown.ie/event/activator-pole-chair-exercise-class-spring-2025-2/
LOCATION:Charlestown Arts Centre
ATTACH;FMTTYPE=image/png:https://charlestown.ie/wp-content/uploads/2025/01/Spring-Exercise-Class.png
ORGANIZER;CN="Charlestown Development Association":MAILTO:charlestownda@gmail.com
END:VEVENT
BEGIN:VEVENT
DTSTART;TZID=Europe/Dublin:20250122T193000
DTEND;TZID=Europe/Dublin:20250122T203000
DTSTAMP:20260424T131920
CREATED:20241101T214915Z
LAST-MODIFIED:20241101T214915Z
UID:10001387-1737574200-1737577800@charlestown.ie
SUMMARY:Salsa Dancing
DESCRIPTION:
URL:https://charlestown.ie/event/salsa-dancing-8/2025-01-22/
LOCATION:Charlestown Arts Centre
CATEGORIES:Community
ATTACH;FMTTYPE=image/jpeg:https://charlestown.ie/wp-content/uploads/2024/09/salsa-e1730497732958.jpg
END:VEVENT
BEGIN:VEVENT
DTSTART;TZID=Europe/Dublin:20250122T154500
DTEND;TZID=Europe/Dublin:20250122T191500
DTSTAMP:20260424T131920
CREATED:20241101T214532Z
LAST-MODIFIED:20250310T023449Z
UID:10001367-1737560700-1737573300@charlestown.ie
SUMMARY:Ballet & Acro Arts
DESCRIPTION:
URL:https://charlestown.ie/event/ballet-acro-arts/2025-01-22/
LOCATION:Charlestown Arts Centre
CATEGORIES:Community
ATTACH;FMTTYPE=image/jpeg:https://charlestown.ie/wp-content/uploads/2024/11/Screenshot_20250310_023233_Facebook.jpg
END:VEVENT
END:VCALENDAR