BEGIN:VCALENDAR
VERSION:2.0
PRODID:-//Charlestown - ECPv6.6.4.2//NONSGML v1.0//EN
CALSCALE:GREGORIAN
METHOD:PUBLISH
X-ORIGINAL-URL:https://charlestown.ie
X-WR-CALDESC:Events for Charlestown
REFRESH-INTERVAL;VALUE=DURATION:PT1H
X-Robots-Tag:noindex
X-PUBLISHED-TTL:PT1H
BEGIN:VTIMEZONE
TZID:Europe/Dublin
BEGIN:DAYLIGHT
TZOFFSETFROM:+0000
TZOFFSETTO:+0100
TZNAME:IST
DTSTART:20250330T010000
END:DAYLIGHT
BEGIN:STANDARD
TZOFFSETFROM:+0100
TZOFFSETTO:+0000
TZNAME:GMT
DTSTART:20251026T010000
END:STANDARD
END:VTIMEZONE
BEGIN:VEVENT
DTSTART;TZID=Europe/Dublin:20250630T200000
DTEND;TZID=Europe/Dublin:20250630T210000
DTSTAMP:20260424T102611
CREATED:20250103T200036Z
LAST-MODIFIED:20250103T200036Z
UID:10001546-1751313600-1751317200@charlestown.ie
SUMMARY:Pilates with Taragh
DESCRIPTION:
URL:https://charlestown.ie/event/pilates-with-taragh-9/2025-06-30/
LOCATION:Charlestown Arts Centre
ATTACH;FMTTYPE=image/jpeg:https://charlestown.ie/wp-content/uploads/2024/09/Pilates.jpg
END:VEVENT
BEGIN:VEVENT
DTSTART;TZID=Europe/Dublin:20250623T200000
DTEND;TZID=Europe/Dublin:20250623T210000
DTSTAMP:20260424T102611
CREATED:20250103T200036Z
LAST-MODIFIED:20250103T200036Z
UID:10001545-1750708800-1750712400@charlestown.ie
SUMMARY:Pilates with Taragh
DESCRIPTION:
URL:https://charlestown.ie/event/pilates-with-taragh-9/2025-06-23/
LOCATION:Charlestown Arts Centre
ATTACH;FMTTYPE=image/jpeg:https://charlestown.ie/wp-content/uploads/2024/09/Pilates.jpg
END:VEVENT
BEGIN:VEVENT
DTSTART;TZID=Europe/Dublin:20250616T200000
DTEND;TZID=Europe/Dublin:20250616T210000
DTSTAMP:20260424T102611
CREATED:20250103T200036Z
LAST-MODIFIED:20250103T200036Z
UID:10001544-1750104000-1750107600@charlestown.ie
SUMMARY:Pilates with Taragh
DESCRIPTION:
URL:https://charlestown.ie/event/pilates-with-taragh-9/2025-06-16/
LOCATION:Charlestown Arts Centre
ATTACH;FMTTYPE=image/jpeg:https://charlestown.ie/wp-content/uploads/2024/09/Pilates.jpg
END:VEVENT
BEGIN:VEVENT
DTSTART;TZID=Europe/Dublin:20250609T200000
DTEND;TZID=Europe/Dublin:20250609T210000
DTSTAMP:20260424T102611
CREATED:20250103T200036Z
LAST-MODIFIED:20250103T200036Z
UID:10001543-1749499200-1749502800@charlestown.ie
SUMMARY:Pilates with Taragh
DESCRIPTION:
URL:https://charlestown.ie/event/pilates-with-taragh-9/2025-06-09/
LOCATION:Charlestown Arts Centre
ATTACH;FMTTYPE=image/jpeg:https://charlestown.ie/wp-content/uploads/2024/09/Pilates.jpg
END:VEVENT
BEGIN:VEVENT
DTSTART;TZID=Europe/Dublin:20250606T110000
DTEND;TZID=Europe/Dublin:20250606T130000
DTSTAMP:20260424T102611
CREATED:20250103T201103Z
LAST-MODIFIED:20250103T201103Z
UID:10001551-1749207600-1749214800@charlestown.ie
SUMMARY:Community Coffee Morning - All Welcome
DESCRIPTION:
URL:https://charlestown.ie/event/community-coffee-morning-all-welcome/2025-06-06/
LOCATION:Charlestown Arts Centre
CATEGORIES:Coffee Morning
ATTACH;FMTTYPE=image/jpeg:https://charlestown.ie/wp-content/uploads/2024/03/Coffee-Morning-General-e1710754785490.jpg
ORGANIZER;CN="Charlestown Development Association":MAILTO:charlestownda@gmail.com
END:VEVENT
BEGIN:VEVENT
DTSTART;TZID=Europe/Dublin:20250602T200000
DTEND;TZID=Europe/Dublin:20250602T210000
DTSTAMP:20260424T102611
CREATED:20250103T200036Z
LAST-MODIFIED:20250103T200036Z
UID:10001542-1748894400-1748898000@charlestown.ie
SUMMARY:Pilates with Taragh
DESCRIPTION:
URL:https://charlestown.ie/event/pilates-with-taragh-9/2025-06-02/
LOCATION:Charlestown Arts Centre
ATTACH;FMTTYPE=image/jpeg:https://charlestown.ie/wp-content/uploads/2024/09/Pilates.jpg
END:VEVENT
BEGIN:VEVENT
DTSTART;TZID=Europe/Dublin:20250526T200000
DTEND;TZID=Europe/Dublin:20250526T210000
DTSTAMP:20260424T102611
CREATED:20250103T200036Z
LAST-MODIFIED:20250103T200036Z
UID:10001541-1748289600-1748293200@charlestown.ie
SUMMARY:Pilates with Taragh
DESCRIPTION:
URL:https://charlestown.ie/event/pilates-with-taragh-9/2025-05-26/
LOCATION:Charlestown Arts Centre
ATTACH;FMTTYPE=image/jpeg:https://charlestown.ie/wp-content/uploads/2024/09/Pilates.jpg
END:VEVENT
BEGIN:VEVENT
DTSTART;TZID=Europe/Dublin:20250519T200000
DTEND;TZID=Europe/Dublin:20250519T210000
DTSTAMP:20260424T102611
CREATED:20250103T200036Z
LAST-MODIFIED:20250103T200036Z
UID:10001540-1747684800-1747688400@charlestown.ie
SUMMARY:Pilates with Taragh
DESCRIPTION:
URL:https://charlestown.ie/event/pilates-with-taragh-9/2025-05-19/
LOCATION:Charlestown Arts Centre
ATTACH;FMTTYPE=image/jpeg:https://charlestown.ie/wp-content/uploads/2024/09/Pilates.jpg
END:VEVENT
BEGIN:VEVENT
DTSTART;TZID=Europe/Dublin:20250512T200000
DTEND;TZID=Europe/Dublin:20250512T210000
DTSTAMP:20260424T102611
CREATED:20250103T200036Z
LAST-MODIFIED:20250103T200036Z
UID:10001539-1747080000-1747083600@charlestown.ie
SUMMARY:Pilates with Taragh
DESCRIPTION:
URL:https://charlestown.ie/event/pilates-with-taragh-9/2025-05-12/
LOCATION:Charlestown Arts Centre
ATTACH;FMTTYPE=image/jpeg:https://charlestown.ie/wp-content/uploads/2024/09/Pilates.jpg
END:VEVENT
BEGIN:VEVENT
DTSTART;TZID=Europe/Dublin:20250502T110000
DTEND;TZID=Europe/Dublin:20250502T130000
DTSTAMP:20260424T102611
CREATED:20250103T201103Z
LAST-MODIFIED:20250103T201103Z
UID:10001550-1746183600-1746190800@charlestown.ie
SUMMARY:Community Coffee Morning - All Welcome
DESCRIPTION:
URL:https://charlestown.ie/event/community-coffee-morning-all-welcome/2025-05-02/
LOCATION:Charlestown Arts Centre
CATEGORIES:Coffee Morning
ATTACH;FMTTYPE=image/jpeg:https://charlestown.ie/wp-content/uploads/2024/03/Coffee-Morning-General-e1710754785490.jpg
ORGANIZER;CN="Charlestown Development Association":MAILTO:charlestownda@gmail.com
END:VEVENT
BEGIN:VEVENT
DTSTART;TZID=Europe/Dublin:20250501T200000
DTEND;TZID=Europe/Dublin:20250501T210000
DTSTAMP:20260424T102611
CREATED:20250430T134414Z
LAST-MODIFIED:20250430T134414Z
UID:10001951-1746129600-1746133200@charlestown.ie
SUMMARY:Drama - Meeting 01st May (Arts Centre)
DESCRIPTION:
URL:https://charlestown.ie/event/drama-meeting-01st-may-arts-centre/
LOCATION:Charlestown Arts Centre
CATEGORIES:Community
ATTACH;FMTTYPE=image/jpeg:https://charlestown.ie/wp-content/uploads/2024/09/Drama.jpg
END:VEVENT
BEGIN:VEVENT
DTSTART;TZID=Europe/Dublin:20250414T200000
DTEND;TZID=Europe/Dublin:20250414T210000
DTSTAMP:20260424T102611
CREATED:20250103T200036Z
LAST-MODIFIED:20250103T200036Z
UID:10001538-1744660800-1744664400@charlestown.ie
SUMMARY:Pilates with Taragh
DESCRIPTION:
URL:https://charlestown.ie/event/pilates-with-taragh-9/2025-04-14/
LOCATION:Charlestown Arts Centre
ATTACH;FMTTYPE=image/jpeg:https://charlestown.ie/wp-content/uploads/2024/09/Pilates.jpg
END:VEVENT
BEGIN:VEVENT
DTSTART;TZID=Europe/Dublin:20250407T200000
DTEND;TZID=Europe/Dublin:20250407T210000
DTSTAMP:20260424T102612
CREATED:20250103T200036Z
LAST-MODIFIED:20250103T200036Z
UID:10001537-1744056000-1744059600@charlestown.ie
SUMMARY:Pilates with Taragh
DESCRIPTION:
URL:https://charlestown.ie/event/pilates-with-taragh-9/2025-04-07/
LOCATION:Charlestown Arts Centre
ATTACH;FMTTYPE=image/jpeg:https://charlestown.ie/wp-content/uploads/2024/09/Pilates.jpg
END:VEVENT
BEGIN:VEVENT
DTSTART;TZID=Europe/Dublin:20250404T110000
DTEND;TZID=Europe/Dublin:20250404T130000
DTSTAMP:20260424T102612
CREATED:20250103T201103Z
LAST-MODIFIED:20250103T201103Z
UID:10001549-1743764400-1743771600@charlestown.ie
SUMMARY:Community Coffee Morning - All Welcome
DESCRIPTION:
URL:https://charlestown.ie/event/community-coffee-morning-all-welcome/2025-04-04/
LOCATION:Charlestown Arts Centre
CATEGORIES:Coffee Morning
ATTACH;FMTTYPE=image/jpeg:https://charlestown.ie/wp-content/uploads/2024/03/Coffee-Morning-General-e1710754785490.jpg
ORGANIZER;CN="Charlestown Development Association":MAILTO:charlestownda@gmail.com
END:VEVENT
BEGIN:VEVENT
DTSTART;TZID=Europe/Dublin:20250331T200000
DTEND;TZID=Europe/Dublin:20250331T210000
DTSTAMP:20260424T102612
CREATED:20250103T200036Z
LAST-MODIFIED:20250103T200036Z
UID:10001536-1743451200-1743454800@charlestown.ie
SUMMARY:Pilates with Taragh
DESCRIPTION:
URL:https://charlestown.ie/event/pilates-with-taragh-9/2025-03-31/
LOCATION:Charlestown Arts Centre
ATTACH;FMTTYPE=image/jpeg:https://charlestown.ie/wp-content/uploads/2024/09/Pilates.jpg
END:VEVENT
BEGIN:VEVENT
DTSTART;TZID=Europe/Dublin:20250324T200000
DTEND;TZID=Europe/Dublin:20250324T210000
DTSTAMP:20260424T102612
CREATED:20241101T214032Z
LAST-MODIFIED:20250103T195736Z
UID:10001355-1742846400-1742850000@charlestown.ie
SUMMARY:Pilates with Taragh
DESCRIPTION:
URL:https://charlestown.ie/event/pilates-with-taragh-8/2025-03-24/
LOCATION:Charlestown Arts Centre
CATEGORIES:Community
ATTACH;FMTTYPE=image/jpeg:https://charlestown.ie/wp-content/uploads/2024/09/Pilates.jpg
END:VEVENT
BEGIN:VEVENT
DTSTART;TZID=Europe/Dublin:20250319T154500
DTEND;TZID=Europe/Dublin:20250319T191500
DTSTAMP:20260424T102612
CREATED:20241101T214532Z
LAST-MODIFIED:20250310T023449Z
UID:10001375-1742399100-1742411700@charlestown.ie
SUMMARY:Ballet & Acro Arts
DESCRIPTION:
URL:https://charlestown.ie/event/ballet-acro-arts/2025-03-19/
LOCATION:Charlestown Arts Centre
CATEGORIES:Community
ATTACH;FMTTYPE=image/jpeg:https://charlestown.ie/wp-content/uploads/2024/11/Screenshot_20250310_023233_Facebook.jpg
END:VEVENT
BEGIN:VEVENT
DTSTART;TZID=Europe/Dublin:20250317T200000
DTEND;TZID=Europe/Dublin:20250317T210000
DTSTAMP:20260424T102612
CREATED:20241101T214032Z
LAST-MODIFIED:20250103T195736Z
UID:10001354-1742241600-1742245200@charlestown.ie
SUMMARY:Pilates with Taragh
DESCRIPTION:
URL:https://charlestown.ie/event/pilates-with-taragh-8/2025-03-17/
LOCATION:Charlestown Arts Centre
CATEGORIES:Community
ATTACH;FMTTYPE=image/jpeg:https://charlestown.ie/wp-content/uploads/2024/09/Pilates.jpg
END:VEVENT
BEGIN:VEVENT
DTSTART;TZID=Europe/Dublin:20250312T193000
DTEND;TZID=Europe/Dublin:20250312T203000
DTSTAMP:20260424T102612
CREATED:20241101T214915Z
LAST-MODIFIED:20241101T214915Z
UID:10001394-1741807800-1741811400@charlestown.ie
SUMMARY:Salsa Dancing
DESCRIPTION:
URL:https://charlestown.ie/event/salsa-dancing-8/2025-03-12/
LOCATION:Charlestown Arts Centre
CATEGORIES:Community
ATTACH;FMTTYPE=image/jpeg:https://charlestown.ie/wp-content/uploads/2024/09/salsa-e1730497732958.jpg
END:VEVENT
BEGIN:VEVENT
DTSTART;TZID=Europe/Dublin:20250312T154500
DTEND;TZID=Europe/Dublin:20250312T191500
DTSTAMP:20260424T102612
CREATED:20241101T214532Z
LAST-MODIFIED:20250310T023449Z
UID:10001374-1741794300-1741806900@charlestown.ie
SUMMARY:Ballet & Acro Arts
DESCRIPTION:
URL:https://charlestown.ie/event/ballet-acro-arts/2025-03-12/
LOCATION:Charlestown Arts Centre
CATEGORIES:Community
ATTACH;FMTTYPE=image/jpeg:https://charlestown.ie/wp-content/uploads/2024/11/Screenshot_20250310_023233_Facebook.jpg
END:VEVENT
BEGIN:VEVENT
DTSTART;TZID=Europe/Dublin:20250310T200000
DTEND;TZID=Europe/Dublin:20250310T210000
DTSTAMP:20260424T102612
CREATED:20241101T214032Z
LAST-MODIFIED:20250103T195736Z
UID:10001353-1741636800-1741640400@charlestown.ie
SUMMARY:Pilates with Taragh
DESCRIPTION:
URL:https://charlestown.ie/event/pilates-with-taragh-8/2025-03-10/
LOCATION:Charlestown Arts Centre
CATEGORIES:Community
ATTACH;FMTTYPE=image/jpeg:https://charlestown.ie/wp-content/uploads/2024/09/Pilates.jpg
END:VEVENT
BEGIN:VEVENT
DTSTART;TZID=Europe/Dublin:20250308T200000
DTEND;TZID=Europe/Dublin:20250308T213000
DTSTAMP:20260424T102612
CREATED:20250204T224843Z
LAST-MODIFIED:20250204T224843Z
UID:10001619-1741464000-1741469400@charlestown.ie
SUMMARY:Charlestown Drama Play - Going away\, Echos of Emmigration
DESCRIPTION:Charlestown Drama Group are delighted to announce their relaunch production ‘Going Away – Echoes of Emigration’ details below. Book early to guarantee your ticket 🎭
URL:https://charlestown.ie/event/charlestown-drama-play-going-away-echos-of-emmigration/2025-03-08/
LOCATION:Charlestown Arts Centre
ATTACH;FMTTYPE=image/jpeg:https://charlestown.ie/wp-content/uploads/2025/02/Screenshot_20250204_224413_Facebook.jpg
END:VEVENT
BEGIN:VEVENT
DTSTART;TZID=Europe/Dublin:20250307T200000
DTEND;TZID=Europe/Dublin:20250307T210000
DTSTAMP:20260424T102612
CREATED:20250204T224843Z
LAST-MODIFIED:20250204T224843Z
UID:10001618-1741377600-1741381200@charlestown.ie
SUMMARY:Charlestown Drama Play - Going away\, Echos of Emmigration
DESCRIPTION:Charlestown Drama Group are delighted to announce their relaunch production ‘Going Away – Echoes of Emigration’ details below. Book early to guarantee your ticket 🎭
URL:https://charlestown.ie/event/charlestown-drama-play-going-away-echos-of-emmigration/2025-03-07/
LOCATION:Charlestown Arts Centre
ATTACH;FMTTYPE=image/jpeg:https://charlestown.ie/wp-content/uploads/2025/02/Screenshot_20250204_224413_Facebook.jpg
END:VEVENT
BEGIN:VEVENT
DTSTART;TZID=Europe/Dublin:20250307T110000
DTEND;TZID=Europe/Dublin:20250307T130000
DTSTAMP:20260424T102612
CREATED:20250103T201103Z
LAST-MODIFIED:20250103T201103Z
UID:10001548-1741345200-1741352400@charlestown.ie
SUMMARY:Community Coffee Morning - All Welcome
DESCRIPTION:
URL:https://charlestown.ie/event/community-coffee-morning-all-welcome/2025-03-07/
LOCATION:Charlestown Arts Centre
CATEGORIES:Coffee Morning
ATTACH;FMTTYPE=image/jpeg:https://charlestown.ie/wp-content/uploads/2024/03/Coffee-Morning-General-e1710754785490.jpg
ORGANIZER;CN="Charlestown Development Association":MAILTO:charlestownda@gmail.com
END:VEVENT
BEGIN:VEVENT
DTSTART;TZID=Europe/Dublin:20250305T193000
DTEND;TZID=Europe/Dublin:20250305T203000
DTSTAMP:20260424T102612
CREATED:20241101T214915Z
LAST-MODIFIED:20241101T214915Z
UID:10001393-1741203000-1741206600@charlestown.ie
SUMMARY:Salsa Dancing
DESCRIPTION:
URL:https://charlestown.ie/event/salsa-dancing-8/2025-03-05/
LOCATION:Charlestown Arts Centre
CATEGORIES:Community
ATTACH;FMTTYPE=image/jpeg:https://charlestown.ie/wp-content/uploads/2024/09/salsa-e1730497732958.jpg
END:VEVENT
BEGIN:VEVENT
DTSTART;TZID=Europe/Dublin:20250305T154500
DTEND;TZID=Europe/Dublin:20250305T191500
DTSTAMP:20260424T102612
CREATED:20241101T214532Z
LAST-MODIFIED:20250310T023449Z
UID:10001373-1741189500-1741202100@charlestown.ie
SUMMARY:Ballet & Acro Arts
DESCRIPTION:
URL:https://charlestown.ie/event/ballet-acro-arts/2025-03-05/
LOCATION:Charlestown Arts Centre
CATEGORIES:Community
ATTACH;FMTTYPE=image/jpeg:https://charlestown.ie/wp-content/uploads/2024/11/Screenshot_20250310_023233_Facebook.jpg
END:VEVENT
BEGIN:VEVENT
DTSTART;TZID=Europe/Dublin:20250303T200000
DTEND;TZID=Europe/Dublin:20250303T210000
DTSTAMP:20260424T102612
CREATED:20241101T214032Z
LAST-MODIFIED:20250103T195736Z
UID:10001352-1741032000-1741035600@charlestown.ie
SUMMARY:Pilates with Taragh
DESCRIPTION:
URL:https://charlestown.ie/event/pilates-with-taragh-8/2025-03-03/
LOCATION:Charlestown Arts Centre
CATEGORIES:Community
ATTACH;FMTTYPE=image/jpeg:https://charlestown.ie/wp-content/uploads/2024/09/Pilates.jpg
END:VEVENT
BEGIN:VEVENT
DTSTART;TZID=Europe/Dublin:20250228T080000
DTEND;TZID=Europe/Dublin:20250228T170000
DTSTAMP:20260424T102612
CREATED:20250103T194151Z
LAST-MODIFIED:20250103T194151Z
UID:10001535-1740729600-1740762000@charlestown.ie
SUMMARY:Activator Pole & Chair Exercise Class  - Spring 2025
DESCRIPTION:
URL:https://charlestown.ie/event/activator-pole-chair-exercise-class-spring-2025/2025-02-28/
LOCATION:Charlestown Arts Centre
ATTACH;FMTTYPE=image/png:https://charlestown.ie/wp-content/uploads/2025/01/Spring-Exercise-Class.png
ORGANIZER;CN="Charlestown Development Association":MAILTO:charlestownda@gmail.com
END:VEVENT
BEGIN:VEVENT
DTSTART;TZID=Europe/Dublin:20250226T193000
DTEND;TZID=Europe/Dublin:20250226T203000
DTSTAMP:20260424T102612
CREATED:20241101T214915Z
LAST-MODIFIED:20241101T214915Z
UID:10001392-1740598200-1740601800@charlestown.ie
SUMMARY:Salsa Dancing
DESCRIPTION:
URL:https://charlestown.ie/event/salsa-dancing-8/2025-02-26/
LOCATION:Charlestown Arts Centre
CATEGORIES:Community
ATTACH;FMTTYPE=image/jpeg:https://charlestown.ie/wp-content/uploads/2024/09/salsa-e1730497732958.jpg
END:VEVENT
BEGIN:VEVENT
DTSTART;TZID=Europe/Dublin:20250226T154500
DTEND;TZID=Europe/Dublin:20250226T191500
DTSTAMP:20260424T102612
CREATED:20241101T214532Z
LAST-MODIFIED:20250310T023449Z
UID:10001372-1740584700-1740597300@charlestown.ie
SUMMARY:Ballet & Acro Arts
DESCRIPTION:
URL:https://charlestown.ie/event/ballet-acro-arts/2025-02-26/
LOCATION:Charlestown Arts Centre
CATEGORIES:Community
ATTACH;FMTTYPE=image/jpeg:https://charlestown.ie/wp-content/uploads/2024/11/Screenshot_20250310_023233_Facebook.jpg
END:VEVENT
END:VCALENDAR