BEGIN:VCALENDAR
VERSION:2.0
PRODID:-//Charlestown - ECPv6.6.4.2//NONSGML v1.0//EN
CALSCALE:GREGORIAN
METHOD:PUBLISH
X-ORIGINAL-URL:https://charlestown.ie
X-WR-CALDESC:Events for Charlestown
REFRESH-INTERVAL;VALUE=DURATION:PT1H
X-Robots-Tag:noindex
X-PUBLISHED-TTL:PT1H
BEGIN:VTIMEZONE
TZID:Europe/Dublin
BEGIN:DAYLIGHT
TZOFFSETFROM:+0000
TZOFFSETTO:+0100
TZNAME:IST
DTSTART:20260329T010000
END:DAYLIGHT
BEGIN:STANDARD
TZOFFSETFROM:+0100
TZOFFSETTO:+0000
TZNAME:GMT
DTSTART:20261025T010000
END:STANDARD
END:VTIMEZONE
BEGIN:VEVENT
DTSTART;TZID=Europe/Dublin:20260422T110000
DTEND;TZID=Europe/Dublin:20260422T130000
DTSTAMP:20260423T212001
CREATED:20250819T203259Z
LAST-MODIFIED:20250819T203259Z
UID:10002215-1776855600-1776862800@charlestown.ie
SUMMARY:Adult Arts & Crafts Group
DESCRIPTION:
URL:https://charlestown.ie/event/adult-arts-crafts-group/2026-04-22/
LOCATION:Charlestown Arts Centre
ATTACH;FMTTYPE=image/heic:https://charlestown.ie/wp-content/uploads/2025/08/20250819_175055.heic
END:VEVENT
BEGIN:VEVENT
DTSTART;TZID=Europe/Dublin:20260421T191500
DTEND;TZID=Europe/Dublin:20260421T201500
DTSTAMP:20260423T212001
CREATED:20250820T123631Z
LAST-MODIFIED:20250820T123631Z
UID:10002474-1776798900-1776802500@charlestown.ie
SUMMARY:Yoga with Trish
DESCRIPTION:
URL:https://charlestown.ie/event/yoga-with-trish/2026-04-21/
LOCATION:Charlestown Arts Centre
ATTACH;FMTTYPE=image/jpeg:https://charlestown.ie/wp-content/uploads/2025/08/Screenshot_20250819_162049_Canva.jpg
END:VEVENT
BEGIN:VEVENT
DTSTART;TZID=Europe/Dublin:20260415T110000
DTEND;TZID=Europe/Dublin:20260415T130000
DTSTAMP:20260423T212001
CREATED:20250819T203259Z
LAST-MODIFIED:20250819T203259Z
UID:10002214-1776250800-1776258000@charlestown.ie
SUMMARY:Adult Arts & Crafts Group
DESCRIPTION:
URL:https://charlestown.ie/event/adult-arts-crafts-group/2026-04-15/
LOCATION:Charlestown Arts Centre
ATTACH;FMTTYPE=image/heic:https://charlestown.ie/wp-content/uploads/2025/08/20250819_175055.heic
END:VEVENT
BEGIN:VEVENT
DTSTART;TZID=Europe/Dublin:20260414T191500
DTEND;TZID=Europe/Dublin:20260414T201500
DTSTAMP:20260423T212001
CREATED:20250820T123631Z
LAST-MODIFIED:20250820T123631Z
UID:10002473-1776194100-1776197700@charlestown.ie
SUMMARY:Yoga with Trish
DESCRIPTION:
URL:https://charlestown.ie/event/yoga-with-trish/2026-04-14/
LOCATION:Charlestown Arts Centre
ATTACH;FMTTYPE=image/jpeg:https://charlestown.ie/wp-content/uploads/2025/08/Screenshot_20250819_162049_Canva.jpg
END:VEVENT
BEGIN:VEVENT
DTSTART;TZID=Europe/Dublin:20260408T110000
DTEND;TZID=Europe/Dublin:20260408T130000
DTSTAMP:20260423T212001
CREATED:20250819T203259Z
LAST-MODIFIED:20250819T203259Z
UID:10002213-1775646000-1775653200@charlestown.ie
SUMMARY:Adult Arts & Crafts Group
DESCRIPTION:
URL:https://charlestown.ie/event/adult-arts-crafts-group/2026-04-08/
LOCATION:Charlestown Arts Centre
ATTACH;FMTTYPE=image/heic:https://charlestown.ie/wp-content/uploads/2025/08/20250819_175055.heic
END:VEVENT
BEGIN:VEVENT
DTSTART;TZID=Europe/Dublin:20260407T191500
DTEND;TZID=Europe/Dublin:20260407T201500
DTSTAMP:20260423T212001
CREATED:20250820T123631Z
LAST-MODIFIED:20250820T123631Z
UID:10002472-1775589300-1775592900@charlestown.ie
SUMMARY:Yoga with Trish
DESCRIPTION:
URL:https://charlestown.ie/event/yoga-with-trish/2026-04-07/
LOCATION:Charlestown Arts Centre
ATTACH;FMTTYPE=image/jpeg:https://charlestown.ie/wp-content/uploads/2025/08/Screenshot_20250819_162049_Canva.jpg
END:VEVENT
BEGIN:VEVENT
DTSTART;TZID=Europe/Dublin:20260403T110000
DTEND;TZID=Europe/Dublin:20260403T130000
DTSTAMP:20260423T212001
CREATED:20251001T133539Z
LAST-MODIFIED:20260117T172145Z
UID:10003241-1775214000-1775221200@charlestown.ie
SUMMARY:Community Coffee Morning - All Welcome
DESCRIPTION:
URL:https://charlestown.ie/event/community-coffee-morning-all-welcome-3/2026-04-03/
LOCATION:Charlestown Arts Centre
CATEGORIES:Coffee Morning
ATTACH;FMTTYPE=image/jpeg:https://charlestown.ie/wp-content/uploads/2024/03/Coffee-Morning-General-e1710754785490.jpg
ORGANIZER;CN="Charlestown Development Association":MAILTO:charlestownda@gmail.com
END:VEVENT
BEGIN:VEVENT
DTSTART;TZID=Europe/Dublin:20260401T110000
DTEND;TZID=Europe/Dublin:20260401T130000
DTSTAMP:20260423T212001
CREATED:20250819T203259Z
LAST-MODIFIED:20250819T203259Z
UID:10002212-1775041200-1775048400@charlestown.ie
SUMMARY:Adult Arts & Crafts Group
DESCRIPTION:
URL:https://charlestown.ie/event/adult-arts-crafts-group/2026-04-01/
LOCATION:Charlestown Arts Centre
ATTACH;FMTTYPE=image/heic:https://charlestown.ie/wp-content/uploads/2025/08/20250819_175055.heic
END:VEVENT
BEGIN:VEVENT
DTSTART;TZID=Europe/Dublin:20260331T191500
DTEND;TZID=Europe/Dublin:20260331T201500
DTSTAMP:20260423T212001
CREATED:20250820T123631Z
LAST-MODIFIED:20250820T123631Z
UID:10002471-1774984500-1774988100@charlestown.ie
SUMMARY:Yoga with Trish
DESCRIPTION:
URL:https://charlestown.ie/event/yoga-with-trish/2026-03-31/
LOCATION:Charlestown Arts Centre
ATTACH;FMTTYPE=image/jpeg:https://charlestown.ie/wp-content/uploads/2025/08/Screenshot_20250819_162049_Canva.jpg
END:VEVENT
BEGIN:VEVENT
DTSTART;TZID=Europe/Dublin:20260325T110000
DTEND;TZID=Europe/Dublin:20260325T130000
DTSTAMP:20260423T212001
CREATED:20250819T203259Z
LAST-MODIFIED:20250819T203259Z
UID:10002211-1774436400-1774443600@charlestown.ie
SUMMARY:Adult Arts & Crafts Group
DESCRIPTION:
URL:https://charlestown.ie/event/adult-arts-crafts-group/2026-03-25/
LOCATION:Charlestown Arts Centre
ATTACH;FMTTYPE=image/heic:https://charlestown.ie/wp-content/uploads/2025/08/20250819_175055.heic
END:VEVENT
BEGIN:VEVENT
DTSTART;TZID=Europe/Dublin:20260324T191500
DTEND;TZID=Europe/Dublin:20260324T201500
DTSTAMP:20260423T212001
CREATED:20250820T123631Z
LAST-MODIFIED:20250820T123631Z
UID:10002470-1774379700-1774383300@charlestown.ie
SUMMARY:Yoga with Trish
DESCRIPTION:
URL:https://charlestown.ie/event/yoga-with-trish/2026-03-24/
LOCATION:Charlestown Arts Centre
ATTACH;FMTTYPE=image/jpeg:https://charlestown.ie/wp-content/uploads/2025/08/Screenshot_20250819_162049_Canva.jpg
END:VEVENT
BEGIN:VEVENT
DTSTART;TZID=Europe/Dublin:20260318T110000
DTEND;TZID=Europe/Dublin:20260318T130000
DTSTAMP:20260423T212001
CREATED:20250819T203259Z
LAST-MODIFIED:20250819T203259Z
UID:10002210-1773831600-1773838800@charlestown.ie
SUMMARY:Adult Arts & Crafts Group
DESCRIPTION:
URL:https://charlestown.ie/event/adult-arts-crafts-group/2026-03-18/
LOCATION:Charlestown Arts Centre
ATTACH;FMTTYPE=image/heic:https://charlestown.ie/wp-content/uploads/2025/08/20250819_175055.heic
END:VEVENT
BEGIN:VEVENT
DTSTART;TZID=Europe/Dublin:20260317T191500
DTEND;TZID=Europe/Dublin:20260317T201500
DTSTAMP:20260423T212001
CREATED:20250820T123631Z
LAST-MODIFIED:20250820T123631Z
UID:10002469-1773774900-1773778500@charlestown.ie
SUMMARY:Yoga with Trish
DESCRIPTION:
URL:https://charlestown.ie/event/yoga-with-trish/2026-03-17/
LOCATION:Charlestown Arts Centre
ATTACH;FMTTYPE=image/jpeg:https://charlestown.ie/wp-content/uploads/2025/08/Screenshot_20250819_162049_Canva.jpg
END:VEVENT
BEGIN:VEVENT
DTSTART;TZID=Europe/Dublin:20260311T110000
DTEND;TZID=Europe/Dublin:20260311T130000
DTSTAMP:20260423T212001
CREATED:20250819T203259Z
LAST-MODIFIED:20250819T203259Z
UID:10002209-1773226800-1773234000@charlestown.ie
SUMMARY:Adult Arts & Crafts Group
DESCRIPTION:
URL:https://charlestown.ie/event/adult-arts-crafts-group/2026-03-11/
LOCATION:Charlestown Arts Centre
ATTACH;FMTTYPE=image/heic:https://charlestown.ie/wp-content/uploads/2025/08/20250819_175055.heic
END:VEVENT
BEGIN:VEVENT
DTSTART;TZID=Europe/Dublin:20260310T191500
DTEND;TZID=Europe/Dublin:20260310T201500
DTSTAMP:20260423T212001
CREATED:20250820T123631Z
LAST-MODIFIED:20250820T123631Z
UID:10002468-1773170100-1773173700@charlestown.ie
SUMMARY:Yoga with Trish
DESCRIPTION:
URL:https://charlestown.ie/event/yoga-with-trish/2026-03-10/
LOCATION:Charlestown Arts Centre
ATTACH;FMTTYPE=image/jpeg:https://charlestown.ie/wp-content/uploads/2025/08/Screenshot_20250819_162049_Canva.jpg
END:VEVENT
BEGIN:VEVENT
DTSTART;TZID=Europe/Dublin:20260306T110000
DTEND;TZID=Europe/Dublin:20260306T130000
DTSTAMP:20260423T212001
CREATED:20251001T133539Z
LAST-MODIFIED:20260117T172145Z
UID:10003240-1772794800-1772802000@charlestown.ie
SUMMARY:Community Coffee Morning - All Welcome
DESCRIPTION:
URL:https://charlestown.ie/event/community-coffee-morning-all-welcome-3/2026-03-06/
LOCATION:Charlestown Arts Centre
CATEGORIES:Coffee Morning
ATTACH;FMTTYPE=image/jpeg:https://charlestown.ie/wp-content/uploads/2024/03/Coffee-Morning-General-e1710754785490.jpg
ORGANIZER;CN="Charlestown Development Association":MAILTO:charlestownda@gmail.com
END:VEVENT
BEGIN:VEVENT
DTSTART;TZID=Europe/Dublin:20260304T110000
DTEND;TZID=Europe/Dublin:20260304T130000
DTSTAMP:20260423T212001
CREATED:20250819T203259Z
LAST-MODIFIED:20250819T203259Z
UID:10002208-1772622000-1772629200@charlestown.ie
SUMMARY:Adult Arts & Crafts Group
DESCRIPTION:
URL:https://charlestown.ie/event/adult-arts-crafts-group/2026-03-04/
LOCATION:Charlestown Arts Centre
ATTACH;FMTTYPE=image/heic:https://charlestown.ie/wp-content/uploads/2025/08/20250819_175055.heic
END:VEVENT
BEGIN:VEVENT
DTSTART;TZID=Europe/Dublin:20260303T191500
DTEND;TZID=Europe/Dublin:20260303T201500
DTSTAMP:20260423T212001
CREATED:20250820T123631Z
LAST-MODIFIED:20250820T123631Z
UID:10002467-1772565300-1772568900@charlestown.ie
SUMMARY:Yoga with Trish
DESCRIPTION:
URL:https://charlestown.ie/event/yoga-with-trish/2026-03-03/
LOCATION:Charlestown Arts Centre
ATTACH;FMTTYPE=image/jpeg:https://charlestown.ie/wp-content/uploads/2025/08/Screenshot_20250819_162049_Canva.jpg
END:VEVENT
BEGIN:VEVENT
DTSTART;TZID=Europe/Dublin:20260225T110000
DTEND;TZID=Europe/Dublin:20260225T130000
DTSTAMP:20260423T212001
CREATED:20250819T203259Z
LAST-MODIFIED:20250819T203259Z
UID:10002207-1772017200-1772024400@charlestown.ie
SUMMARY:Adult Arts & Crafts Group
DESCRIPTION:
URL:https://charlestown.ie/event/adult-arts-crafts-group/2026-02-25/
LOCATION:Charlestown Arts Centre
ATTACH;FMTTYPE=image/heic:https://charlestown.ie/wp-content/uploads/2025/08/20250819_175055.heic
END:VEVENT
BEGIN:VEVENT
DTSTART;TZID=Europe/Dublin:20260224T191500
DTEND;TZID=Europe/Dublin:20260224T201500
DTSTAMP:20260423T212001
CREATED:20250820T123631Z
LAST-MODIFIED:20250820T123631Z
UID:10002466-1771960500-1771964100@charlestown.ie
SUMMARY:Yoga with Trish
DESCRIPTION:
URL:https://charlestown.ie/event/yoga-with-trish/2026-02-24/
LOCATION:Charlestown Arts Centre
ATTACH;FMTTYPE=image/jpeg:https://charlestown.ie/wp-content/uploads/2025/08/Screenshot_20250819_162049_Canva.jpg
END:VEVENT
BEGIN:VEVENT
DTSTART;TZID=Europe/Dublin:20260218T110000
DTEND;TZID=Europe/Dublin:20260218T130000
DTSTAMP:20260423T212001
CREATED:20250819T203259Z
LAST-MODIFIED:20250819T203259Z
UID:10002206-1771412400-1771419600@charlestown.ie
SUMMARY:Adult Arts & Crafts Group
DESCRIPTION:
URL:https://charlestown.ie/event/adult-arts-crafts-group/2026-02-18/
LOCATION:Charlestown Arts Centre
ATTACH;FMTTYPE=image/heic:https://charlestown.ie/wp-content/uploads/2025/08/20250819_175055.heic
END:VEVENT
BEGIN:VEVENT
DTSTART;TZID=Europe/Dublin:20260217T191500
DTEND;TZID=Europe/Dublin:20260217T201500
DTSTAMP:20260423T212001
CREATED:20250820T123631Z
LAST-MODIFIED:20250820T123631Z
UID:10002465-1771355700-1771359300@charlestown.ie
SUMMARY:Yoga with Trish
DESCRIPTION:
URL:https://charlestown.ie/event/yoga-with-trish/2026-02-17/
LOCATION:Charlestown Arts Centre
ATTACH;FMTTYPE=image/jpeg:https://charlestown.ie/wp-content/uploads/2025/08/Screenshot_20250819_162049_Canva.jpg
END:VEVENT
BEGIN:VEVENT
DTSTART;TZID=Europe/Dublin:20260211T110000
DTEND;TZID=Europe/Dublin:20260211T130000
DTSTAMP:20260423T212001
CREATED:20250819T203259Z
LAST-MODIFIED:20250819T203259Z
UID:10002205-1770807600-1770814800@charlestown.ie
SUMMARY:Adult Arts & Crafts Group
DESCRIPTION:
URL:https://charlestown.ie/event/adult-arts-crafts-group/2026-02-11/
LOCATION:Charlestown Arts Centre
ATTACH;FMTTYPE=image/heic:https://charlestown.ie/wp-content/uploads/2025/08/20250819_175055.heic
END:VEVENT
BEGIN:VEVENT
DTSTART;TZID=Europe/Dublin:20260210T191500
DTEND;TZID=Europe/Dublin:20260210T201500
DTSTAMP:20260423T212001
CREATED:20250820T123631Z
LAST-MODIFIED:20250820T123631Z
UID:10002464-1770750900-1770754500@charlestown.ie
SUMMARY:Yoga with Trish
DESCRIPTION:
URL:https://charlestown.ie/event/yoga-with-trish/2026-02-10/
LOCATION:Charlestown Arts Centre
ATTACH;FMTTYPE=image/jpeg:https://charlestown.ie/wp-content/uploads/2025/08/Screenshot_20250819_162049_Canva.jpg
END:VEVENT
BEGIN:VEVENT
DTSTART;TZID=Europe/Dublin:20260206T110000
DTEND;TZID=Europe/Dublin:20260206T130000
DTSTAMP:20260423T212001
CREATED:20251001T133539Z
LAST-MODIFIED:20260117T172145Z
UID:10003239-1770375600-1770382800@charlestown.ie
SUMMARY:Community Coffee Morning - All Welcome
DESCRIPTION:
URL:https://charlestown.ie/event/community-coffee-morning-all-welcome-3/2026-02-06/
LOCATION:Charlestown Arts Centre
CATEGORIES:Coffee Morning
ATTACH;FMTTYPE=image/jpeg:https://charlestown.ie/wp-content/uploads/2024/03/Coffee-Morning-General-e1710754785490.jpg
ORGANIZER;CN="Charlestown Development Association":MAILTO:charlestownda@gmail.com
END:VEVENT
BEGIN:VEVENT
DTSTART;TZID=Europe/Dublin:20260204T110000
DTEND;TZID=Europe/Dublin:20260204T130000
DTSTAMP:20260423T212001
CREATED:20250819T203259Z
LAST-MODIFIED:20250819T203259Z
UID:10002204-1770202800-1770210000@charlestown.ie
SUMMARY:Adult Arts & Crafts Group
DESCRIPTION:
URL:https://charlestown.ie/event/adult-arts-crafts-group/2026-02-04/
LOCATION:Charlestown Arts Centre
ATTACH;FMTTYPE=image/heic:https://charlestown.ie/wp-content/uploads/2025/08/20250819_175055.heic
END:VEVENT
BEGIN:VEVENT
DTSTART;TZID=Europe/Dublin:20260203T191500
DTEND;TZID=Europe/Dublin:20260203T201500
DTSTAMP:20260423T212001
CREATED:20250820T123631Z
LAST-MODIFIED:20250820T123631Z
UID:10002463-1770146100-1770149700@charlestown.ie
SUMMARY:Yoga with Trish
DESCRIPTION:
URL:https://charlestown.ie/event/yoga-with-trish/2026-02-03/
LOCATION:Charlestown Arts Centre
ATTACH;FMTTYPE=image/jpeg:https://charlestown.ie/wp-content/uploads/2025/08/Screenshot_20250819_162049_Canva.jpg
END:VEVENT
BEGIN:VEVENT
DTSTART;TZID=Europe/Dublin:20260128T110000
DTEND;TZID=Europe/Dublin:20260128T130000
DTSTAMP:20260423T212001
CREATED:20250819T203259Z
LAST-MODIFIED:20250819T203259Z
UID:10002203-1769598000-1769605200@charlestown.ie
SUMMARY:Adult Arts & Crafts Group
DESCRIPTION:
URL:https://charlestown.ie/event/adult-arts-crafts-group/2026-01-28/
LOCATION:Charlestown Arts Centre
ATTACH;FMTTYPE=image/heic:https://charlestown.ie/wp-content/uploads/2025/08/20250819_175055.heic
END:VEVENT
BEGIN:VEVENT
DTSTART;TZID=Europe/Dublin:20260127T191500
DTEND;TZID=Europe/Dublin:20260127T201500
DTSTAMP:20260423T212001
CREATED:20250820T123631Z
LAST-MODIFIED:20250820T123631Z
UID:10002462-1769541300-1769544900@charlestown.ie
SUMMARY:Yoga with Trish
DESCRIPTION:
URL:https://charlestown.ie/event/yoga-with-trish/2026-01-27/
LOCATION:Charlestown Arts Centre
ATTACH;FMTTYPE=image/jpeg:https://charlestown.ie/wp-content/uploads/2025/08/Screenshot_20250819_162049_Canva.jpg
END:VEVENT
BEGIN:VEVENT
DTSTART;TZID=Europe/Dublin:20260121T110000
DTEND;TZID=Europe/Dublin:20260121T130000
DTSTAMP:20260423T212001
CREATED:20250819T203259Z
LAST-MODIFIED:20250819T203259Z
UID:10002202-1768993200-1769000400@charlestown.ie
SUMMARY:Adult Arts & Crafts Group
DESCRIPTION:
URL:https://charlestown.ie/event/adult-arts-crafts-group/2026-01-21/
LOCATION:Charlestown Arts Centre
ATTACH;FMTTYPE=image/heic:https://charlestown.ie/wp-content/uploads/2025/08/20250819_175055.heic
END:VEVENT
END:VCALENDAR