BEGIN:VCALENDAR
VERSION:2.0
PRODID:-//Charlestown - ECPv6.6.4.2//NONSGML v1.0//EN
CALSCALE:GREGORIAN
METHOD:PUBLISH
X-WR-CALNAME:Charlestown
X-ORIGINAL-URL:https://charlestown.ie
X-WR-CALDESC:Events for Charlestown
REFRESH-INTERVAL;VALUE=DURATION:PT1H
X-Robots-Tag:noindex
X-PUBLISHED-TTL:PT1H
BEGIN:VTIMEZONE
TZID:Europe/Dublin
BEGIN:DAYLIGHT
TZOFFSETFROM:+0000
TZOFFSETTO:+0100
TZNAME:IST
DTSTART:20230326T010000
END:DAYLIGHT
BEGIN:STANDARD
TZOFFSETFROM:+0100
TZOFFSETTO:+0000
TZNAME:GMT
DTSTART:20231029T010000
END:STANDARD
BEGIN:DAYLIGHT
TZOFFSETFROM:+0000
TZOFFSETTO:+0100
TZNAME:IST
DTSTART:20240331T010000
END:DAYLIGHT
BEGIN:STANDARD
TZOFFSETFROM:+0100
TZOFFSETTO:+0000
TZNAME:GMT
DTSTART:20241027T010000
END:STANDARD
BEGIN:DAYLIGHT
TZOFFSETFROM:+0000
TZOFFSETTO:+0100
TZNAME:IST
DTSTART:20250330T010000
END:DAYLIGHT
BEGIN:STANDARD
TZOFFSETFROM:+0100
TZOFFSETTO:+0000
TZNAME:GMT
DTSTART:20251026T010000
END:STANDARD
END:VTIMEZONE
BEGIN:VEVENT
DTSTART;TZID=Europe/Dublin:20250906T200000
DTEND;TZID=Europe/Dublin:20250906T213000
DTSTAMP:20260424T005818
CREATED:20250827T023942Z
LAST-MODIFIED:20250829T192609Z
UID:10002878-1757188800-1757194200@charlestown.ie
SUMMARY:GAA - Senior C'ship v Claremorris (away)
DESCRIPTION:
URL:https://charlestown.ie/event/gaa-senior-cship-v-claremorris-away/
CATEGORIES:GAA- LGFA
ATTACH;FMTTYPE=image/jpeg:https://charlestown.ie/wp-content/uploads/2024/09/Screenshot_20240919_200230_Facebook.jpg
ORGANIZER;CN="Charlestown Sarsfields GAA":MAILTO:secretary.charlestown.mayo@gaa.ie
END:VEVENT
BEGIN:VEVENT
DTSTART;TZID=Europe/Dublin:20250717T193000
DTEND;TZID=Europe/Dublin:20250717T210000
DTSTAMP:20260424T005818
CREATED:20250713T180413Z
LAST-MODIFIED:20250713T180413Z
UID:10002099-1752780600-1752786000@charlestown.ie
SUMMARY:GAA- East Mayo U16 A C'ship v St Jarlaths (away)
DESCRIPTION:
URL:https://charlestown.ie/event/gaa-east-mayo-u16-a-cship-v-st-jarlaths-away/
LOCATION:Centre of Excellence\, Bekan
CATEGORIES:GAA- LGFA
ATTACH;FMTTYPE=image/jpeg:https://charlestown.ie/wp-content/uploads/2024/09/Screenshot_20240919_200230_Facebook.jpg
END:VEVENT
BEGIN:VEVENT
DTSTART;TZID=Europe/Dublin:20250710T190000
DTEND;TZID=Europe/Dublin:20250710T203000
DTSTAMP:20260424T005818
CREATED:20250708T213333Z
LAST-MODIFIED:20250708T213333Z
UID:10002089-1752174000-1752179400@charlestown.ie
SUMMARY:GAA - U14 East Mayo Development Final v Swinford ( away)
DESCRIPTION:
URL:https://charlestown.ie/event/gaa-u14-east-mayo-development-final-v-swinford-away/
LOCATION:Centre of Excellence\, Bekan
ATTACH;FMTTYPE=image/jpeg:https://charlestown.ie/wp-content/uploads/2015/06/Charlestown-Aerial-View.jpg
END:VEVENT
BEGIN:VEVENT
DTSTART;TZID=Europe/Dublin:20241109T110000
DTEND;TZID=Europe/Dublin:20241109T123000
DTSTAMP:20260424T005818
CREATED:20241108T195158Z
LAST-MODIFIED:20241108T195158Z
UID:10001457-1731150000-1731155400@charlestown.ie
SUMMARY:GAA - U13 Development League Final v Aghamore (away)
DESCRIPTION:
URL:https://charlestown.ie/event/gaa-u13-development-league-final-v-aghamore-away/
LOCATION:Centre of Excellence\, Bekan
CATEGORIES:GAA- LGFA
ATTACH;FMTTYPE=image/jpeg:https://charlestown.ie/wp-content/uploads/2024/09/Screenshot_20240923_154557_Adobe-Acrobat.jpg
END:VEVENT
BEGIN:VEVENT
DTSTART;TZID=Europe/Dublin:20241109T110000
DTEND;TZID=Europe/Dublin:20241109T123000
DTSTAMP:20260424T005818
CREATED:20241101T212556Z
LAST-MODIFIED:20241108T005417Z
UID:10001335-1731150000-1731155400@charlestown.ie
SUMMARY:LGFA - U16 A Championship Final v Hollymount (away)
DESCRIPTION:
URL:https://charlestown.ie/event/lgfa-u16-a-championship-final-v-hollymount-away/
LOCATION:Centre of Excellence\, Bekan
ATTACH;FMTTYPE=image/jpeg:https://charlestown.ie/wp-content/uploads/2024/11/Screenshot_20241107_225216_WhatsApp.jpg
END:VEVENT
BEGIN:VEVENT
DTSTART;TZID=Europe/Dublin:20241020T123000
DTEND;TZID=Europe/Dublin:20241020T140000
DTSTAMP:20260424T005818
CREATED:20241015T150933Z
LAST-MODIFIED:20241019T124109Z
UID:10001319-1729427400-1729432800@charlestown.ie
SUMMARY:LGFA - U16 Division 1 Championship Final v Hollymount ( away)
DESCRIPTION:
URL:https://charlestown.ie/event/lgfa-u16-division-1-championship-final-v-hollymount-away/
LOCATION:Centre of Excellence\, Bekan
ATTACH;FMTTYPE=image/jpeg:https://charlestown.ie/wp-content/uploads/2024/09/LGFA-Gloves.jpg
END:VEVENT
BEGIN:VEVENT
DTSTART;TZID=Europe/Dublin:20241012T110000
DTEND;TZID=Europe/Dublin:20241012T130000
DTSTAMP:20260424T005818
CREATED:20241009T122040Z
LAST-MODIFIED:20241009T123022Z
UID:10001292-1728730800-1728738000@charlestown.ie
SUMMARY:GAA - U13 Homeland League  Final v Louisburg (away)
DESCRIPTION:
URL:https://charlestown.ie/event/gaa-u13-homeland-league-final-v-louisburg-away/
LOCATION:Centre of Excellence\, Bekan
CATEGORIES:GAA- LGFA
ATTACH;FMTTYPE=image/jpeg:https://charlestown.ie/wp-content/uploads/2024/09/Screenshot_20240923_154557_Adobe-Acrobat.jpg
END:VEVENT
BEGIN:VEVENT
DTSTART;TZID=Europe/Dublin:20241006T113000
DTEND;TZID=Europe/Dublin:20241006T130000
DTSTAMP:20260424T005818
CREATED:20240926T085536Z
LAST-MODIFIED:20241001T210321Z
UID:10001278-1728214200-1728219600@charlestown.ie
SUMMARY:LGFA - Minor Shield Final v Belmullet (away)
DESCRIPTION:
URL:https://charlestown.ie/event/lgfa-minor-shield-final-v-belmullet-away/
LOCATION:Centre of Excellence\, Bekan
ATTACH;FMTTYPE=image/jpeg:https://charlestown.ie/wp-content/uploads/2024/09/LGFA-Gloves.jpg
END:VEVENT
BEGIN:VEVENT
DTSTART;TZID=Europe/Dublin:20240928T110000
DTEND;TZID=Europe/Dublin:20240928T130000
DTSTAMP:20260424T005818
CREATED:20240921T172126Z
LAST-MODIFIED:20240921T172126Z
UID:10001237-1727521200-1727528400@charlestown.ie
SUMMARY:LGFA - U15 Div1 League Final v Westport (away)
DESCRIPTION:
URL:https://charlestown.ie/event/lgfa-u15-div1-league-final-v-westport-away/
LOCATION:Centre of Excellence\, Bekan
CATEGORIES:GAA- LGFA
ATTACH;FMTTYPE=image/jpeg:https://charlestown.ie/wp-content/uploads/2024/09/LGFA-Gloves.jpg
END:VEVENT
BEGIN:VEVENT
DTSTART;TZID=Europe/Dublin:20240727T160000
DTEND;TZID=Europe/Dublin:20240727T170000
DTSTAMP:20260424T005818
CREATED:20240726T192647Z
LAST-MODIFIED:20240726T192647Z
UID:10001028-1722096000-1722099600@charlestown.ie
SUMMARY:LGFA - U12 League Final v Claremorris (COE)
DESCRIPTION:
URL:https://charlestown.ie/event/lgfa-u12-league-final-v-claremorris-coe/
LOCATION:Centre of Excellence\, Bekan
CATEGORIES:Children,GAA- LGFA,Sport
ATTACH;FMTTYPE=image/jpeg:https://charlestown.ie/wp-content/uploads/2015/06/Charlestown-Aerial-View.jpg
END:VEVENT
BEGIN:VEVENT
DTSTART;TZID=Europe/Dublin:20240722T190000
DTEND;TZID=Europe/Dublin:20240722T200000
DTSTAMP:20260424T005818
CREATED:20240721T093403Z
LAST-MODIFIED:20240721T093403Z
UID:10001021-1721674800-1721678400@charlestown.ie
SUMMARY:LGFA - U16 League Final v MacHale Rovers (COE)
DESCRIPTION:
URL:https://charlestown.ie/event/lgfa-u16-league-final-v-machale-rovers-coe/
LOCATION:Centre of Excellence\, Bekan
ATTACH;FMTTYPE=image/jpeg:https://charlestown.ie/wp-content/uploads/2015/06/Charlestown-Aerial-View.jpg
END:VEVENT
BEGIN:VEVENT
DTSTART;TZID=Europe/Dublin:20231119T103000
DTEND;TZID=Europe/Dublin:20231119T120000
DTSTAMP:20260424T005818
CREATED:20231118T212502Z
LAST-MODIFIED:20231118T221200Z
UID:10000815-1700389800-1700395200@charlestown.ie
SUMMARY:GAA - U21 Championship v Eastern Gaels (away)
DESCRIPTION:
URL:https://charlestown.ie/event/gaa-u21-championship-v-eastern-gaels-away/
LOCATION:Centre of Excellence\, Bekan
CATEGORIES:Community,GAA- LGFA,Sport
ORGANIZER;CN="Charlestown Sarsfields GAA":MAILTO:secretary.charlestown.mayo@gaa.ie
END:VEVENT
BEGIN:VEVENT
DTSTART;TZID=Europe/Dublin:20231107T200000
DTEND;TZID=Europe/Dublin:20231107T213000
DTSTAMP:20260424T005818
CREATED:20231106T200752Z
LAST-MODIFIED:20231106T200752Z
UID:10000804-1699387200-1699392600@charlestown.ie
SUMMARY:GAA - U21 Championship v Shrule Glencorrib (away)
DESCRIPTION:COE
URL:https://charlestown.ie/event/gaa-u21-championship-v-shrule-glencorrib-away/
LOCATION:Centre of Excellence\, Bekan
CATEGORIES:Children,Community,GAA- LGFA,Sport
END:VEVENT
BEGIN:VEVENT
DTSTART;TZID=Europe/Dublin:20231022T110000
DTEND;TZID=Europe/Dublin:20231022T123000
DTSTAMP:20260424T005818
CREATED:20231017T124905Z
LAST-MODIFIED:20231017T124905Z
UID:10000783-1697972400-1697977800@charlestown.ie
SUMMARY:LGFA - Senior Ladies Relegation Playoff v Castlebar Mitchels (away)
DESCRIPTION:
URL:https://charlestown.ie/event/lgfa-senior-ladies-relegation-playoff-v-castlebar-mitchels-away/
LOCATION:Centre of Excellence\, Bekan
CATEGORIES:Community,Family Event,GAA- LGFA,Sport
END:VEVENT
BEGIN:VEVENT
DTSTART;TZID=Europe/Dublin:20231007T110000
DTEND;TZID=Europe/Dublin:20231007T123000
DTSTAMP:20260424T005818
CREATED:20231005T142529Z
LAST-MODIFIED:20231005T142529Z
UID:10000774-1696676400-1696681800@charlestown.ie
SUMMARY:LGFA - U13 Division 1 Cup Final (COE\, Bekan)
DESCRIPTION:Pitch 4 \nCOE\, Bekan
URL:https://charlestown.ie/event/lgfa-u13-division-1-cup-final-coe-bekan/
LOCATION:Centre of Excellence\, Bekan
END:VEVENT
BEGIN:VEVENT
DTSTART;TZID=Europe/Dublin:20230423T123000
DTEND;TZID=Europe/Dublin:20230423T140000
DTSTAMP:20260424T005818
CREATED:20230421T151525Z
LAST-MODIFIED:20230421T151525Z
UID:10000589-1682253000-1682258400@charlestown.ie
SUMMARY:LGFA - U16 League Final v Balla (away)
DESCRIPTION:Venue:  COE\, Bekan \nDate : Sunday 23rd April \nTime: 12.30pm \n 
URL:https://charlestown.ie/event/lgfa-u16-league-final-v-balla-away/
LOCATION:Centre of Excellence\, Bekan
CATEGORIES:Children,GAA- LGFA,Sport
ATTACH;FMTTYPE=image/jpeg:https://charlestown.ie/wp-content/uploads/2023/04/LGFA-Logo.jpg
END:VEVENT
END:VCALENDAR