BEGIN:VCALENDAR
VERSION:2.0
PRODID:-//Charlestown - ECPv6.6.4.2//NONSGML v1.0//EN
CALSCALE:GREGORIAN
METHOD:PUBLISH
X-WR-CALNAME:Charlestown
X-ORIGINAL-URL:https://charlestown.ie
X-WR-CALDESC:Events for Charlestown
REFRESH-INTERVAL;VALUE=DURATION:PT1H
X-Robots-Tag:noindex
X-PUBLISHED-TTL:PT1H
BEGIN:VTIMEZONE
TZID:Europe/Dublin
BEGIN:DAYLIGHT
TZOFFSETFROM:+0000
TZOFFSETTO:+0100
TZNAME:IST
DTSTART:20250330T010000
END:DAYLIGHT
BEGIN:STANDARD
TZOFFSETFROM:+0100
TZOFFSETTO:+0000
TZNAME:GMT
DTSTART:20251026T010000
END:STANDARD
END:VTIMEZONE
BEGIN:VEVENT
DTSTART;TZID=Europe/Dublin:20251121T093000
DTEND;TZID=Europe/Dublin:20251121T103000
DTSTAMP:20260423T224253
CREATED:20250312T224914Z
LAST-MODIFIED:20260111T123846Z
UID:10001789-1763717400-1763721000@charlestown.ie
SUMMARY:Buggy Walking Group
DESCRIPTION:
URL:https://charlestown.ie/event/new-buggy-walking-group/2025-11-21/
LOCATION:CBD Recreational Centre\, Charlestown\, Lowpark\, Charlestown\, Mayo\, Ireland
ATTACH;FMTTYPE=image/jpeg:https://charlestown.ie/wp-content/uploads/2025/03/Screenshot_20250312_195807_Canva-1.jpg
END:VEVENT
BEGIN:VEVENT
DTSTART;TZID=Europe/Dublin:20251118T200000
DTEND;TZID=Europe/Dublin:20251118T210000
DTSTAMP:20260423T224253
CREATED:20251117T120916Z
LAST-MODIFIED:20251117T120916Z
UID:10003212-1763496000-1763499600@charlestown.ie
SUMMARY:U16 Girls Div1 League Basketball v Crossmolina  (home)
DESCRIPTION:
URL:https://charlestown.ie/event/u16-girls-div1-league-basketball-v-crossmolina-home/
LOCATION:CBD Recreational Centre\, Charlestown\, Lowpark\, Charlestown\, Mayo\, Ireland
CATEGORIES:Basketball
ATTACH;FMTTYPE=image/jpeg:https://charlestown.ie/wp-content/uploads/2024/11/basketball.jpg
END:VEVENT
BEGIN:VEVENT
DTSTART;TZID=Europe/Dublin:20251118T190000
DTEND;TZID=Europe/Dublin:20251118T200000
DTSTAMP:20260423T224253
CREATED:20251117T120804Z
LAST-MODIFIED:20251117T120804Z
UID:10003211-1763492400-1763496000@charlestown.ie
SUMMARY:U14 Boys Div1 League Basketball v Crossmolina  (home)
DESCRIPTION:
URL:https://charlestown.ie/event/u14-boys-div1-league-basketball-v-crossmolina-home/
LOCATION:CBD Recreational Centre\, Charlestown\, Lowpark\, Charlestown\, Mayo\, Ireland
CATEGORIES:Basketball
ATTACH;FMTTYPE=image/jpeg:https://charlestown.ie/wp-content/uploads/2024/11/basketball.jpg
END:VEVENT
BEGIN:VEVENT
DTSTART;TZID=Europe/Dublin:20251114T093000
DTEND;TZID=Europe/Dublin:20251114T103000
DTSTAMP:20260423T224253
CREATED:20250312T224914Z
LAST-MODIFIED:20260111T123846Z
UID:10001788-1763112600-1763116200@charlestown.ie
SUMMARY:Buggy Walking Group
DESCRIPTION:
URL:https://charlestown.ie/event/new-buggy-walking-group/2025-11-14/
LOCATION:CBD Recreational Centre\, Charlestown\, Lowpark\, Charlestown\, Mayo\, Ireland
ATTACH;FMTTYPE=image/jpeg:https://charlestown.ie/wp-content/uploads/2025/03/Screenshot_20250312_195807_Canva-1.jpg
END:VEVENT
BEGIN:VEVENT
DTSTART;TZID=Europe/Dublin:20251107T093000
DTEND;TZID=Europe/Dublin:20251107T103000
DTSTAMP:20260423T224253
CREATED:20250312T224914Z
LAST-MODIFIED:20260111T123846Z
UID:10001787-1762507800-1762511400@charlestown.ie
SUMMARY:Buggy Walking Group
DESCRIPTION:
URL:https://charlestown.ie/event/new-buggy-walking-group/2025-11-07/
LOCATION:CBD Recreational Centre\, Charlestown\, Lowpark\, Charlestown\, Mayo\, Ireland
ATTACH;FMTTYPE=image/jpeg:https://charlestown.ie/wp-content/uploads/2025/03/Screenshot_20250312_195807_Canva-1.jpg
END:VEVENT
BEGIN:VEVENT
DTSTART;TZID=Europe/Dublin:20251031T093000
DTEND;TZID=Europe/Dublin:20251031T103000
DTSTAMP:20260423T224253
CREATED:20250312T224914Z
LAST-MODIFIED:20260111T123846Z
UID:10001786-1761903000-1761906600@charlestown.ie
SUMMARY:Buggy Walking Group
DESCRIPTION:
URL:https://charlestown.ie/event/new-buggy-walking-group/2025-10-31/
LOCATION:CBD Recreational Centre\, Charlestown\, Lowpark\, Charlestown\, Mayo\, Ireland
ATTACH;FMTTYPE=image/jpeg:https://charlestown.ie/wp-content/uploads/2025/03/Screenshot_20250312_195807_Canva-1.jpg
END:VEVENT
BEGIN:VEVENT
DTSTART;TZID=Europe/Dublin:20251030T180000
DTEND;TZID=Europe/Dublin:20251030T193000
DTSTAMP:20260423T224253
CREATED:20251004T002042Z
LAST-MODIFIED:20251004T002042Z
UID:10002955-1761847200-1761852600@charlestown.ie
SUMMARY:Halloween Disco
DESCRIPTION:
URL:https://charlestown.ie/event/halloween-disco/
LOCATION:CBD Recreational Centre\, Charlestown\, Lowpark\, Charlestown\, Mayo\, Ireland
ATTACH;FMTTYPE=image/jpeg:https://charlestown.ie/wp-content/uploads/2025/10/Screenshot_20251004_011700_Facebook.jpg
END:VEVENT
BEGIN:VEVENT
DTSTART;TZID=Europe/Dublin:20251027T140000
DTEND;TZID=Europe/Dublin:20251027T153000
DTSTAMP:20260423T224253
CREATED:20251022T071525Z
LAST-MODIFIED:20251022T071525Z
UID:10002966-1761573600-1761579000@charlestown.ie
SUMMARY:U16 Div2 League Basketball v Ballinrobe (home)
DESCRIPTION:
URL:https://charlestown.ie/event/u16-div2-league-basketball-v-ballinrobe-home/
LOCATION:Lowpark\, Charlestown\, Mayo\, Ireland
CATEGORIES:Basketball
ATTACH;FMTTYPE=image/jpeg:https://charlestown.ie/wp-content/uploads/2024/11/basketball.jpg
END:VEVENT
BEGIN:VEVENT
DTSTART;TZID=Europe/Dublin:20251024T093000
DTEND;TZID=Europe/Dublin:20251024T103000
DTSTAMP:20260423T224253
CREATED:20250312T224914Z
LAST-MODIFIED:20260111T123846Z
UID:10001785-1761298200-1761301800@charlestown.ie
SUMMARY:Buggy Walking Group
DESCRIPTION:
URL:https://charlestown.ie/event/new-buggy-walking-group/2025-10-24/
LOCATION:CBD Recreational Centre\, Charlestown\, Lowpark\, Charlestown\, Mayo\, Ireland
ATTACH;FMTTYPE=image/jpeg:https://charlestown.ie/wp-content/uploads/2025/03/Screenshot_20250312_195807_Canva-1.jpg
END:VEVENT
BEGIN:VEVENT
DTSTART;TZID=Europe/Dublin:20251020T190000
DTEND;TZID=Europe/Dublin:20251020T200000
DTSTAMP:20260423T224253
CREATED:20251016T163553Z
LAST-MODIFIED:20251016T163553Z
UID:10002963-1760986800-1760990400@charlestown.ie
SUMMARY:U14 Girls Div2 League Basketball (home)
DESCRIPTION:
URL:https://charlestown.ie/event/u14-girls-div2-league-basketball-home/
LOCATION:Lowpark\, Charlestown\, Mayo\, Ireland
CATEGORIES:Basketball
ATTACH;FMTTYPE=image/jpeg:https://charlestown.ie/wp-content/uploads/2024/11/basketball.jpg
END:VEVENT
BEGIN:VEVENT
DTSTART;TZID=Europe/Dublin:20251017T093000
DTEND;TZID=Europe/Dublin:20251017T103000
DTSTAMP:20260423T224253
CREATED:20250312T224914Z
LAST-MODIFIED:20260111T123846Z
UID:10001784-1760693400-1760697000@charlestown.ie
SUMMARY:Buggy Walking Group
DESCRIPTION:
URL:https://charlestown.ie/event/new-buggy-walking-group/2025-10-17/
LOCATION:CBD Recreational Centre\, Charlestown\, Lowpark\, Charlestown\, Mayo\, Ireland
ATTACH;FMTTYPE=image/jpeg:https://charlestown.ie/wp-content/uploads/2025/03/Screenshot_20250312_195807_Canva-1.jpg
END:VEVENT
BEGIN:VEVENT
DTSTART;TZID=Europe/Dublin:20251016T190000
DTEND;TZID=Europe/Dublin:20251016T200000
DTSTAMP:20260423T224253
CREATED:20251016T162639Z
LAST-MODIFIED:20251016T162639Z
UID:10002960-1760641200-1760644800@charlestown.ie
SUMMARY:U14 Boys Div1 League Basketball v Castlebar  (home)
DESCRIPTION:
URL:https://charlestown.ie/event/u14-boys-div1-league-basketball-v-castlebar-home/
LOCATION:Lowpark\, Charlestown\, Mayo\, Ireland
CATEGORIES:Basketball
ATTACH;FMTTYPE=image/jpeg:https://charlestown.ie/wp-content/uploads/2024/11/basketball.jpg
END:VEVENT
BEGIN:VEVENT
DTSTART;TZID=Europe/Dublin:20251010T093000
DTEND;TZID=Europe/Dublin:20251010T103000
DTSTAMP:20260423T224253
CREATED:20250312T224914Z
LAST-MODIFIED:20260111T123846Z
UID:10001783-1760088600-1760092200@charlestown.ie
SUMMARY:Buggy Walking Group
DESCRIPTION:
URL:https://charlestown.ie/event/new-buggy-walking-group/2025-10-10/
LOCATION:CBD Recreational Centre\, Charlestown\, Lowpark\, Charlestown\, Mayo\, Ireland
ATTACH;FMTTYPE=image/jpeg:https://charlestown.ie/wp-content/uploads/2025/03/Screenshot_20250312_195807_Canva-1.jpg
END:VEVENT
BEGIN:VEVENT
DTSTART;TZID=Europe/Dublin:20251003T093000
DTEND;TZID=Europe/Dublin:20251003T103000
DTSTAMP:20260423T224253
CREATED:20250312T224914Z
LAST-MODIFIED:20260111T123846Z
UID:10001782-1759483800-1759487400@charlestown.ie
SUMMARY:Buggy Walking Group
DESCRIPTION:
URL:https://charlestown.ie/event/new-buggy-walking-group/2025-10-03/
LOCATION:CBD Recreational Centre\, Charlestown\, Lowpark\, Charlestown\, Mayo\, Ireland
ATTACH;FMTTYPE=image/jpeg:https://charlestown.ie/wp-content/uploads/2025/03/Screenshot_20250312_195807_Canva-1.jpg
END:VEVENT
BEGIN:VEVENT
DTSTART;TZID=Europe/Dublin:20250926T093000
DTEND;TZID=Europe/Dublin:20250926T103000
DTSTAMP:20260423T224253
CREATED:20250312T224914Z
LAST-MODIFIED:20260111T123846Z
UID:10001781-1758879000-1758882600@charlestown.ie
SUMMARY:Buggy Walking Group
DESCRIPTION:
URL:https://charlestown.ie/event/new-buggy-walking-group/2025-09-26/
LOCATION:CBD Recreational Centre\, Charlestown\, Lowpark\, Charlestown\, Mayo\, Ireland
ATTACH;FMTTYPE=image/jpeg:https://charlestown.ie/wp-content/uploads/2025/03/Screenshot_20250312_195807_Canva-1.jpg
END:VEVENT
BEGIN:VEVENT
DTSTART;TZID=Europe/Dublin:20250919T093000
DTEND;TZID=Europe/Dublin:20250919T103000
DTSTAMP:20260423T224253
CREATED:20250312T224914Z
LAST-MODIFIED:20260111T123846Z
UID:10001780-1758274200-1758277800@charlestown.ie
SUMMARY:Buggy Walking Group
DESCRIPTION:
URL:https://charlestown.ie/event/new-buggy-walking-group/2025-09-19/
LOCATION:CBD Recreational Centre\, Charlestown\, Lowpark\, Charlestown\, Mayo\, Ireland
ATTACH;FMTTYPE=image/jpeg:https://charlestown.ie/wp-content/uploads/2025/03/Screenshot_20250312_195807_Canva-1.jpg
END:VEVENT
BEGIN:VEVENT
DTSTART;TZID=Europe/Dublin:20250912T093000
DTEND;TZID=Europe/Dublin:20250912T103000
DTSTAMP:20260423T224253
CREATED:20250312T224914Z
LAST-MODIFIED:20260111T123846Z
UID:10001779-1757669400-1757673000@charlestown.ie
SUMMARY:Buggy Walking Group
DESCRIPTION:
URL:https://charlestown.ie/event/new-buggy-walking-group/2025-09-12/
LOCATION:CBD Recreational Centre\, Charlestown\, Lowpark\, Charlestown\, Mayo\, Ireland
ATTACH;FMTTYPE=image/jpeg:https://charlestown.ie/wp-content/uploads/2025/03/Screenshot_20250312_195807_Canva-1.jpg
END:VEVENT
BEGIN:VEVENT
DTSTART;TZID=Europe/Dublin:20250905T093000
DTEND;TZID=Europe/Dublin:20250905T103000
DTSTAMP:20260423T224253
CREATED:20250312T224914Z
LAST-MODIFIED:20260111T123846Z
UID:10001778-1757064600-1757068200@charlestown.ie
SUMMARY:Buggy Walking Group
DESCRIPTION:
URL:https://charlestown.ie/event/new-buggy-walking-group/2025-09-05/
LOCATION:CBD Recreational Centre\, Charlestown\, Lowpark\, Charlestown\, Mayo\, Ireland
ATTACH;FMTTYPE=image/jpeg:https://charlestown.ie/wp-content/uploads/2025/03/Screenshot_20250312_195807_Canva-1.jpg
END:VEVENT
BEGIN:VEVENT
DTSTART;TZID=Europe/Dublin:20250829T093000
DTEND;TZID=Europe/Dublin:20250829T103000
DTSTAMP:20260423T224253
CREATED:20250312T224914Z
LAST-MODIFIED:20260111T123846Z
UID:10001777-1756459800-1756463400@charlestown.ie
SUMMARY:Buggy Walking Group
DESCRIPTION:
URL:https://charlestown.ie/event/new-buggy-walking-group/2025-08-29/
LOCATION:CBD Recreational Centre\, Charlestown\, Lowpark\, Charlestown\, Mayo\, Ireland
ATTACH;FMTTYPE=image/jpeg:https://charlestown.ie/wp-content/uploads/2025/03/Screenshot_20250312_195807_Canva-1.jpg
END:VEVENT
BEGIN:VEVENT
DTSTART;TZID=Europe/Dublin:20250822T093000
DTEND;TZID=Europe/Dublin:20250822T103000
DTSTAMP:20260423T224253
CREATED:20250312T224914Z
LAST-MODIFIED:20260111T123846Z
UID:10001776-1755855000-1755858600@charlestown.ie
SUMMARY:Buggy Walking Group
DESCRIPTION:
URL:https://charlestown.ie/event/new-buggy-walking-group/2025-08-22/
LOCATION:CBD Recreational Centre\, Charlestown\, Lowpark\, Charlestown\, Mayo\, Ireland
ATTACH;FMTTYPE=image/jpeg:https://charlestown.ie/wp-content/uploads/2025/03/Screenshot_20250312_195807_Canva-1.jpg
END:VEVENT
BEGIN:VEVENT
DTSTART;TZID=Europe/Dublin:20250815T093000
DTEND;TZID=Europe/Dublin:20250815T103000
DTSTAMP:20260423T224253
CREATED:20250312T224914Z
LAST-MODIFIED:20260111T123846Z
UID:10001775-1755250200-1755253800@charlestown.ie
SUMMARY:Buggy Walking Group
DESCRIPTION:
URL:https://charlestown.ie/event/new-buggy-walking-group/2025-08-15/
LOCATION:CBD Recreational Centre\, Charlestown\, Lowpark\, Charlestown\, Mayo\, Ireland
ATTACH;FMTTYPE=image/jpeg:https://charlestown.ie/wp-content/uploads/2025/03/Screenshot_20250312_195807_Canva-1.jpg
END:VEVENT
BEGIN:VEVENT
DTSTART;TZID=Europe/Dublin:20250808T093000
DTEND;TZID=Europe/Dublin:20250808T103000
DTSTAMP:20260423T224253
CREATED:20250312T224914Z
LAST-MODIFIED:20260111T123846Z
UID:10001774-1754645400-1754649000@charlestown.ie
SUMMARY:Buggy Walking Group
DESCRIPTION:
URL:https://charlestown.ie/event/new-buggy-walking-group/2025-08-08/
LOCATION:CBD Recreational Centre\, Charlestown\, Lowpark\, Charlestown\, Mayo\, Ireland
ATTACH;FMTTYPE=image/jpeg:https://charlestown.ie/wp-content/uploads/2025/03/Screenshot_20250312_195807_Canva-1.jpg
END:VEVENT
BEGIN:VEVENT
DTSTART;TZID=Europe/Dublin:20250801T093000
DTEND;TZID=Europe/Dublin:20250801T103000
DTSTAMP:20260423T224253
CREATED:20250312T224914Z
LAST-MODIFIED:20260111T123846Z
UID:10001773-1754040600-1754044200@charlestown.ie
SUMMARY:Buggy Walking Group
DESCRIPTION:
URL:https://charlestown.ie/event/new-buggy-walking-group/2025-08-01/
LOCATION:CBD Recreational Centre\, Charlestown\, Lowpark\, Charlestown\, Mayo\, Ireland
ATTACH;FMTTYPE=image/jpeg:https://charlestown.ie/wp-content/uploads/2025/03/Screenshot_20250312_195807_Canva-1.jpg
END:VEVENT
BEGIN:VEVENT
DTSTART;TZID=Europe/Dublin:20250725T093000
DTEND;TZID=Europe/Dublin:20250725T103000
DTSTAMP:20260423T224253
CREATED:20250312T224914Z
LAST-MODIFIED:20260111T123846Z
UID:10001772-1753435800-1753439400@charlestown.ie
SUMMARY:Buggy Walking Group
DESCRIPTION:
URL:https://charlestown.ie/event/new-buggy-walking-group/2025-07-25/
LOCATION:CBD Recreational Centre\, Charlestown\, Lowpark\, Charlestown\, Mayo\, Ireland
ATTACH;FMTTYPE=image/jpeg:https://charlestown.ie/wp-content/uploads/2025/03/Screenshot_20250312_195807_Canva-1.jpg
END:VEVENT
BEGIN:VEVENT
DTSTART;TZID=Europe/Dublin:20250718T093000
DTEND;TZID=Europe/Dublin:20250718T103000
DTSTAMP:20260423T224253
CREATED:20250312T224914Z
LAST-MODIFIED:20260111T123846Z
UID:10001771-1752831000-1752834600@charlestown.ie
SUMMARY:Buggy Walking Group
DESCRIPTION:
URL:https://charlestown.ie/event/new-buggy-walking-group/2025-07-18/
LOCATION:CBD Recreational Centre\, Charlestown\, Lowpark\, Charlestown\, Mayo\, Ireland
ATTACH;FMTTYPE=image/jpeg:https://charlestown.ie/wp-content/uploads/2025/03/Screenshot_20250312_195807_Canva-1.jpg
END:VEVENT
BEGIN:VEVENT
DTSTART;TZID=Europe/Dublin:20250711T093000
DTEND;TZID=Europe/Dublin:20250711T103000
DTSTAMP:20260423T224253
CREATED:20250312T224914Z
LAST-MODIFIED:20260111T123846Z
UID:10001770-1752226200-1752229800@charlestown.ie
SUMMARY:Buggy Walking Group
DESCRIPTION:
URL:https://charlestown.ie/event/new-buggy-walking-group/2025-07-11/
LOCATION:CBD Recreational Centre\, Charlestown\, Lowpark\, Charlestown\, Mayo\, Ireland
ATTACH;FMTTYPE=image/jpeg:https://charlestown.ie/wp-content/uploads/2025/03/Screenshot_20250312_195807_Canva-1.jpg
END:VEVENT
BEGIN:VEVENT
DTSTART;TZID=Europe/Dublin:20250704T093000
DTEND;TZID=Europe/Dublin:20250704T103000
DTSTAMP:20260423T224253
CREATED:20250312T224914Z
LAST-MODIFIED:20260111T123846Z
UID:10001769-1751621400-1751625000@charlestown.ie
SUMMARY:Buggy Walking Group
DESCRIPTION:
URL:https://charlestown.ie/event/new-buggy-walking-group/2025-07-04/
LOCATION:CBD Recreational Centre\, Charlestown\, Lowpark\, Charlestown\, Mayo\, Ireland
ATTACH;FMTTYPE=image/jpeg:https://charlestown.ie/wp-content/uploads/2025/03/Screenshot_20250312_195807_Canva-1.jpg
END:VEVENT
BEGIN:VEVENT
DTSTART;TZID=Europe/Dublin:20250627T093000
DTEND;TZID=Europe/Dublin:20250627T103000
DTSTAMP:20260423T224253
CREATED:20250312T224914Z
LAST-MODIFIED:20260111T123846Z
UID:10001768-1751016600-1751020200@charlestown.ie
SUMMARY:Buggy Walking Group
DESCRIPTION:
URL:https://charlestown.ie/event/new-buggy-walking-group/2025-06-27/
LOCATION:CBD Recreational Centre\, Charlestown\, Lowpark\, Charlestown\, Mayo\, Ireland
ATTACH;FMTTYPE=image/jpeg:https://charlestown.ie/wp-content/uploads/2025/03/Screenshot_20250312_195807_Canva-1.jpg
END:VEVENT
BEGIN:VEVENT
DTSTART;TZID=Europe/Dublin:20250620T093000
DTEND;TZID=Europe/Dublin:20250620T103000
DTSTAMP:20260423T224253
CREATED:20250312T224914Z
LAST-MODIFIED:20260111T123846Z
UID:10001767-1750411800-1750415400@charlestown.ie
SUMMARY:Buggy Walking Group
DESCRIPTION:
URL:https://charlestown.ie/event/new-buggy-walking-group/2025-06-20/
LOCATION:CBD Recreational Centre\, Charlestown\, Lowpark\, Charlestown\, Mayo\, Ireland
ATTACH;FMTTYPE=image/jpeg:https://charlestown.ie/wp-content/uploads/2025/03/Screenshot_20250312_195807_Canva-1.jpg
END:VEVENT
BEGIN:VEVENT
DTSTART;TZID=Europe/Dublin:20250613T093000
DTEND;TZID=Europe/Dublin:20250613T103000
DTSTAMP:20260423T224253
CREATED:20250312T224914Z
LAST-MODIFIED:20260111T123846Z
UID:10001766-1749807000-1749810600@charlestown.ie
SUMMARY:Buggy Walking Group
DESCRIPTION:
URL:https://charlestown.ie/event/new-buggy-walking-group/2025-06-13/
LOCATION:CBD Recreational Centre\, Charlestown\, Lowpark\, Charlestown\, Mayo\, Ireland
ATTACH;FMTTYPE=image/jpeg:https://charlestown.ie/wp-content/uploads/2025/03/Screenshot_20250312_195807_Canva-1.jpg
END:VEVENT
END:VCALENDAR