BEGIN:VCALENDAR
VERSION:2.0
PRODID:-//Charlestown - ECPv6.6.4.2//NONSGML v1.0//EN
CALSCALE:GREGORIAN
METHOD:PUBLISH
X-WR-CALNAME:Charlestown
X-ORIGINAL-URL:https://charlestown.ie
X-WR-CALDESC:Events for Charlestown
REFRESH-INTERVAL;VALUE=DURATION:PT1H
X-Robots-Tag:noindex
X-PUBLISHED-TTL:PT1H
BEGIN:VTIMEZONE
TZID:Europe/Dublin
BEGIN:DAYLIGHT
TZOFFSETFROM:+0000
TZOFFSETTO:+0100
TZNAME:IST
DTSTART:20230326T010000
END:DAYLIGHT
BEGIN:STANDARD
TZOFFSETFROM:+0100
TZOFFSETTO:+0000
TZNAME:GMT
DTSTART:20231029T010000
END:STANDARD
BEGIN:DAYLIGHT
TZOFFSETFROM:+0000
TZOFFSETTO:+0100
TZNAME:IST
DTSTART:20240331T010000
END:DAYLIGHT
BEGIN:STANDARD
TZOFFSETFROM:+0100
TZOFFSETTO:+0000
TZNAME:GMT
DTSTART:20241027T010000
END:STANDARD
END:VTIMEZONE
BEGIN:VEVENT
DTSTART;TZID=Europe/Dublin:20240928T090000
DTEND;TZID=Europe/Dublin:20240928T110000
DTSTAMP:20260424T165806
CREATED:20240923T161613Z
LAST-MODIFIED:20240923T161701Z
UID:10001260-1727514000-1727521200@charlestown.ie
SUMMARY:Rinka Fitness @ CBD Complex
DESCRIPTION:
URL:https://charlestown.ie/event/rinka-fitness-cbd-complex/2024-09-28/
LOCATION:CBD Recreational Centre\, Charlestown\, Lowpark\, Charlestown\, Mayo\, Ireland
ATTACH;FMTTYPE=image/jpeg:https://charlestown.ie/wp-content/uploads/2024/09/Rinka-e1727108105660.jpg
END:VEVENT
BEGIN:VEVENT
DTSTART;TZID=Europe/Dublin:20240926T170000
DTEND;TZID=Europe/Dublin:20240926T184500
DTSTAMP:20260424T165806
CREATED:20240911T112344Z
LAST-MODIFIED:20240911T112344Z
UID:10001125-1727370000-1727376300@charlestown.ie
SUMMARY:Irish Dancing Classes
DESCRIPTION:
URL:https://charlestown.ie/event/irish-dancing-classes-3/
LOCATION:CBD Recreational Centre\, Charlestown\, Lowpark\, Charlestown\, Mayo\, Ireland
ATTACH;FMTTYPE=image/jpeg:https://charlestown.ie/wp-content/uploads/2024/09/Irish-Dancing.jpg
END:VEVENT
BEGIN:VEVENT
DTSTART;TZID=Europe/Dublin:20240924T210000
DTEND;TZID=Europe/Dublin:20240924T220000
DTSTAMP:20260424T165806
CREATED:20240922T121026Z
LAST-MODIFIED:20241101T223844Z
UID:10001239-1727211600-1727215200@charlestown.ie
SUMMARY:Adult Basketball
DESCRIPTION:
URL:https://charlestown.ie/event/social-basketball-adults-only/2024-09-24/
LOCATION:CBD Recreational Centre\, Charlestown\, Lowpark\, Charlestown\, Mayo\, Ireland
CATEGORIES:Basketball
ATTACH;FMTTYPE=image/jpeg:https://charlestown.ie/wp-content/uploads/2024/09/bb-adults-only.jpg
END:VEVENT
BEGIN:VEVENT
DTSTART;TZID=Europe/Dublin:20240922T110000
DTEND;TZID=Europe/Dublin:20240922T170000
DTSTAMP:20260424T165806
CREATED:20240921T195427Z
LAST-MODIFIED:20240924T122652Z
UID:10001238-1727002800-1727024400@charlestown.ie
SUMMARY:South Sligo Wild Sauna (CBD Complex)
DESCRIPTION:
URL:https://charlestown.ie/event/south-sligo-wild-sauna/
LOCATION:CBD Recreational Centre\, Charlestown\, Lowpark\, Charlestown\, Mayo\, Ireland
ATTACH;FMTTYPE=image/jpeg:https://charlestown.ie/wp-content/uploads/2024/09/Screenshot_20240921_205458_Facebook.jpg
END:VEVENT
BEGIN:VEVENT
DTSTART;TZID=Europe/Dublin:20240921T110000
DTEND;TZID=Europe/Dublin:20240921T130000
DTSTAMP:20260424T165806
CREATED:20240910T145251Z
LAST-MODIFIED:20240910T145251Z
UID:10001080-1726916400-1726923600@charlestown.ie
SUMMARY:East Mayo Special Olympics Young Athletics Club
DESCRIPTION:
URL:https://charlestown.ie/event/east-mayo-special-olympics-young-athletics-club/
LOCATION:CBD Recreational Centre\, Charlestown\, Lowpark\, Charlestown\, Mayo\, Ireland
ATTACH;FMTTYPE=image/jpeg:https://charlestown.ie/wp-content/uploads/2024/09/Special-Olympics.jpg
END:VEVENT
BEGIN:VEVENT
DTSTART;TZID=Europe/Dublin:20240919T170000
DTEND;TZID=Europe/Dublin:20240919T184500
DTSTAMP:20260424T165806
CREATED:20240911T112234Z
LAST-MODIFIED:20240911T112234Z
UID:10001124-1726765200-1726771500@charlestown.ie
SUMMARY:Irish Dancing Classes
DESCRIPTION:
URL:https://charlestown.ie/event/irish-dancing-classes-2/
LOCATION:CBD Recreational Centre\, Charlestown\, Lowpark\, Charlestown\, Mayo\, Ireland
ATTACH;FMTTYPE=image/jpeg:https://charlestown.ie/wp-content/uploads/2024/09/Irish-Dancing.jpg
END:VEVENT
BEGIN:VEVENT
DTSTART;TZID=Europe/Dublin:20240918T170000
DTEND;TZID=Europe/Dublin:20240918T210000
DTSTAMP:20260424T165806
CREATED:20240912T132234Z
LAST-MODIFIED:20240912T132234Z
UID:10001138-1726678800-1726693200@charlestown.ie
SUMMARY:Basketball Training
DESCRIPTION:
URL:https://charlestown.ie/event/basketball-training-3/
LOCATION:CBD Recreational Centre\, Charlestown\, Lowpark\, Charlestown\, Mayo\, Ireland
ATTACH;FMTTYPE=image/jpeg:https://charlestown.ie/wp-content/uploads/2024/09/BB.jpg
END:VEVENT
BEGIN:VEVENT
DTSTART;TZID=Europe/Dublin:20240917T170000
DTEND;TZID=Europe/Dublin:20240917T210000
DTSTAMP:20260424T165806
CREATED:20240911T115857Z
LAST-MODIFIED:20240911T115857Z
UID:10001129-1726592400-1726606800@charlestown.ie
SUMMARY:Basketball Training
DESCRIPTION:
URL:https://charlestown.ie/event/basketball-training-2/
LOCATION:CBD Recreational Centre\, Charlestown\, Lowpark\, Charlestown\, Mayo\, Ireland
ATTACH;FMTTYPE=image/jpeg:https://charlestown.ie/wp-content/uploads/2024/09/BB.jpg
END:VEVENT
BEGIN:VEVENT
DTSTART;TZID=Europe/Dublin:20240916T170000
DTEND;TZID=Europe/Dublin:20240916T210000
DTSTAMP:20260424T165806
CREATED:20240911T115801Z
LAST-MODIFIED:20240911T115801Z
UID:10001128-1726506000-1726520400@charlestown.ie
SUMMARY:Basketball Training
DESCRIPTION:
URL:https://charlestown.ie/event/basketball-training/
LOCATION:CBD Recreational Centre\, Charlestown\, Lowpark\, Charlestown\, Mayo\, Ireland
ATTACH;FMTTYPE=image/jpeg:https://charlestown.ie/wp-content/uploads/2024/09/BB.jpg
END:VEVENT
BEGIN:VEVENT
DTSTART;TZID=Europe/Dublin:20240912T170000
DTEND;TZID=Europe/Dublin:20240912T184500
DTSTAMP:20260424T165806
CREATED:20240911T112130Z
LAST-MODIFIED:20240911T112130Z
UID:10001123-1726160400-1726166700@charlestown.ie
SUMMARY:Irish Dancing Classes
DESCRIPTION:
URL:https://charlestown.ie/event/irish-dancing-classes/
LOCATION:CBD Recreational Centre\, Charlestown\, Lowpark\, Charlestown\, Mayo\, Ireland
ATTACH;FMTTYPE=image/jpeg:https://charlestown.ie/wp-content/uploads/2024/09/Irish-Dancing.jpg
END:VEVENT
BEGIN:VEVENT
DTSTART;TZID=Europe/Dublin:20240618T100000
DTEND;TZID=Europe/Dublin:20240618T140000
DTSTAMP:20260424T165806
CREATED:20240609T174329Z
LAST-MODIFIED:20240611T104140Z
UID:10000968-1718704800-1718719200@charlestown.ie
SUMMARY:Croí Heart Day
DESCRIPTION:
URL:https://charlestown.ie/event/croi-heart-day/
LOCATION:CBD Recreational Centre\, Charlestown\, Lowpark\, Charlestown\, Mayo\, Ireland
CATEGORIES:Adult Sport,Community,Fitness,Schools,Sport
ATTACH;FMTTYPE=image/jpeg:https://charlestown.ie/wp-content/uploads/2024/06/Croi-1.jpg
END:VEVENT
BEGIN:VEVENT
DTSTART;TZID=Europe/Dublin:20240414T170000
DTEND;TZID=Europe/Dublin:20240414T180000
DTSTAMP:20260424T165806
CREATED:20240405T054141Z
LAST-MODIFIED:20240405T054141Z
UID:10000915-1713114000-1713117600@charlestown.ie
SUMMARY:Basketball- Player Appreciation Evening
DESCRIPTION:
URL:https://charlestown.ie/event/basketball-player-appreciation-evening/
LOCATION:CBD Recreational Centre\, Charlestown\, Lowpark\, Charlestown\, Mayo\, Ireland
CATEGORIES:Community,Sport
ATTACH;FMTTYPE=image/jpeg:https://charlestown.ie/wp-content/uploads/2015/06/Charlestown-Aerial-View.jpg
END:VEVENT
BEGIN:VEVENT
DTSTART;TZID=Europe/Dublin:20240329T200000
DTEND;TZID=Europe/Dublin:20240329T200000
DTSTAMP:20260424T165806
CREATED:20240326T115839Z
LAST-MODIFIED:20240327T100727Z
UID:10000909-1711742400-1711742400@charlestown.ie
SUMMARY:Fundraising Bingo Night
DESCRIPTION:Join the Charlestown Swimming Pool Committee for their annual Fundraising Bingo Night on Friday\, 29th March at 8pm. \nGet your Easter off to a great start by coming along to this fun-filled night! \nAll support is greatly appreciated! \n 
URL:https://charlestown.ie/event/fundraising-bingo-night/
LOCATION:CBD Recreational Centre\, Charlestown\, Lowpark\, Charlestown\, Mayo\, Ireland
CATEGORIES:Community,Easter,Fundraiser
ATTACH;FMTTYPE=image/jpeg:https://charlestown.ie/wp-content/uploads/2024/03/Bingo-Night.jpg
END:VEVENT
BEGIN:VEVENT
DTSTART;TZID=Europe/Dublin:20240316T130000
DTEND;TZID=Europe/Dublin:20240316T150000
DTSTAMP:20260424T165806
CREATED:20240228T135431Z
LAST-MODIFIED:20240228T135754Z
UID:10000886-1710594000-1710601200@charlestown.ie
SUMMARY:Ultimate Family Table Quiz  - SAVE THE DATE
DESCRIPTION:  \nDo you have what it takes to be the ultimate Family Quiz Champion??? \nMore details to follow
URL:https://charlestown.ie/event/ultimate-family-table-quiz-save-the-date/
LOCATION:CBD Recreational Centre\, Charlestown\, Lowpark\, Charlestown\, Mayo\, Ireland
CATEGORIES:Community
END:VEVENT
BEGIN:VEVENT
DTSTART;TZID=Europe/Dublin:20240228T190000
DTEND;TZID=Europe/Dublin:20240228T220000
DTSTAMP:20260424T165806
CREATED:20240123T200614Z
LAST-MODIFIED:20240124T114306Z
UID:10000864-1709146800-1709157600@charlestown.ie
SUMMARY:Charlestown Cards & Darts Night
DESCRIPTION:Open every Wednesday night from 7pm. \nGame starts at 8pm. \nOpen to all for cards and darts! \nEntrance located at rear of CBD Recreational Centre.
URL:https://charlestown.ie/event/charlestown-cards-darts-night-4/
LOCATION:CBD Recreational Centre\, Charlestown\, Lowpark\, Charlestown\, Mayo\, Ireland
CATEGORIES:Community
END:VEVENT
BEGIN:VEVENT
DTSTART;TZID=Europe/Dublin:20240221T190000
DTEND;TZID=Europe/Dublin:20240221T220000
DTSTAMP:20260424T165806
CREATED:20240123T200411Z
LAST-MODIFIED:20240124T114334Z
UID:10000863-1708542000-1708552800@charlestown.ie
SUMMARY:Charlestown Cards & Darts Night
DESCRIPTION:Open every Wednesday night from 7pm. \nGame starts at 8pm. \nOpen to all for cards and darts! \nEntrance located at rear of CBD Recreational Centre.
URL:https://charlestown.ie/event/charlestown-cards-darts-night-3/
LOCATION:CBD Recreational Centre\, Charlestown\, Lowpark\, Charlestown\, Mayo\, Ireland
CATEGORIES:Community
END:VEVENT
BEGIN:VEVENT
DTSTART;TZID=Europe/Dublin:20240214T190000
DTEND;TZID=Europe/Dublin:20240214T220000
DTSTAMP:20260424T165806
CREATED:20240123T200215Z
LAST-MODIFIED:20240124T114403Z
UID:10000862-1707937200-1707948000@charlestown.ie
SUMMARY:Charlestown Cards & Darts Night
DESCRIPTION:Open every Wednesday night from 7pm. \nGame starts at 8pm. \nOpen to all for cards and darts! \nEntrance located at rear of CBD Recreational Centre.
URL:https://charlestown.ie/event/charlestown-cards-darts-night-2/
LOCATION:CBD Recreational Centre\, Charlestown\, Lowpark\, Charlestown\, Mayo\, Ireland
CATEGORIES:Community
END:VEVENT
BEGIN:VEVENT
DTSTART;TZID=Europe/Dublin:20240211T120000
DTEND;TZID=Europe/Dublin:20240211T150000
DTSTAMP:20260424T165806
CREATED:20240206T174438Z
LAST-MODIFIED:20240206T174438Z
UID:10000874-1707652800-1707663600@charlestown.ie
SUMMARY:Basketball - U12 Girls Blitz (home)
DESCRIPTION:
URL:https://charlestown.ie/event/basketball-u12-girls-blitz-home/
LOCATION:CBD Recreational Centre\, Charlestown\, Lowpark\, Charlestown\, Mayo\, Ireland
CATEGORIES:Basketball,Children,Sport
END:VEVENT
BEGIN:VEVENT
DTSTART;TZID=Europe/Dublin:20240207T190000
DTEND;TZID=Europe/Dublin:20240207T220000
DTSTAMP:20260424T165806
CREATED:20240123T195950Z
LAST-MODIFIED:20240124T114436Z
UID:10000861-1707332400-1707343200@charlestown.ie
SUMMARY:Charlestown Cards & Darts Night
DESCRIPTION:Open every Wednesday night from 7pm. \nGame starts at 8pm. \nOpen to all for cards and darts! \nEntrance located at rear of CBD Recreational Centre.
URL:https://charlestown.ie/event/charlestown-cards-darts-night/
LOCATION:CBD Recreational Centre\, Charlestown\, Lowpark\, Charlestown\, Mayo\, Ireland
CATEGORIES:Community
END:VEVENT
BEGIN:VEVENT
DTSTART;TZID=Europe/Dublin:20240207T190000
DTEND;TZID=Europe/Dublin:20240207T200000
DTSTAMP:20260424T165806
CREATED:20240206T174310Z
LAST-MODIFIED:20240206T174310Z
UID:10000873-1707332400-1707336000@charlestown.ie
SUMMARY:Basketball U14 Boys v Kiltimagh (home)
DESCRIPTION:
URL:https://charlestown.ie/event/basketball-u14-boys-v-kiltimagh-home/
LOCATION:CBD Recreational Centre\, Charlestown\, Lowpark\, Charlestown\, Mayo\, Ireland
CATEGORIES:Basketball,Sport
END:VEVENT
BEGIN:VEVENT
DTSTART;TZID=Europe/Dublin:20240131T190000
DTEND;TZID=Europe/Dublin:20240131T220000
DTSTAMP:20260424T165806
CREATED:20240123T195651Z
LAST-MODIFIED:20240124T113917Z
UID:10000860-1706727600-1706738400@charlestown.ie
SUMMARY:Charlestown Cards & Darts Night
DESCRIPTION:Open every Wednesday night from 7pm. \nGame starts at 8pm. \nOpen to all for cards and darts! \nEntrance located at rear of CBD Recreational Centre. \n  \n  \n 
URL:https://charlestown.ie/event/charlestown-cards-darts-nights/
LOCATION:CBD Recreational Centre\, Charlestown\, Lowpark\, Charlestown\, Mayo\, Ireland
CATEGORIES:Community
END:VEVENT
BEGIN:VEVENT
DTSTART;TZID=Europe/Dublin:20240127T100000
DTEND;TZID=Europe/Dublin:20240127T130000
DTSTAMP:20260424T165806
CREATED:20240123T064853Z
LAST-MODIFIED:20240123T064853Z
UID:10000855-1706349600-1706360400@charlestown.ie
SUMMARY:U12 Div 2 Boys Basketball Blitz (Home)
DESCRIPTION:Complex
URL:https://charlestown.ie/event/u12-div-2-boys-basketball-blitz-home/
LOCATION:CBD Recreational Centre\, Charlestown\, Lowpark\, Charlestown\, Mayo\, Ireland
CATEGORIES:Basketball
END:VEVENT
BEGIN:VEVENT
DTSTART;TZID=Europe/Dublin:20240125T190000
DTEND;TZID=Europe/Dublin:20240125T200000
DTSTAMP:20260424T165806
CREATED:20240123T065131Z
LAST-MODIFIED:20240123T065131Z
UID:10000856-1706209200-1706212800@charlestown.ie
SUMMARY:U14 Girls "Green Squad" League v Crossmolina (home)
DESCRIPTION:
URL:https://charlestown.ie/event/u14-girls-green-squad-league-v-crossmolina-home/
LOCATION:CBD Recreational Centre\, Charlestown\, Lowpark\, Charlestown\, Mayo\, Ireland
CATEGORIES:Basketball
END:VEVENT
BEGIN:VEVENT
DTSTART;TZID=Europe/Dublin:20231219T190000
DTEND;TZID=Europe/Dublin:20231219T210000
DTSTAMP:20260424T165806
CREATED:20231213T194905Z
LAST-MODIFIED:20231213T194905Z
UID:10000833-1703012400-1703019600@charlestown.ie
SUMMARY:Charlestown N.S. Christmas Play
DESCRIPTION:  \nAt 7 pm on Tuesday\, December 19th in the CBD Complex\, students from Junior to Second Class will perform Animal Rumble Grumble followed by Peace Child (Third to Sixth Class Students). Again this promises to be a wonderful evening\, one that our pupils and teachers have worked so hard preparing for.
URL:https://charlestown.ie/event/charlestown-n-s-christmas-play/
LOCATION:CBD Recreational Centre\, Charlestown\, Lowpark\, Charlestown\, Mayo\, Ireland
CATEGORIES:Children,Community,Family Event
END:VEVENT
BEGIN:VEVENT
DTSTART;TZID=Europe/Dublin:20231205T193000
DTEND;TZID=Europe/Dublin:20231205T210000
DTSTAMP:20260424T165806
CREATED:20231113T223212Z
LAST-MODIFIED:20231114T212502Z
UID:10000810-1701804600-1701810000@charlestown.ie
SUMMARY:Basketball - U16 League v Ballina (home)
DESCRIPTION:
URL:https://charlestown.ie/event/basketball-u16-league-v-ballina-home/
LOCATION:CBD Recreational Centre\, Charlestown\, Lowpark\, Charlestown\, Mayo\, Ireland
CATEGORIES:Basketball,Children,Community,Sport
END:VEVENT
BEGIN:VEVENT
DTSTART;TZID=Europe/Dublin:20231203T100000
DTEND;TZID=Europe/Dublin:20231203T130000
DTSTAMP:20260424T165806
CREATED:20231121T173018Z
LAST-MODIFIED:20231121T173018Z
UID:10000818-1701597600-1701608400@charlestown.ie
SUMMARY:Basketball  - U12 Boys Division 1 - Home Blitz
DESCRIPTION:
URL:https://charlestown.ie/event/basketball-u12-boys-division-1-home-blitz/
LOCATION:CBD Recreational Centre\, Charlestown\, Lowpark\, Charlestown\, Mayo\, Ireland
CATEGORIES:Basketball,Children,Community,Sport
END:VEVENT
BEGIN:VEVENT
DTSTART;TZID=Europe/Dublin:20231125T170000
DTEND;TZID=Europe/Dublin:20231125T183000
DTSTAMP:20260424T165806
CREATED:20231121T155943Z
LAST-MODIFIED:20231121T155943Z
UID:10000817-1700931600-1700937000@charlestown.ie
SUMMARY:Basketball - U16 League v Cispheil Iorrais (home)
DESCRIPTION:
URL:https://charlestown.ie/event/basketball-u16-league-v-cispheil-iorrais-home/
LOCATION:CBD Recreational Centre\, Charlestown\, Lowpark\, Charlestown\, Mayo\, Ireland
CATEGORIES:Basketball,Children,Community,Sport
END:VEVENT
BEGIN:VEVENT
DTSTART;TZID=Europe/Dublin:20231122T190000
DTEND;TZID=Europe/Dublin:20231122T203000
DTSTAMP:20260424T165806
CREATED:20231103T103138Z
LAST-MODIFIED:20231118T213433Z
UID:10000803-1700679600-1700685000@charlestown.ie
SUMMARY:Basketball - U12 Boys Division 2 Plate Game v Ballinrobe (home)
DESCRIPTION:
URL:https://charlestown.ie/event/basketball-u12-boys-division-2-v-ballinrobe-home/
LOCATION:CBD Recreational Centre\, Charlestown\, Lowpark\, Charlestown\, Mayo\, Ireland
CATEGORIES:Basketball,Children,Community,Sport
END:VEVENT
BEGIN:VEVENT
DTSTART;TZID=Europe/Dublin:20231121T190000
DTEND;TZID=Europe/Dublin:20231121T203000
DTSTAMP:20260424T165806
CREATED:20231118T212814Z
LAST-MODIFIED:20231118T212814Z
UID:10000816-1700593200-1700598600@charlestown.ie
SUMMARY:Basketball - U12 Boys Cup Game v Ballinrobe (home)
DESCRIPTION:
URL:https://charlestown.ie/event/basketball-u12-boys-cup-game-v-ballinrobe-home/
LOCATION:CBD Recreational Centre\, Charlestown\, Lowpark\, Charlestown\, Mayo\, Ireland
CATEGORIES:Basketball,Children,Community,Sport
END:VEVENT
BEGIN:VEVENT
DTSTART;TZID=Europe/Dublin:20231120T204500
DTEND;TZID=Europe/Dublin:20231120T220000
DTSTAMP:20260424T165806
CREATED:20231025T213852Z
LAST-MODIFIED:20231025T213852Z
UID:10000797-1700513100-1700517600@charlestown.ie
SUMMARY:EAST MAYO AC - AGM
DESCRIPTION:CBD COMPLEX
URL:https://charlestown.ie/event/east-mayo-ac-agm/
LOCATION:CBD Recreational Centre\, Charlestown\, Lowpark\, Charlestown\, Mayo\, Ireland
CATEGORIES:Basketball,Children,Community,Family Event,Sport
END:VEVENT
END:VCALENDAR