BEGIN:VCALENDAR
VERSION:2.0
PRODID:-//Charlestown - ECPv6.6.4.2//NONSGML v1.0//EN
CALSCALE:GREGORIAN
METHOD:PUBLISH
X-WR-CALNAME:Charlestown
X-ORIGINAL-URL:https://charlestown.ie
X-WR-CALDESC:Events for Charlestown
REFRESH-INTERVAL;VALUE=DURATION:PT1H
X-Robots-Tag:noindex
X-PUBLISHED-TTL:PT1H
BEGIN:VTIMEZONE
TZID:Europe/Dublin
BEGIN:DAYLIGHT
TZOFFSETFROM:+0000
TZOFFSETTO:+0100
TZNAME:IST
DTSTART:20240331T010000
END:DAYLIGHT
BEGIN:STANDARD
TZOFFSETFROM:+0100
TZOFFSETTO:+0000
TZNAME:GMT
DTSTART:20241027T010000
END:STANDARD
END:VTIMEZONE
BEGIN:VEVENT
DTSTART;TZID=Europe/Dublin:20241130T090000
DTEND;TZID=Europe/Dublin:20241130T110000
DTSTAMP:20260424T114808
CREATED:20240923T161613Z
LAST-MODIFIED:20240923T161701Z
UID:10001269-1732957200-1732964400@charlestown.ie
SUMMARY:Rinka Fitness @ CBD Complex
DESCRIPTION:
URL:https://charlestown.ie/event/rinka-fitness-cbd-complex/2024-11-30/
LOCATION:CBD Recreational Centre\, Charlestown\, Lowpark\, Charlestown\, Mayo\, Ireland
ATTACH;FMTTYPE=image/jpeg:https://charlestown.ie/wp-content/uploads/2024/09/Rinka-e1727108105660.jpg
END:VEVENT
BEGIN:VEVENT
DTSTART;TZID=Europe/Dublin:20241129T180000
DTEND;TZID=Europe/Dublin:20241129T193000
DTSTAMP:20260424T114808
CREATED:20241123T144854Z
LAST-MODIFIED:20241123T144854Z
UID:10001494-1732903200-1732908600@charlestown.ie
SUMMARY:Winter Coats Collection - Charlestown Foroige
DESCRIPTION:
URL:https://charlestown.ie/event/winter-coats-collection-charlestown-foroige/
LOCATION:CBD Recreational Centre\, Charlestown\, Lowpark\, Charlestown\, Mayo\, Ireland
CATEGORIES:Community
ATTACH;FMTTYPE=image/jpeg:https://charlestown.ie/wp-content/uploads/2024/11/winter-coats.jpg
END:VEVENT
BEGIN:VEVENT
DTSTART;TZID=Europe/Dublin:20241128T170000
DTEND;TZID=Europe/Dublin:20241128T184500
DTSTAMP:20260424T114808
CREATED:20240912T094143Z
LAST-MODIFIED:20241101T220717Z
UID:10001419-1732813200-1732819500@charlestown.ie
SUMMARY:Irish Dancing Classes
DESCRIPTION:
URL:https://charlestown.ie/event/irish-dancing-classes-7/2024-11-28/
LOCATION:CBD Recreational Centre\, Charlestown\, Lowpark\, Charlestown\, Mayo\, Ireland
ATTACH;FMTTYPE=image/jpeg:https://charlestown.ie/wp-content/uploads/2024/09/Irish-Dancing.jpg
END:VEVENT
BEGIN:VEVENT
DTSTART;TZID=Europe/Dublin:20241126T210000
DTEND;TZID=Europe/Dublin:20241126T220000
DTSTAMP:20260424T114808
CREATED:20240922T121026Z
LAST-MODIFIED:20241101T223844Z
UID:10001248-1732654800-1732658400@charlestown.ie
SUMMARY:Adult Basketball
DESCRIPTION:
URL:https://charlestown.ie/event/social-basketball-adults-only/2024-11-26/
LOCATION:CBD Recreational Centre\, Charlestown\, Lowpark\, Charlestown\, Mayo\, Ireland
CATEGORIES:Basketball
ATTACH;FMTTYPE=image/jpeg:https://charlestown.ie/wp-content/uploads/2024/09/bb-adults-only.jpg
END:VEVENT
BEGIN:VEVENT
DTSTART;TZID=Europe/Dublin:20241123T160000
DTEND;TZID=Europe/Dublin:20241123T180000
DTSTAMP:20260424T114808
CREATED:20241112T173519Z
LAST-MODIFIED:20241122T232339Z
UID:10001460-1732377600-1732384800@charlestown.ie
SUMMARY:Basketball- U12 Boys Div1 Blitz (home)
DESCRIPTION:
URL:https://charlestown.ie/event/basketball-u12-boys-div1-blitz-home/
LOCATION:CBD Recreational Centre\, Charlestown\, Lowpark\, Charlestown\, Mayo\, Ireland
CATEGORIES:Basketball
ATTACH;FMTTYPE=image/jpeg:https://charlestown.ie/wp-content/uploads/2024/10/Screenshot_20241015_122618_Facebook.jpg
END:VEVENT
BEGIN:VEVENT
DTSTART;TZID=Europe/Dublin:20241123T090000
DTEND;TZID=Europe/Dublin:20241123T110000
DTSTAMP:20260424T114808
CREATED:20240923T161613Z
LAST-MODIFIED:20240923T161701Z
UID:10001268-1732352400-1732359600@charlestown.ie
SUMMARY:Rinka Fitness @ CBD Complex
DESCRIPTION:
URL:https://charlestown.ie/event/rinka-fitness-cbd-complex/2024-11-23/
LOCATION:CBD Recreational Centre\, Charlestown\, Lowpark\, Charlestown\, Mayo\, Ireland
ATTACH;FMTTYPE=image/jpeg:https://charlestown.ie/wp-content/uploads/2024/09/Rinka-e1727108105660.jpg
END:VEVENT
BEGIN:VEVENT
DTSTART;TZID=Europe/Dublin:20241121T170000
DTEND;TZID=Europe/Dublin:20241121T184500
DTSTAMP:20260424T114808
CREATED:20240912T094143Z
LAST-MODIFIED:20241101T220717Z
UID:10001418-1732208400-1732214700@charlestown.ie
SUMMARY:Irish Dancing Classes
DESCRIPTION:
URL:https://charlestown.ie/event/irish-dancing-classes-7/2024-11-21/
LOCATION:CBD Recreational Centre\, Charlestown\, Lowpark\, Charlestown\, Mayo\, Ireland
ATTACH;FMTTYPE=image/jpeg:https://charlestown.ie/wp-content/uploads/2024/09/Irish-Dancing.jpg
END:VEVENT
BEGIN:VEVENT
DTSTART;TZID=Europe/Dublin:20241119T210000
DTEND;TZID=Europe/Dublin:20241119T220000
DTSTAMP:20260424T114808
CREATED:20240922T121026Z
LAST-MODIFIED:20241101T223844Z
UID:10001247-1732050000-1732053600@charlestown.ie
SUMMARY:Adult Basketball
DESCRIPTION:
URL:https://charlestown.ie/event/social-basketball-adults-only/2024-11-19/
LOCATION:CBD Recreational Centre\, Charlestown\, Lowpark\, Charlestown\, Mayo\, Ireland
CATEGORIES:Basketball
ATTACH;FMTTYPE=image/jpeg:https://charlestown.ie/wp-content/uploads/2024/09/bb-adults-only.jpg
END:VEVENT
BEGIN:VEVENT
DTSTART;TZID=Europe/Dublin:20241116T090000
DTEND;TZID=Europe/Dublin:20241116T110000
DTSTAMP:20260424T114808
CREATED:20240923T161613Z
LAST-MODIFIED:20240923T161701Z
UID:10001267-1731747600-1731754800@charlestown.ie
SUMMARY:Rinka Fitness @ CBD Complex
DESCRIPTION:
URL:https://charlestown.ie/event/rinka-fitness-cbd-complex/2024-11-16/
LOCATION:CBD Recreational Centre\, Charlestown\, Lowpark\, Charlestown\, Mayo\, Ireland
ATTACH;FMTTYPE=image/jpeg:https://charlestown.ie/wp-content/uploads/2024/09/Rinka-e1727108105660.jpg
END:VEVENT
BEGIN:VEVENT
DTSTART;TZID=Europe/Dublin:20241114T190000
DTEND;TZID=Europe/Dublin:20241114T200000
DTSTAMP:20260424T114808
CREATED:20241113T182632Z
LAST-MODIFIED:20241113T182632Z
UID:10001489-1731610800-1731614400@charlestown.ie
SUMMARY:Basketball - U14 Girls League v Ballintubber ( home)
DESCRIPTION:
URL:https://charlestown.ie/event/basketball-u14-girls-league-v-ballintubber-home/
LOCATION:CBD Recreational Centre\, Charlestown\, Lowpark\, Charlestown\, Mayo\, Ireland
CATEGORIES:Basketball
ATTACH;FMTTYPE=image/jpeg:https://charlestown.ie/wp-content/uploads/2024/10/Screenshot_20241015_122618_Facebook.jpg
END:VEVENT
BEGIN:VEVENT
DTSTART;TZID=Europe/Dublin:20241114T170000
DTEND;TZID=Europe/Dublin:20241114T184500
DTSTAMP:20260424T114808
CREATED:20240912T094143Z
LAST-MODIFIED:20241101T220717Z
UID:10001417-1731603600-1731609900@charlestown.ie
SUMMARY:Irish Dancing Classes
DESCRIPTION:
URL:https://charlestown.ie/event/irish-dancing-classes-7/2024-11-14/
LOCATION:CBD Recreational Centre\, Charlestown\, Lowpark\, Charlestown\, Mayo\, Ireland
ATTACH;FMTTYPE=image/jpeg:https://charlestown.ie/wp-content/uploads/2024/09/Irish-Dancing.jpg
END:VEVENT
BEGIN:VEVENT
DTSTART;TZID=Europe/Dublin:20241112T210000
DTEND;TZID=Europe/Dublin:20241112T220000
DTSTAMP:20260424T114808
CREATED:20240922T121026Z
LAST-MODIFIED:20241101T223844Z
UID:10001246-1731445200-1731448800@charlestown.ie
SUMMARY:Adult Basketball
DESCRIPTION:
URL:https://charlestown.ie/event/social-basketball-adults-only/2024-11-12/
LOCATION:CBD Recreational Centre\, Charlestown\, Lowpark\, Charlestown\, Mayo\, Ireland
CATEGORIES:Basketball
ATTACH;FMTTYPE=image/jpeg:https://charlestown.ie/wp-content/uploads/2024/09/bb-adults-only.jpg
END:VEVENT
BEGIN:VEVENT
DTSTART;TZID=Europe/Dublin:20241112T200000
DTEND;TZID=Europe/Dublin:20241112T210000
DTSTAMP:20260424T114808
CREATED:20241112T142401Z
LAST-MODIFIED:20241112T142401Z
UID:10001458-1731441600-1731445200@charlestown.ie
SUMMARY:Basketball - U18 Girls League v Ballina (home)
DESCRIPTION:
URL:https://charlestown.ie/event/basketball-u18-girls-league-v-ballina-home/
LOCATION:CBD Recreational Centre\, Charlestown\, Lowpark\, Charlestown\, Mayo\, Ireland
CATEGORIES:Basketball
ATTACH;FMTTYPE=image/jpeg:https://charlestown.ie/wp-content/uploads/2024/10/Screenshot_20241015_122618_Facebook.jpg
END:VEVENT
BEGIN:VEVENT
DTSTART;TZID=Europe/Dublin:20241109T090000
DTEND;TZID=Europe/Dublin:20241109T110000
DTSTAMP:20260424T114808
CREATED:20240923T161613Z
LAST-MODIFIED:20240923T161701Z
UID:10001266-1731142800-1731150000@charlestown.ie
SUMMARY:Rinka Fitness @ CBD Complex
DESCRIPTION:
URL:https://charlestown.ie/event/rinka-fitness-cbd-complex/2024-11-09/
LOCATION:CBD Recreational Centre\, Charlestown\, Lowpark\, Charlestown\, Mayo\, Ireland
ATTACH;FMTTYPE=image/jpeg:https://charlestown.ie/wp-content/uploads/2024/09/Rinka-e1727108105660.jpg
END:VEVENT
BEGIN:VEVENT
DTSTART;TZID=Europe/Dublin:20241107T170000
DTEND;TZID=Europe/Dublin:20241107T184500
DTSTAMP:20260424T114808
CREATED:20240912T094143Z
LAST-MODIFIED:20241101T220717Z
UID:10001416-1730998800-1731005100@charlestown.ie
SUMMARY:Irish Dancing Classes
DESCRIPTION:
URL:https://charlestown.ie/event/irish-dancing-classes-7/2024-11-07/
LOCATION:CBD Recreational Centre\, Charlestown\, Lowpark\, Charlestown\, Mayo\, Ireland
ATTACH;FMTTYPE=image/jpeg:https://charlestown.ie/wp-content/uploads/2024/09/Irish-Dancing.jpg
END:VEVENT
BEGIN:VEVENT
DTSTART;TZID=Europe/Dublin:20241106T190000
DTEND;TZID=Europe/Dublin:20241106T200000
DTSTAMP:20260424T114808
CREATED:20241105T203832Z
LAST-MODIFIED:20241105T203832Z
UID:10001450-1730919600-1730923200@charlestown.ie
SUMMARY:Basketball- U16 D1 Girls v Ballintubber (home)
DESCRIPTION:
URL:https://charlestown.ie/event/basketball-u16-d1-girls-v-ballintubber-home/
LOCATION:CBD Recreational Centre\, Charlestown\, Lowpark\, Charlestown\, Mayo\, Ireland
CATEGORIES:Basketball
ATTACH;FMTTYPE=image/jpeg:https://charlestown.ie/wp-content/uploads/2024/10/Screenshot_20241015_122618_Facebook.jpg
END:VEVENT
BEGIN:VEVENT
DTSTART;TZID=Europe/Dublin:20241105T210000
DTEND;TZID=Europe/Dublin:20241105T220000
DTSTAMP:20260424T114808
CREATED:20240922T121026Z
LAST-MODIFIED:20241101T223844Z
UID:10001245-1730840400-1730844000@charlestown.ie
SUMMARY:Adult Basketball
DESCRIPTION:
URL:https://charlestown.ie/event/social-basketball-adults-only/2024-11-05/
LOCATION:CBD Recreational Centre\, Charlestown\, Lowpark\, Charlestown\, Mayo\, Ireland
CATEGORIES:Basketball
ATTACH;FMTTYPE=image/jpeg:https://charlestown.ie/wp-content/uploads/2024/09/bb-adults-only.jpg
END:VEVENT
BEGIN:VEVENT
DTSTART;TZID=Europe/Dublin:20241102T090000
DTEND;TZID=Europe/Dublin:20241102T110000
DTSTAMP:20260424T114808
CREATED:20240923T161613Z
LAST-MODIFIED:20240923T161701Z
UID:10001265-1730538000-1730545200@charlestown.ie
SUMMARY:Rinka Fitness @ CBD Complex
DESCRIPTION:
URL:https://charlestown.ie/event/rinka-fitness-cbd-complex/2024-11-02/
LOCATION:CBD Recreational Centre\, Charlestown\, Lowpark\, Charlestown\, Mayo\, Ireland
ATTACH;FMTTYPE=image/jpeg:https://charlestown.ie/wp-content/uploads/2024/09/Rinka-e1727108105660.jpg
END:VEVENT
BEGIN:VEVENT
DTSTART;TZID=Europe/Dublin:20241031T170000
DTEND;TZID=Europe/Dublin:20241031T184500
DTSTAMP:20260424T114808
CREATED:20240912T094143Z
LAST-MODIFIED:20241101T220717Z
UID:10001135-1730394000-1730400300@charlestown.ie
SUMMARY:Irish Dancing Classes
DESCRIPTION:
URL:https://charlestown.ie/event/irish-dancing-classes-7/2024-10-31/
LOCATION:CBD Recreational Centre\, Charlestown\, Lowpark\, Charlestown\, Mayo\, Ireland
ATTACH;FMTTYPE=image/jpeg:https://charlestown.ie/wp-content/uploads/2024/09/Irish-Dancing.jpg
END:VEVENT
BEGIN:VEVENT
DTSTART;TZID=Europe/Dublin:20241029T210000
DTEND;TZID=Europe/Dublin:20241029T220000
DTSTAMP:20260424T114808
CREATED:20240922T121026Z
LAST-MODIFIED:20241101T223844Z
UID:10001244-1730235600-1730239200@charlestown.ie
SUMMARY:Adult Basketball
DESCRIPTION:
URL:https://charlestown.ie/event/social-basketball-adults-only/2024-10-29/
LOCATION:CBD Recreational Centre\, Charlestown\, Lowpark\, Charlestown\, Mayo\, Ireland
CATEGORIES:Basketball
ATTACH;FMTTYPE=image/jpeg:https://charlestown.ie/wp-content/uploads/2024/09/bb-adults-only.jpg
END:VEVENT
BEGIN:VEVENT
DTSTART;TZID=Europe/Dublin:20241026T110000
DTEND;TZID=Europe/Dublin:20241026T130000
DTSTAMP:20260424T114808
CREATED:20240911T105827Z
LAST-MODIFIED:20240911T105827Z
UID:10001110-1729940400-1729947600@charlestown.ie
SUMMARY:East Mayo Special Olympics Young Athletics Club
DESCRIPTION:
URL:https://charlestown.ie/event/east-mayo-special-olympics-young-athletics-club-6/
LOCATION:CBD Recreational Centre\, Charlestown\, Lowpark\, Charlestown\, Mayo\, Ireland
ATTACH;FMTTYPE=image/jpeg:https://charlestown.ie/wp-content/uploads/2024/09/Special-Olympics.jpg
END:VEVENT
BEGIN:VEVENT
DTSTART;TZID=Europe/Dublin:20241026T090000
DTEND;TZID=Europe/Dublin:20241026T110000
DTSTAMP:20260424T114808
CREATED:20240923T161613Z
LAST-MODIFIED:20240923T161701Z
UID:10001264-1729933200-1729940400@charlestown.ie
SUMMARY:Rinka Fitness @ CBD Complex
DESCRIPTION:
URL:https://charlestown.ie/event/rinka-fitness-cbd-complex/2024-10-26/
LOCATION:CBD Recreational Centre\, Charlestown\, Lowpark\, Charlestown\, Mayo\, Ireland
ATTACH;FMTTYPE=image/jpeg:https://charlestown.ie/wp-content/uploads/2024/09/Rinka-e1727108105660.jpg
END:VEVENT
BEGIN:VEVENT
DTSTART;TZID=Europe/Dublin:20241024T190000
DTEND;TZID=Europe/Dublin:20241024T203000
DTSTAMP:20260424T114808
CREATED:20241015T112545Z
LAST-MODIFIED:20241015T112734Z
UID:10001315-1729796400-1729801800@charlestown.ie
SUMMARY:Basketball- U14 D1 v Crossmolina (home)
DESCRIPTION:
URL:https://charlestown.ie/event/basketball-u14-d1-v-crossmolina-home/
LOCATION:CBD Recreational Centre\, Charlestown\, Lowpark\, Charlestown\, Mayo\, Ireland
ATTACH;FMTTYPE=image/jpeg:https://charlestown.ie/wp-content/uploads/2024/10/Screenshot_20241015_122618_Facebook.jpg
END:VEVENT
BEGIN:VEVENT
DTSTART;TZID=Europe/Dublin:20241024T170000
DTEND;TZID=Europe/Dublin:20241024T184500
DTSTAMP:20260424T114808
CREATED:20240912T094306Z
LAST-MODIFIED:20240912T094306Z
UID:10001136-1729789200-1729795500@charlestown.ie
SUMMARY:Irish Dancing Classes
DESCRIPTION:
URL:https://charlestown.ie/event/irish-dancing-classes-8/
LOCATION:CBD Recreational Centre\, Charlestown\, Lowpark\, Charlestown\, Mayo\, Ireland
ATTACH;FMTTYPE=image/jpeg:https://charlestown.ie/wp-content/uploads/2024/09/Irish-Dancing.jpg
END:VEVENT
BEGIN:VEVENT
DTSTART;TZID=Europe/Dublin:20241022T210000
DTEND;TZID=Europe/Dublin:20241022T220000
DTSTAMP:20260424T114808
CREATED:20240922T121026Z
LAST-MODIFIED:20241101T223844Z
UID:10001243-1729630800-1729634400@charlestown.ie
SUMMARY:Adult Basketball
DESCRIPTION:
URL:https://charlestown.ie/event/social-basketball-adults-only/2024-10-22/
LOCATION:CBD Recreational Centre\, Charlestown\, Lowpark\, Charlestown\, Mayo\, Ireland
CATEGORIES:Basketball
ATTACH;FMTTYPE=image/jpeg:https://charlestown.ie/wp-content/uploads/2024/09/bb-adults-only.jpg
END:VEVENT
BEGIN:VEVENT
DTSTART;TZID=Europe/Dublin:20241019T110000
DTEND;TZID=Europe/Dublin:20241019T130000
DTSTAMP:20260424T114808
CREATED:20240911T105728Z
LAST-MODIFIED:20240911T105728Z
UID:10001109-1729335600-1729342800@charlestown.ie
SUMMARY:East Mayo Special Olympics Young Athletics Club
DESCRIPTION:
URL:https://charlestown.ie/event/east-mayo-special-olympics-young-athletics-club-5/
LOCATION:CBD Recreational Centre\, Charlestown\, Lowpark\, Charlestown\, Mayo\, Ireland
ATTACH;FMTTYPE=image/jpeg:https://charlestown.ie/wp-content/uploads/2024/09/Special-Olympics.jpg
END:VEVENT
BEGIN:VEVENT
DTSTART;TZID=Europe/Dublin:20241019T090000
DTEND;TZID=Europe/Dublin:20241019T110000
DTSTAMP:20260424T114808
CREATED:20240923T161613Z
LAST-MODIFIED:20240923T161701Z
UID:10001263-1729328400-1729335600@charlestown.ie
SUMMARY:Rinka Fitness @ CBD Complex
DESCRIPTION:
URL:https://charlestown.ie/event/rinka-fitness-cbd-complex/2024-10-19/
LOCATION:CBD Recreational Centre\, Charlestown\, Lowpark\, Charlestown\, Mayo\, Ireland
ATTACH;FMTTYPE=image/jpeg:https://charlestown.ie/wp-content/uploads/2024/09/Rinka-e1727108105660.jpg
END:VEVENT
BEGIN:VEVENT
DTSTART;TZID=Europe/Dublin:20241017T200000
DTEND;TZID=Europe/Dublin:20241017T220000
DTSTAMP:20260424T114808
CREATED:20241016T143436Z
LAST-MODIFIED:20241016T143436Z
UID:10001322-1729195200-1729202400@charlestown.ie
SUMMARY:Basketball- U16 Boys v Crossmolina (home)
DESCRIPTION:
URL:https://charlestown.ie/event/basketball-u16-boys-v-crossmolina-home/
LOCATION:CBD Recreational Centre\, Charlestown\, Lowpark\, Charlestown\, Mayo\, Ireland
CATEGORIES:Basketball
ATTACH;FMTTYPE=image/jpeg:https://charlestown.ie/wp-content/uploads/2024/10/Screenshot_20241015_122618_Facebook.jpg
END:VEVENT
BEGIN:VEVENT
DTSTART;TZID=Europe/Dublin:20241017T170000
DTEND;TZID=Europe/Dublin:20241017T184500
DTSTAMP:20260424T114808
CREATED:20240912T093937Z
LAST-MODIFIED:20240912T093937Z
UID:10001134-1729184400-1729190700@charlestown.ie
SUMMARY:Irish Dancing Classes
DESCRIPTION:
URL:https://charlestown.ie/event/irish-dancing-classes-6/
LOCATION:CBD Recreational Centre\, Charlestown\, Lowpark\, Charlestown\, Mayo\, Ireland
ATTACH;FMTTYPE=image/jpeg:https://charlestown.ie/wp-content/uploads/2024/09/Irish-Dancing.jpg
END:VEVENT
BEGIN:VEVENT
DTSTART;TZID=Europe/Dublin:20241016T190000
DTEND;TZID=Europe/Dublin:20241016T200000
DTSTAMP:20260424T114808
CREATED:20241016T143203Z
LAST-MODIFIED:20241016T143203Z
UID:10001321-1729105200-1729108800@charlestown.ie
SUMMARY:Basketball- U14 D2 v Ballinrobe (home)
DESCRIPTION:
URL:https://charlestown.ie/event/basketball-u14-d2-v-ballinrobe-home/
LOCATION:CBD Recreational Centre\, Charlestown\, Lowpark\, Charlestown\, Mayo\, Ireland
CATEGORIES:Basketball
ATTACH;FMTTYPE=image/jpeg:https://charlestown.ie/wp-content/uploads/2024/10/Screenshot_20241015_122618_Facebook.jpg
END:VEVENT
END:VCALENDAR