BEGIN:VCALENDAR
VERSION:2.0
PRODID:-//Charlestown - ECPv6.6.4.2//NONSGML v1.0//EN
CALSCALE:GREGORIAN
METHOD:PUBLISH
X-ORIGINAL-URL:https://charlestown.ie
X-WR-CALDESC:Events for Charlestown
REFRESH-INTERVAL;VALUE=DURATION:PT1H
X-Robots-Tag:noindex
X-PUBLISHED-TTL:PT1H
BEGIN:VTIMEZONE
TZID:Europe/Dublin
BEGIN:DAYLIGHT
TZOFFSETFROM:+0000
TZOFFSETTO:+0100
TZNAME:IST
DTSTART:20230326T010000
END:DAYLIGHT
BEGIN:STANDARD
TZOFFSETFROM:+0100
TZOFFSETTO:+0000
TZNAME:GMT
DTSTART:20231029T010000
END:STANDARD
BEGIN:DAYLIGHT
TZOFFSETFROM:+0000
TZOFFSETTO:+0100
TZNAME:IST
DTSTART:20240331T010000
END:DAYLIGHT
BEGIN:STANDARD
TZOFFSETFROM:+0100
TZOFFSETTO:+0000
TZNAME:GMT
DTSTART:20241027T010000
END:STANDARD
END:VTIMEZONE
BEGIN:VEVENT
DTSTART;TZID=Europe/Dublin:20241214T140000
DTEND;TZID=Europe/Dublin:20241214T150000
DTSTAMP:20260424T022638
CREATED:20241120T233814Z
LAST-MODIFIED:20241203T081206Z
UID:10001492-1734184800-1734188400@charlestown.ie
SUMMARY:Soccer - U12 Boys SFAI Subway Cup v Castlerea Celtic ( home)
DESCRIPTION:
URL:https://charlestown.ie/event/soccer-u12-boys-sfai-subway-cup-v-castlerea-celtic-home/
LOCATION:Bellaghy Soccer Pitch\, Bellaghy\, Charlestown\, Mayo\, Ireland
CATEGORIES:Soccer
ATTACH;FMTTYPE=image/jpeg:https://charlestown.ie/wp-content/uploads/2024/09/Screenshot_20240914_075607_Facebook.jpg
END:VEVENT
BEGIN:VEVENT
DTSTART;TZID=Europe/Dublin:20241026T150000
DTEND;TZID=Europe/Dublin:20241026T163000
DTSTAMP:20260424T022638
CREATED:20241022T200458Z
LAST-MODIFIED:20241022T200458Z
UID:10001327-1729954800-1729960200@charlestown.ie
SUMMARY:U12 Boys Connacht Cup v St Bernards (home)
DESCRIPTION:
URL:https://charlestown.ie/event/u12-boys-connacht-cup-v-st-bernards-home/
LOCATION:Bellaghy Soccer Pitch\, Bellaghy\, Charlestown\, Mayo\, Ireland
CATEGORIES:GAA- LGFA
ATTACH;FMTTYPE=image/jpeg:https://charlestown.ie/wp-content/uploads/2024/09/Screenshot_20240914_075607_Facebook.jpg
END:VEVENT
BEGIN:VEVENT
DTSTART;TZID=Europe/Dublin:20240928T120000
DTEND;TZID=Europe/Dublin:20240928T130000
DTSTAMP:20260424T022638
CREATED:20240923T105317Z
LAST-MODIFIED:20240923T105317Z
UID:10001258-1727524800-1727528400@charlestown.ie
SUMMARY:Soccer - U12 SFAI Cup v Yeats Utd (home)
DESCRIPTION:
URL:https://charlestown.ie/event/soccer-u12-sfai-cup-v-yeats-utd-home/
LOCATION:Bellaghy Soccer Pitch\, Bellaghy\, Charlestown\, Mayo\, Ireland
CATEGORIES:Sport
ATTACH;FMTTYPE=image/jpeg:https://charlestown.ie/wp-content/uploads/2024/09/Screenshot_20240914_075607_Facebook.jpg
END:VEVENT
BEGIN:VEVENT
DTSTART;TZID=Europe/Dublin:20240917T180000
DTEND;TZID=Europe/Dublin:20240917T190000
DTSTAMP:20260424T022638
CREATED:20240916T161148Z
LAST-MODIFIED:20240916T161148Z
UID:10001154-1726596000-1726599600@charlestown.ie
SUMMARY:Soccer - U12 Div2B v Newport (home)
DESCRIPTION:
URL:https://charlestown.ie/event/soccer-u12-div2b-v-newport-home/
LOCATION:Bellaghy Soccer Pitch\, Bellaghy\, Charlestown\, Mayo\, Ireland
ATTACH;FMTTYPE=image/jpeg:https://charlestown.ie/wp-content/uploads/2015/06/Charlestown-Aerial-View.jpg
END:VEVENT
BEGIN:VEVENT
DTSTART;TZID=Europe/Dublin:20240402T100000
DTEND;TZID=Europe/Dublin:20240405T140000
DTSTAMP:20260424T022638
CREATED:20240318T080526Z
LAST-MODIFIED:20240318T080526Z
UID:10000895-1712052000-1712325600@charlestown.ie
SUMMARY:Charlestown AFC - Soccer Camp
DESCRIPTION:9
URL:https://charlestown.ie/event/charlestown-afc-soccer-camp/
LOCATION:Bellaghy Soccer Pitch\, Bellaghy\, Charlestown\, Mayo\, Ireland
CATEGORIES:Children,Community,Sport
ATTACH;FMTTYPE=image/jpeg:https://charlestown.ie/wp-content/uploads/2015/06/Charlestown-Aerial-View.jpg
END:VEVENT
BEGIN:VEVENT
DTSTART;TZID=Europe/Dublin:20230901T193000
DTEND;TZID=Europe/Dublin:20230901T203000
DTSTAMP:20260424T022638
CREATED:20230831T131042Z
LAST-MODIFIED:20230831T131042Z
UID:10000751-1693596600-1693600200@charlestown.ie
SUMMARY:Soccer - U12 Div 5B v Erris (home)
DESCRIPTION:
URL:https://charlestown.ie/event/soccer-u12-div-5b-v-erris-home/
LOCATION:Bellaghy Soccer Pitch\, Bellaghy\, Charlestown\, Mayo\, Ireland
END:VEVENT
BEGIN:VEVENT
DTSTART;TZID=Europe/Dublin:20230818T173000
DTEND;TZID=Europe/Dublin:20230818T183000
DTSTAMP:20260424T022638
CREATED:20230818T094126Z
LAST-MODIFIED:20230818T094126Z
UID:10000730-1692379800-1692383400@charlestown.ie
SUMMARY:Soccer - U12 Div 5 B v Claremorris (home)
DESCRIPTION:
URL:https://charlestown.ie/event/soccer-u12-div-5-b-v-claremorris-home/
LOCATION:Bellaghy Soccer Pitch\, Bellaghy\, Charlestown\, Mayo\, Ireland
CATEGORIES:Children,Community,Sport
END:VEVENT
BEGIN:VEVENT
DTSTART;TZID=Europe/Dublin:20230723T180000
DTEND;TZID=Europe/Dublin:20230723T190000
DTSTAMP:20260424T022638
CREATED:20230720T193512Z
LAST-MODIFIED:20230720T193512Z
UID:10000705-1690135200-1690138800@charlestown.ie
SUMMARY:Soccer - U16 Boys Div 2B v Partry Athletic (home)
DESCRIPTION:
URL:https://charlestown.ie/event/soccer-u16-boys-div-2b-v-partry-athletic-home/
LOCATION:Bellaghy Soccer Pitch\, Bellaghy\, Charlestown\, Mayo\, Ireland
CATEGORIES:Community,Sport
END:VEVENT
BEGIN:VEVENT
DTSTART;TZID=Europe/Dublin:20230721T193000
DTEND;TZID=Europe/Dublin:20230721T203000
DTSTAMP:20260424T022638
CREATED:20230720T193244Z
LAST-MODIFIED:20230720T193244Z
UID:10000704-1689967800-1689971400@charlestown.ie
SUMMARY:Soccer - U12 Boys Div 2B v Newport Mulranny (home)
DESCRIPTION:
URL:https://charlestown.ie/event/soccer-u12-boys-div-2b-v-newport-mulranny-home/
LOCATION:Bellaghy Soccer Pitch\, Bellaghy\, Charlestown\, Mayo\, Ireland
CATEGORIES:Children,Community,Sport
END:VEVENT
BEGIN:VEVENT
DTSTART;TZID=Europe/Dublin:20230721T180000
DTEND;TZID=Europe/Dublin:20230721T190000
DTSTAMP:20260424T022638
CREATED:20230720T193055Z
LAST-MODIFIED:20230720T193055Z
UID:10000703-1689962400-1689966000@charlestown.ie
SUMMARY:Soccer - U12 Boys Div 5B v Ballyvary (home)
DESCRIPTION:
URL:https://charlestown.ie/event/soccer-u12-boys-div-5b-v-ballyvary-home/
LOCATION:Bellaghy Soccer Pitch\, Bellaghy\, Charlestown\, Mayo\, Ireland
CATEGORIES:Children,Community,Sport
END:VEVENT
BEGIN:VEVENT
DTSTART;TZID=Europe/Dublin:20230701T120000
DTEND;TZID=Europe/Dublin:20230701T133000
DTSTAMP:20260424T022638
CREATED:20230628T172656Z
LAST-MODIFIED:20230630T121640Z
UID:10000672-1688212800-1688218200@charlestown.ie
SUMMARY:Soccer - U11s Cup Game v Partry Athletic F.C.
DESCRIPTION:Venue: Bellaghy Park
URL:https://charlestown.ie/event/soccer-u11s-cup-game-v-partry-athletic-f-c/
LOCATION:Bellaghy Soccer Pitch\, Bellaghy\, Charlestown\, Mayo\, Ireland
CATEGORIES:Children,Community,Sport
END:VEVENT
BEGIN:VEVENT
DTSTART;TZID=Europe/Dublin:20230621T190000
DTEND;TZID=Europe/Dublin:20230621T203000
DTSTAMP:20260424T022638
CREATED:20230621T083748Z
LAST-MODIFIED:20230621T083748Z
UID:10000654-1687374000-1687379400@charlestown.ie
SUMMARY:Soccer - U15 Div 2 B v Straide & Foxford (home)
DESCRIPTION:Bellaghy Park
URL:https://charlestown.ie/event/soccer-u15-div-2-b-v-straide-foxford-home/
LOCATION:Bellaghy Soccer Pitch\, Bellaghy\, Charlestown\, Mayo\, Ireland
END:VEVENT
END:VCALENDAR