BEGIN:VCALENDAR
VERSION:2.0
PRODID:-//Charlestown - ECPv6.6.4.2//NONSGML v1.0//EN
CALSCALE:GREGORIAN
METHOD:PUBLISH
X-WR-CALNAME:Charlestown
X-ORIGINAL-URL:https://charlestown.ie
X-WR-CALDESC:Events for Charlestown
REFRESH-INTERVAL;VALUE=DURATION:PT1H
X-Robots-Tag:noindex
X-PUBLISHED-TTL:PT1H
BEGIN:VTIMEZONE
TZID:Europe/Dublin
BEGIN:DAYLIGHT
TZOFFSETFROM:+0000
TZOFFSETTO:+0100
TZNAME:IST
DTSTART:20230326T010000
END:DAYLIGHT
BEGIN:STANDARD
TZOFFSETFROM:+0100
TZOFFSETTO:+0000
TZNAME:GMT
DTSTART:20231029T010000
END:STANDARD
END:VTIMEZONE
BEGIN:VEVENT
DTSTART;TZID=Europe/Dublin:20230405T103000
DTEND;TZID=Europe/Dublin:20230405T123000
DTSTAMP:20260424T050427
CREATED:20230404T093921Z
LAST-MODIFIED:20230404T110621Z
UID:10000575-1680690600-1680697800@charlestown.ie
SUMMARY:Community Coffee Morning
DESCRIPTION:
URL:https://charlestown.ie/event/community-coffee-morning-3/
LOCATION:Arts Centre\, Barrack Street\, Charlestown\, Mayo\, Ireland
CATEGORIES:Community
END:VEVENT
BEGIN:VEVENT
DTSTART;TZID=Europe/Dublin:20230331T190000
DTEND;TZID=Europe/Dublin:20230331T190000
DTSTAMP:20260424T050427
CREATED:20230309T123000Z
LAST-MODIFIED:20230309T123000Z
UID:10000552-1680289200-1680289200@charlestown.ie
SUMMARY:Charlestown Swimming Pool AGM
DESCRIPTION:  \nJoin us on Friday\, 31st March at 7pm in the Arts Centre for the Annual General Meeting. \nHear about the success of the pool and the exciting plans for summer 2023.
URL:https://charlestown.ie/event/charlestown-swimming-pool-agm/
LOCATION:Arts Centre\, Barrack Street\, Charlestown\, Mayo\, Ireland
END:VEVENT
BEGIN:VEVENT
DTSTART;TZID=Europe/Dublin:20230314T103000
DTEND;TZID=Europe/Dublin:20230314T123000
DTSTAMP:20260424T050427
CREATED:20230308T130921Z
LAST-MODIFIED:20230308T130921Z
UID:10000549-1678789800-1678797000@charlestown.ie
SUMMARY:Community Coffee Morning
DESCRIPTION:
URL:https://charlestown.ie/event/community-coffee-morning-2/
LOCATION:Arts Centre\, Barrack Street\, Charlestown\, Mayo\, Ireland
END:VEVENT
END:VCALENDAR