BEGIN:VCALENDAR
VERSION:2.0
PRODID:-//Charlestown - ECPv6.6.4.2//NONSGML v1.0//EN
CALSCALE:GREGORIAN
METHOD:PUBLISH
X-ORIGINAL-URL:https://charlestown.ie
X-WR-CALDESC:Events for Charlestown
REFRESH-INTERVAL;VALUE=DURATION:PT1H
X-Robots-Tag:noindex
X-PUBLISHED-TTL:PT1H
BEGIN:VTIMEZONE
TZID:Europe/Dublin
BEGIN:DAYLIGHT
TZOFFSETFROM:+0000
TZOFFSETTO:+0100
TZNAME:IST
DTSTART:20250330T010000
END:DAYLIGHT
BEGIN:STANDARD
TZOFFSETFROM:+0100
TZOFFSETTO:+0000
TZNAME:GMT
DTSTART:20251026T010000
END:STANDARD
END:VTIMEZONE
BEGIN:VEVENT
DTSTART;TZID=Europe/Dublin:20250502T200000
DTEND;TZID=Europe/Dublin:20250502T223000
DTSTAMP:20260424T005311
CREATED:20250402T182131Z
LAST-MODIFIED:20250402T182131Z
UID:10001928-1746216000-1746225000@charlestown.ie
SUMMARY:Comedy Night - Yeats County Inn
DESCRIPTION:
URL:https://charlestown.ie/event/comedy-night-yeats-county-inn/
LOCATION:Yeats County Inn Hotel\, Curry\, Co. Sligo\, Ireland
ATTACH;FMTTYPE=image/jpeg:https://charlestown.ie/wp-content/uploads/2025/04/Screenshot_20250402_191621_Facebook.jpg
END:VEVENT
END:VCALENDAR