BEGIN:VCALENDAR
VERSION:2.0
PRODID:-//Charlestown - ECPv6.6.4.2//NONSGML v1.0//EN
CALSCALE:GREGORIAN
METHOD:PUBLISH
X-ORIGINAL-URL:https://charlestown.ie
X-WR-CALDESC:Events for Charlestown
REFRESH-INTERVAL;VALUE=DURATION:PT1H
X-Robots-Tag:noindex
X-PUBLISHED-TTL:PT1H
BEGIN:VTIMEZONE
TZID:Europe/Dublin
BEGIN:DAYLIGHT
TZOFFSETFROM:+0000
TZOFFSETTO:+0100
TZNAME:IST
DTSTART:20230326T010000
END:DAYLIGHT
BEGIN:STANDARD
TZOFFSETFROM:+0100
TZOFFSETTO:+0000
TZNAME:GMT
DTSTART:20231029T010000
END:STANDARD
END:VTIMEZONE
BEGIN:VEVENT
DTSTART;TZID=Europe/Dublin:20231030T183000
DTEND;TZID=Europe/Dublin:20231030T183000
DTSTAMP:20260424T005024
CREATED:20231025T103830Z
LAST-MODIFIED:20231025T103830Z
UID:10000795-1698690600-1698690600@charlestown.ie
SUMMARY:Halloween Movie Night
DESCRIPTION:
URL:https://charlestown.ie/event/halloween-movie-night/
LOCATION:Arts Centre\, Barrack Street\, Charlestown\, Mayo\, Ireland
CATEGORIES:Children,Community
END:VEVENT
END:VCALENDAR