BEGIN:VCALENDAR
VERSION:2.0
PRODID:-//Charlestown - ECPv6.6.4.2//NONSGML v1.0//EN
CALSCALE:GREGORIAN
METHOD:PUBLISH
X-WR-CALNAME:Charlestown
X-ORIGINAL-URL:https://charlestown.ie
X-WR-CALDESC:Events for Charlestown
REFRESH-INTERVAL;VALUE=DURATION:PT1H
X-Robots-Tag:noindex
X-PUBLISHED-TTL:PT1H
BEGIN:VTIMEZONE
TZID:Europe/Dublin
BEGIN:DAYLIGHT
TZOFFSETFROM:+0000
TZOFFSETTO:+0100
TZNAME:IST
DTSTART:20240331T010000
END:DAYLIGHT
BEGIN:STANDARD
TZOFFSETFROM:+0100
TZOFFSETTO:+0000
TZNAME:GMT
DTSTART:20241027T010000
END:STANDARD
END:VTIMEZONE
BEGIN:VEVENT
DTSTART;TZID=Europe/Dublin:20241005T220000
DTEND;TZID=Europe/Dublin:20241005T233000
DTSTAMP:20260424T033609
CREATED:20241004T175610Z
LAST-MODIFIED:20241004T180407Z
UID:10001291-1728165600-1728171000@charlestown.ie
SUMMARY:Music - DJ James (Murrays Bar)
DESCRIPTION:
URL:https://charlestown.ie/event/music-dj-james-murrays-bar-2/
ATTACH;FMTTYPE=image/jpeg:https://charlestown.ie/wp-content/uploads/2024/10/Screenshot_20241004_190148_Facebook.jpg
END:VEVENT
BEGIN:VEVENT
DTSTART;TZID=Europe/Dublin:20240928T220000
DTEND;TZID=Europe/Dublin:20240928T233000
DTSTAMP:20260424T033609
CREATED:20240926T085329Z
LAST-MODIFIED:20240926T085329Z
UID:10001277-1727560800-1727566200@charlestown.ie
SUMMARY:Music - DJ James ( Murrays Bar)
DESCRIPTION:
URL:https://charlestown.ie/event/music-dj-james-murrays-bar/
ATTACH;FMTTYPE=image/jpeg:https://charlestown.ie/wp-content/uploads/2024/09/Screenshot_20240926_094801_Google.jpg
END:VEVENT
END:VCALENDAR