BEGIN:VCALENDAR
VERSION:2.0
PRODID:-//Charlestown - ECPv6.6.4.2//NONSGML v1.0//EN
CALSCALE:GREGORIAN
METHOD:PUBLISH
X-ORIGINAL-URL:https://charlestown.ie
X-WR-CALDESC:Events for Charlestown
REFRESH-INTERVAL;VALUE=DURATION:PT1H
X-Robots-Tag:noindex
X-PUBLISHED-TTL:PT1H
BEGIN:VTIMEZONE
TZID:Europe/Dublin
BEGIN:DAYLIGHT
TZOFFSETFROM:+0000
TZOFFSETTO:+0100
TZNAME:IST
DTSTART:20230326T010000
END:DAYLIGHT
BEGIN:STANDARD
TZOFFSETFROM:+0100
TZOFFSETTO:+0000
TZNAME:GMT
DTSTART:20231029T010000
END:STANDARD
BEGIN:DAYLIGHT
TZOFFSETFROM:+0000
TZOFFSETTO:+0100
TZNAME:IST
DTSTART:20240331T010000
END:DAYLIGHT
BEGIN:STANDARD
TZOFFSETFROM:+0100
TZOFFSETTO:+0000
TZNAME:GMT
DTSTART:20241027T010000
END:STANDARD
END:VTIMEZONE
BEGIN:VEVENT
DTSTART;TZID=Europe/Dublin:20241231T160000
DTEND;TZID=Europe/Dublin:20241231T180000
DTSTAMP:20260424T021320
CREATED:20241214T202404Z
LAST-MODIFIED:20241214T202404Z
UID:10001521-1735660800-1735668000@charlestown.ie
SUMMARY:NYE - Kids Disco
DESCRIPTION:
URL:https://charlestown.ie/event/nye-kids-disco/
LOCATION:CBD Recreational Centre\, Charlestown\, Lowpark\, Charlestown\, Mayo\, Ireland
ATTACH;FMTTYPE=image/jpeg:https://charlestown.ie/wp-content/uploads/2024/12/Screenshot_20241214_202123_Facebook.jpg
END:VEVENT
BEGIN:VEVENT
DTSTART;TZID=Europe/Dublin:20241221T100000
DTEND;TZID=Europe/Dublin:20241221T113000
DTSTAMP:20260424T021320
CREATED:20241214T203111Z
LAST-MODIFIED:20241214T205544Z
UID:10001522-1734775200-1734780600@charlestown.ie
SUMMARY:Santa Dash - 3k (in aid of SVP)
DESCRIPTION:
URL:https://charlestown.ie/event/santa-dash-3k-bellaghy-centra-car-park/
ATTACH;FMTTYPE=image/jpeg:https://charlestown.ie/wp-content/uploads/2024/12/Screenshot_20241214_202752_Google.jpg
END:VEVENT
BEGIN:VEVENT
DTSTART;TZID=Europe/Dublin:20241103T110000
DTEND;TZID=Europe/Dublin:20241103T170000
DTSTAMP:20260424T021320
CREATED:20241101T222354Z
LAST-MODIFIED:20241101T222447Z
UID:10001438-1730631600-1730653200@charlestown.ie
SUMMARY:Connacht Juvenile UNEVENS Cross Country Championships (away)
DESCRIPTION:County Roscommon Athletics will host the Connacht Juvenile UNEVEN Age Cross Country Championships & Senior League Leg 3 at Roscommon Racecourse on Sunday 3rd November 2024.\n\n\nVenue: Roscommon Racecourse\, Lenabane\, Co Roscommon\n\n\nEircode: F42 V052 (note number zero on 052)\n\n\nParking: Available onsite at Racecourse – see map. Please follow the direction of marshals.\n*No Roadside Parking\n\n\nRegistration/Number Collection: Registration will be located in the room under the stand. Please\nfollow signs. Numbers can be collected at registration area from 9.30am. One representative from\neach club to collect the juvenile numbers before 10.50am with proof of fee payment.\n*Clubs are requested to bring their own pins.\n\n\nEvent Schedule: Race order\, distance and lap info outlined in table attached. *Order / distances may be subject to change on the day.\n\n\nFirst Race: 11.00am commencing with the Under-11 girls 1500m.\n\n\nCourse Map: Attached\, we have 500m (red)\, 1000m (pink) and a 1500m (black) loops.\n\n\nToilets: Available onsite.\n\n\nTents: Club tents may be set up outside of race area along by barrier to right of stands.\n\n\nRefreshments: Last Lap Cafe will be present with their mobile unit.\n\n\nResults: On display at the registration area. Also available online on the day at: https://connaughtathletics.com/2024/connacht/xc/unevens/\n\n\nGood luck to all athletes participating.
URL:https://charlestown.ie/event/connacht-juvenile-unevens-cross-country-championships-away/
CATEGORIES:Children
ATTACH;FMTTYPE=image/jpeg:https://charlestown.ie/wp-content/uploads/2024/11/Athletics.jpg
END:VEVENT
BEGIN:VEVENT
DTSTART;TZID=Europe/Dublin:20241026T183000
DTEND;TZID=Europe/Dublin:20241026T200000
DTSTAMP:20260424T021320
CREATED:20241010T001313Z
LAST-MODIFIED:20241010T001313Z
UID:10001306-1729967400-1729972800@charlestown.ie
SUMMARY:Halloween Children's Disco - East Mayo AC
DESCRIPTION:
URL:https://charlestown.ie/event/halloween-childrens-disco-east-mayo-ac/
ATTACH;FMTTYPE=image/jpeg:https://charlestown.ie/wp-content/uploads/2024/10/Screenshot_20241009_214127_Facebook.jpg
END:VEVENT
BEGIN:VEVENT
DTSTART;TZID=Europe/Dublin:20240921T110000
DTEND;TZID=Europe/Dublin:20240921T130000
DTSTAMP:20260424T021320
CREATED:20240910T145251Z
LAST-MODIFIED:20240910T145251Z
UID:10001080-1726916400-1726923600@charlestown.ie
SUMMARY:East Mayo Special Olympics Young Athletics Club
DESCRIPTION:
URL:https://charlestown.ie/event/east-mayo-special-olympics-young-athletics-club/
LOCATION:CBD Recreational Centre\, Charlestown\, Lowpark\, Charlestown\, Mayo\, Ireland
ATTACH;FMTTYPE=image/jpeg:https://charlestown.ie/wp-content/uploads/2024/09/Special-Olympics.jpg
END:VEVENT
BEGIN:VEVENT
DTSTART;TZID=Europe/Dublin:20240907T090000
DTEND;TZID=Europe/Dublin:20240907T180000
DTSTAMP:20260424T021320
CREATED:20240906T094336Z
LAST-MODIFIED:20240906T094336Z
UID:10001064-1725699600-1725732000@charlestown.ie
SUMMARY:East Mayo A.C. Bucket Collection
DESCRIPTION:
URL:https://charlestown.ie/event/east-mayo-a-c-bucket-collection/
CATEGORIES:Children,Community,Sport
ATTACH;FMTTYPE=image/jpeg:https://charlestown.ie/wp-content/uploads/2024/09/Screenshot_20240906_104132_Facebook.jpg
END:VEVENT
BEGIN:VEVENT
DTSTART;TZID=Europe/Dublin:20240519T080000
DTEND;TZID=Europe/Dublin:20240519T140000
DTSTAMP:20260424T021320
CREATED:20240123T165841Z
LAST-MODIFIED:20240515T133552Z
UID:10000859-1716105600-1716127200@charlestown.ie
SUMMARY:Colm Horkan Memorial Run
DESCRIPTION:  \nAll information posted on East Mayo Facebook Page
URL:https://charlestown.ie/event/colm-horkan-memorial-run-2/
LOCATION:Charlestown Sarsfields GAA grounds\, Lowpark\, Charlestown\, Co. Mayo\, Ireland
CATEGORIES:Children,Community,Family Event,Sport
ATTACH;FMTTYPE=image/jpeg:https://charlestown.ie/wp-content/uploads/2015/06/Charlestown-Aerial-View.jpg
END:VEVENT
BEGIN:VEVENT
DTSTART;TZID=Europe/Dublin:20231120T204500
DTEND;TZID=Europe/Dublin:20231120T220000
DTSTAMP:20260424T021320
CREATED:20231025T213852Z
LAST-MODIFIED:20231025T213852Z
UID:10000797-1700513100-1700517600@charlestown.ie
SUMMARY:EAST MAYO AC - AGM
DESCRIPTION:CBD COMPLEX
URL:https://charlestown.ie/event/east-mayo-ac-agm/
LOCATION:CBD Recreational Centre\, Charlestown\, Lowpark\, Charlestown\, Mayo\, Ireland
CATEGORIES:Basketball,Children,Community,Family Event,Sport
END:VEVENT
END:VCALENDAR