BEGIN:VCALENDAR
VERSION:2.0
PRODID:-//Charlestown - ECPv6.6.4.2//NONSGML v1.0//EN
CALSCALE:GREGORIAN
METHOD:PUBLISH
X-WR-CALNAME:Charlestown
X-ORIGINAL-URL:https://charlestown.ie
X-WR-CALDESC:Events for Charlestown
REFRESH-INTERVAL;VALUE=DURATION:PT1H
X-Robots-Tag:noindex
X-PUBLISHED-TTL:PT1H
BEGIN:VTIMEZONE
TZID:Europe/Dublin
BEGIN:DAYLIGHT
TZOFFSETFROM:+0000
TZOFFSETTO:+0100
TZNAME:IST
DTSTART:20260329T010000
END:DAYLIGHT
BEGIN:STANDARD
TZOFFSETFROM:+0100
TZOFFSETTO:+0000
TZNAME:GMT
DTSTART:20261025T010000
END:STANDARD
END:VTIMEZONE
BEGIN:VEVENT
DTSTART;TZID=Europe/Dublin:20260808T163000
DTEND;TZID=Europe/Dublin:20260808T180000
DTSTAMP:20260423T211441
CREATED:20260304T000450Z
LAST-MODIFIED:20260304T000450Z
UID:10003515-1786206600-1786212000@charlestown.ie
SUMMARY:GAA - Mayo SFC v Westport ( Rd 1)
DESCRIPTION:
URL:https://charlestown.ie/event/gaa-mayo-sfc-v-westport-rd-1/
CATEGORIES:GAA- LGFA
ATTACH;FMTTYPE=image/jpeg:https://charlestown.ie/wp-content/uploads/2026/03/Screenshot_20260303_142411_Facebook.jpg
ORGANIZER;CN="Charlestown Sarsfields GAA":MAILTO:secretary.charlestown.mayo@gaa.ie
END:VEVENT
BEGIN:VEVENT
DTSTART;TZID=Europe/Dublin:20260822T160000
DTEND;TZID=Europe/Dublin:20260822T180000
DTSTAMP:20260423T211441
CREATED:20260304T000654Z
LAST-MODIFIED:20260304T000654Z
UID:10003516-1787414400-1787421600@charlestown.ie
SUMMARY:GAA - Mayo SFC v Kilmeena ( Rd 2)
DESCRIPTION:
URL:https://charlestown.ie/event/gaa-mayo-sfc-v-kilmeena-rd-2/
LOCATION:Charlestown Sarsfields GAA grounds\, Lowpark\, Charlestown\, Co. Mayo\, Ireland
CATEGORIES:GAA- LGFA
ATTACH;FMTTYPE=image/jpeg:https://charlestown.ie/wp-content/uploads/2026/03/Screenshot_20260303_142411_Facebook.jpg
ORGANIZER;CN="Charlestown Sarsfields GAA":MAILTO:secretary.charlestown.mayo@gaa.ie
END:VEVENT
END:VCALENDAR