BEGIN:VCALENDAR
VERSION:2.0
PRODID:-//Charlestown - ECPv6.6.4.2//NONSGML v1.0//EN
CALSCALE:GREGORIAN
METHOD:PUBLISH
X-ORIGINAL-URL:https://charlestown.ie
X-WR-CALDESC:Events for Charlestown
REFRESH-INTERVAL;VALUE=DURATION:PT1H
X-Robots-Tag:noindex
X-PUBLISHED-TTL:PT1H
BEGIN:VTIMEZONE
TZID:Europe/Dublin
BEGIN:DAYLIGHT
TZOFFSETFROM:+0000
TZOFFSETTO:+0100
TZNAME:IST
DTSTART:20240331T010000
END:DAYLIGHT
BEGIN:STANDARD
TZOFFSETFROM:+0100
TZOFFSETTO:+0000
TZNAME:GMT
DTSTART:20241027T010000
END:STANDARD
BEGIN:DAYLIGHT
TZOFFSETFROM:+0000
TZOFFSETTO:+0100
TZNAME:IST
DTSTART:20250330T010000
END:DAYLIGHT
BEGIN:STANDARD
TZOFFSETFROM:+0100
TZOFFSETTO:+0000
TZNAME:GMT
DTSTART:20251026T010000
END:STANDARD
END:VTIMEZONE
BEGIN:VEVENT
DTSTART;TZID=Europe/Dublin:20250330T110000
DTEND;TZID=Europe/Dublin:20250330T130000
DTSTAMP:20260424T094136
CREATED:20250328T105741Z
LAST-MODIFIED:20250328T105741Z
UID:10001918-1743332400-1743339600@charlestown.ie
SUMMARY:LGFA - U18 League Semi Final v Claremorris (home)
DESCRIPTION:
URL:https://charlestown.ie/event/lgfa-u18-league-semi-final-v-claremorris-home/
LOCATION:Colm’s Pitch\, Fr O Hara Park\, Charlestown\, Ireland
CATEGORIES:GAA- LGFA
ATTACH;FMTTYPE=image/jpeg:https://charlestown.ie/wp-content/uploads/2023/05/LGFA-Logo.jpg
END:VEVENT
BEGIN:VEVENT
DTSTART;TZID=Europe/Dublin:20250328T183000
DTEND;TZID=Europe/Dublin:20250328T200000
DTSTAMP:20260424T094136
CREATED:20250317T195038Z
LAST-MODIFIED:20250317T195038Z
UID:10001845-1743186600-1743192000@charlestown.ie
SUMMARY:LGFA - U16 Star League v Kilmovee (away)
DESCRIPTION:
URL:https://charlestown.ie/event/lgfa-u16-star-league-v-kilmovee-away/
CATEGORIES:GAA- LGFA
ATTACH;FMTTYPE=image/jpeg:https://charlestown.ie/wp-content/uploads/2024/09/LGFA-Gloves.jpg
END:VEVENT
BEGIN:VEVENT
DTSTART;TZID=Europe/Dublin:20250323T110000
DTEND;TZID=Europe/Dublin:20250323T123000
DTSTAMP:20260424T094136
CREATED:20250301T162609Z
LAST-MODIFIED:20250319T135306Z
UID:10001740-1742727600-1742733000@charlestown.ie
SUMMARY:LGFA - U18 Minor Rd3 v Parke (away)
DESCRIPTION:
URL:https://charlestown.ie/event/lgfa-u18-minor-rd3-v-parke-away/
CATEGORIES:GAA- LGFA
ATTACH;FMTTYPE=image/jpeg:https://charlestown.ie/wp-content/uploads/2024/09/LGFA-Gloves.jpg
END:VEVENT
BEGIN:VEVENT
DTSTART;TZID=Europe/Dublin:20250323T080000
DTEND;TZID=Europe/Dublin:20250323T170000
DTSTAMP:20260424T094136
CREATED:20250323T130039Z
LAST-MODIFIED:20250323T130039Z
UID:10001851-1742716800-1742749200@charlestown.ie
SUMMARY:LGFA - PJ Loftus Seniors League v Burrishoole (home)
DESCRIPTION:
URL:https://charlestown.ie/event/lgfa-pj-loftus-seniors-league-v-burrishoole-home/
LOCATION:Charlestown Sarsfields GAA grounds\, Lowpark\, Charlestown\, Co. Mayo\, Ireland
CATEGORIES:GAA- LGFA
ATTACH;FMTTYPE=image/jpeg:https://charlestown.ie/wp-content/uploads/2023/05/LGFA-Logo.jpg
END:VEVENT
BEGIN:VEVENT
DTSTART;TZID=Europe/Dublin:20250321T173000
DTEND;TZID=Europe/Dublin:20250321T190000
DTSTAMP:20260424T094136
CREATED:20250310T015402Z
LAST-MODIFIED:20250318T191505Z
UID:10001746-1742578200-1742583600@charlestown.ie
SUMMARY:LGFA - U16 Star League v Castlebar A (Colm's Pitch)
DESCRIPTION:
URL:https://charlestown.ie/event/lgfa-u16-star-league-v-castlebar-a-home/
LOCATION:Colm’s Pitch\, Fr O Hara Park\, Charlestown\, Ireland
CATEGORIES:GAA- LGFA
ATTACH;FMTTYPE=image/jpeg:https://charlestown.ie/wp-content/uploads/2024/09/LGFA-Gloves.jpg
END:VEVENT
BEGIN:VEVENT
DTSTART;TZID=Europe/Dublin:20250316T110000
DTEND;TZID=Europe/Dublin:20250316T130000
DTSTAMP:20260424T094136
CREATED:20250301T162408Z
LAST-MODIFIED:20250301T162408Z
UID:10001739-1742122800-1742130000@charlestown.ie
SUMMARY:LGFA - U18 Round 2 v The Neale (away)
DESCRIPTION:
URL:https://charlestown.ie/event/lgfa-u18-round-2-v-the-neale-away/
CATEGORIES:GAA- LGFA
ATTACH;FMTTYPE=image/jpeg:https://charlestown.ie/wp-content/uploads/2024/09/LGFA-Gloves.jpg
END:VEVENT
BEGIN:VEVENT
DTSTART;TZID=Europe/Dublin:20250309T110000
DTEND;TZID=Europe/Dublin:20250309T130000
DTSTAMP:20260424T094136
CREATED:20250301T162220Z
LAST-MODIFIED:20250301T162220Z
UID:10001738-1741518000-1741525200@charlestown.ie
SUMMARY:LGFA - U18 Round 1 League v Swinford K (home)
DESCRIPTION:
URL:https://charlestown.ie/event/lgfa-u18-round-1-league-v-swinford-k-home/
LOCATION:Charlestown Sarsfields GAA grounds\, Lowpark\, Charlestown\, Co. Mayo\, Ireland
CATEGORIES:GAA- LGFA
ATTACH;FMTTYPE=image/jpeg:https://charlestown.ie/wp-content/uploads/2024/09/LGFA-Gloves.jpg
END:VEVENT
BEGIN:VEVENT
DTSTART;TZID=Europe/Dublin:20241109T110000
DTEND;TZID=Europe/Dublin:20241109T123000
DTSTAMP:20260424T094136
CREATED:20241101T212556Z
LAST-MODIFIED:20241108T005417Z
UID:10001335-1731150000-1731155400@charlestown.ie
SUMMARY:LGFA - U16 A Championship Final v Hollymount (away)
DESCRIPTION:
URL:https://charlestown.ie/event/lgfa-u16-a-championship-final-v-hollymount-away/
LOCATION:Centre of Excellence\, Bekan
ATTACH;FMTTYPE=image/jpeg:https://charlestown.ie/wp-content/uploads/2024/11/Screenshot_20241107_225216_WhatsApp.jpg
END:VEVENT
BEGIN:VEVENT
DTSTART;TZID=Europe/Dublin:20241020T123000
DTEND;TZID=Europe/Dublin:20241020T140000
DTSTAMP:20260424T094136
CREATED:20241015T150933Z
LAST-MODIFIED:20241019T124109Z
UID:10001319-1729427400-1729432800@charlestown.ie
SUMMARY:LGFA - U16 Division 1 Championship Final v Hollymount ( away)
DESCRIPTION:
URL:https://charlestown.ie/event/lgfa-u16-division-1-championship-final-v-hollymount-away/
LOCATION:Centre of Excellence\, Bekan
ATTACH;FMTTYPE=image/jpeg:https://charlestown.ie/wp-content/uploads/2024/09/LGFA-Gloves.jpg
END:VEVENT
BEGIN:VEVENT
DTSTART;TZID=Europe/Dublin:20241012T170000
DTEND;TZID=Europe/Dublin:20241012T190000
DTSTAMP:20260424T094136
CREATED:20241004T143421Z
LAST-MODIFIED:20241010T213931Z
UID:10001290-1728752400-1728759600@charlestown.ie
SUMMARY:LGFA - Senior Shield Final v Kilmovee Shamrocks (away)
DESCRIPTION:
URL:https://charlestown.ie/event/lgfa-senior-shield-final-v-kilmovee-shamrocks-away/
LOCATION:Charlestown Sarsfields GAA grounds\, Lowpark\, Charlestown\, Co. Mayo\, Ireland
CATEGORIES:GAA- LGFA
ATTACH;FMTTYPE=image/jpeg:https://charlestown.ie/wp-content/uploads/2024/10/Screenshot_20241010_223631_Facebook.jpg
END:VEVENT
BEGIN:VEVENT
DTSTART;TZID=Europe/Dublin:20241006T113000
DTEND;TZID=Europe/Dublin:20241006T130000
DTSTAMP:20260424T094136
CREATED:20240926T085536Z
LAST-MODIFIED:20241001T210321Z
UID:10001278-1728214200-1728219600@charlestown.ie
SUMMARY:LGFA - Minor Shield Final v Belmullet (away)
DESCRIPTION:
URL:https://charlestown.ie/event/lgfa-minor-shield-final-v-belmullet-away/
LOCATION:Centre of Excellence\, Bekan
ATTACH;FMTTYPE=image/jpeg:https://charlestown.ie/wp-content/uploads/2024/09/LGFA-Gloves.jpg
END:VEVENT
BEGIN:VEVENT
DTSTART;TZID=Europe/Dublin:20240930T180000
DTEND;TZID=Europe/Dublin:20240930T193000
DTSTAMP:20260424T094136
CREATED:20240925T081001Z
LAST-MODIFIED:20240925T081001Z
UID:10001273-1727719200-1727724600@charlestown.ie
SUMMARY:LGFA - U13 League Semi Final v Burrishoole (home)
DESCRIPTION:
URL:https://charlestown.ie/event/lgfa-u13-league-semi-final-v-burrishoole-home/
LOCATION:Colm’s Pitch
ATTACH;FMTTYPE=image/jpeg:https://charlestown.ie/wp-content/uploads/2024/09/LGFA-Gloves.jpg
END:VEVENT
BEGIN:VEVENT
DTSTART;TZID=Europe/Dublin:20240929T110000
DTEND;TZID=Europe/Dublin:20240929T130000
DTSTAMP:20260424T094136
CREATED:20240922T193127Z
LAST-MODIFIED:20240922T193127Z
UID:10001250-1727607600-1727614800@charlestown.ie
SUMMARY:LGFA - Senior Shield Semi Final v Hollymount (home)
DESCRIPTION:
URL:https://charlestown.ie/event/lgfa-senior-shield-semi-final-v-hollymount-home/
LOCATION:Charlestown Sarsfields GAA grounds\, Lowpark\, Charlestown\, Co. Mayo\, Ireland
CATEGORIES:GAA- LGFA
ATTACH;FMTTYPE=image/jpeg:https://charlestown.ie/wp-content/uploads/2024/09/LGFA-Gloves.jpg
END:VEVENT
BEGIN:VEVENT
DTSTART;TZID=Europe/Dublin:20240928T110000
DTEND;TZID=Europe/Dublin:20240928T130000
DTSTAMP:20260424T094136
CREATED:20240921T172126Z
LAST-MODIFIED:20240921T172126Z
UID:10001237-1727521200-1727528400@charlestown.ie
SUMMARY:LGFA - U15 Div1 League Final v Westport (away)
DESCRIPTION:
URL:https://charlestown.ie/event/lgfa-u15-div1-league-final-v-westport-away/
LOCATION:Centre of Excellence\, Bekan
CATEGORIES:GAA- LGFA
ATTACH;FMTTYPE=image/jpeg:https://charlestown.ie/wp-content/uploads/2024/09/LGFA-Gloves.jpg
END:VEVENT
BEGIN:VEVENT
DTSTART;TZID=Europe/Dublin:20240923T183000
DTEND;TZID=Europe/Dublin:20240923T200000
DTSTAMP:20260424T094136
CREATED:20240917T064236Z
LAST-MODIFIED:20240923T105842Z
UID:10001155-1727116200-1727121600@charlestown.ie
SUMMARY:LGFA - U13 League v Westport B (home)
DESCRIPTION:
URL:https://charlestown.ie/event/lgfa-u13-league-v-westport-b-home/
LOCATION:Charlestown Sarsfields GAA grounds\, Lowpark\, Charlestown\, Co. Mayo\, Ireland
ATTACH;FMTTYPE=image/jpeg:https://charlestown.ie/wp-content/uploads/2024/09/LGFA-Gloves.jpg
END:VEVENT
BEGIN:VEVENT
DTSTART;TZID=Europe/Dublin:20240922T110000
DTEND;TZID=Europe/Dublin:20240922T123000
DTSTAMP:20260424T094136
CREATED:20240916T135338Z
LAST-MODIFIED:20240916T135555Z
UID:10001150-1727002800-1727008200@charlestown.ie
SUMMARY:LGFA - Senior Championship v Burrushoole (home)
DESCRIPTION:
URL:https://charlestown.ie/event/lgfa-senior-championship-v-burrushoole-homee/
LOCATION:Charlestown Sarsfields GAA grounds\, Lowpark\, Charlestown\, Co. Mayo\, Ireland
ATTACH;FMTTYPE=image/jpeg:https://charlestown.ie/wp-content/uploads/2015/06/Charlestown-Aerial-View.jpg
END:VEVENT
BEGIN:VEVENT
DTSTART;TZID=Europe/Dublin:20240918T183000
DTEND;TZID=Europe/Dublin:20240918T193000
DTSTAMP:20260424T094136
CREATED:20240916T125300Z
LAST-MODIFIED:20240916T125300Z
UID:10001148-1726684200-1726687800@charlestown.ie
SUMMARY:LGFA - U18 C'Ship Shield Semi Final v St Brigids (home)
DESCRIPTION:
URL:https://charlestown.ie/event/lgfa-u18-cship-shield-semi-final-v-st-brigids-home/
LOCATION:Charlestown Sarsfields GAA grounds\, Lowpark\, Charlestown\, Co. Mayo\, Ireland
ATTACH;FMTTYPE=image/jpeg:https://charlestown.ie/wp-content/uploads/2015/06/Charlestown-Aerial-View.jpg
END:VEVENT
BEGIN:VEVENT
DTSTART;TZID=Europe/Dublin:20240915T110000
DTEND;TZID=Europe/Dublin:20240915T130000
DTSTAMP:20260424T094136
CREATED:20240913T154115Z
LAST-MODIFIED:20240913T154115Z
UID:10001141-1726398000-1726405200@charlestown.ie
SUMMARY:LGFA - Senior Championship v MacHale Rovers (home)
DESCRIPTION:
URL:https://charlestown.ie/event/lgfa-senior-championship-v-machale-rovers-home/
LOCATION:Charlestown Sarsfields GAA grounds\, Lowpark\, Charlestown\, Co. Mayo\, Ireland
ATTACH;FMTTYPE=image/jpeg:https://charlestown.ie/wp-content/uploads/2024/09/LGFA-Gloves.jpg
END:VEVENT
BEGIN:VEVENT
DTSTART;TZID=Europe/Dublin:20240911T190000
DTEND;TZID=Europe/Dublin:20240911T200000
DTSTAMP:20260424T094136
CREATED:20240908T091803Z
LAST-MODIFIED:20240908T091803Z
UID:10001066-1726081200-1726084800@charlestown.ie
SUMMARY:LGFA - U16 Championship D1 v Castlebar Mitchels (away)
DESCRIPTION:
URL:https://charlestown.ie/event/lgfa-u16-championship-d1-v-castlebar-mitchels-away/
ATTACH;FMTTYPE=image/jpeg:https://charlestown.ie/wp-content/uploads/2015/06/Charlestown-Aerial-View.jpg
END:VEVENT
BEGIN:VEVENT
DTSTART;TZID=Europe/Dublin:20240909T193000
DTEND;TZID=Europe/Dublin:20240909T203000
DTSTAMP:20260424T094136
CREATED:20240908T091607Z
LAST-MODIFIED:20240908T091607Z
UID:10001065-1725910200-1725913800@charlestown.ie
SUMMARY:LGFA - U13 League v Ballyhaunis (home)
DESCRIPTION:
URL:https://charlestown.ie/event/lgfa-u13-league-v-ballyhaunis-home/
LOCATION:Charlestown Sarsfields GAA grounds\, Lowpark\, Charlestown\, Co. Mayo\, Ireland
ATTACH;FMTTYPE=image/jpeg:https://charlestown.ie/wp-content/uploads/2015/06/Charlestown-Aerial-View.jpg
END:VEVENT
BEGIN:VEVENT
DTSTART;TZID=Europe/Dublin:20240908T110000
DTEND;TZID=Europe/Dublin:20240908T130000
DTSTAMP:20260424T094136
CREATED:20240905T204548Z
LAST-MODIFIED:20240905T204548Z
UID:10001061-1725793200-1725800400@charlestown.ie
SUMMARY:LGFA - Senior Club C'Ship v Knockmore (away)
DESCRIPTION:
URL:https://charlestown.ie/event/lgfa-senior-club-cship-v-knockmore-away/
CATEGORIES:GAA- LGFA,Sport
ATTACH;FMTTYPE=image/jpeg:https://charlestown.ie/wp-content/uploads/2015/06/Charlestown-Aerial-View.jpg
END:VEVENT
BEGIN:VEVENT
DTSTART;TZID=Europe/Dublin:20240908T110000
DTEND;TZID=Europe/Dublin:20240908T123000
DTSTAMP:20260424T094136
CREATED:20240905T204907Z
LAST-MODIFIED:20240905T204907Z
UID:10001063-1725793200-1725798600@charlestown.ie
SUMMARY:GAA - U17 League v Swinford (away)
DESCRIPTION:
URL:https://charlestown.ie/event/gaa-u17-league-v-swinford-away/
ATTACH;FMTTYPE=image/jpeg:https://charlestown.ie/wp-content/uploads/2015/06/Charlestown-Aerial-View.jpg
END:VEVENT
BEGIN:VEVENT
DTSTART;TZID=Europe/Dublin:20240906T190000
DTEND;TZID=Europe/Dublin:20240906T203000
DTSTAMP:20260424T094136
CREATED:20240905T204730Z
LAST-MODIFIED:20240905T204730Z
UID:10001062-1725649200-1725654600@charlestown.ie
SUMMARY:LGFA - U15 League v MacHale Rovers (away)
DESCRIPTION:
URL:https://charlestown.ie/event/lgfa-u15-league-v-machale-rovers-away/
ATTACH;FMTTYPE=image/jpeg:https://charlestown.ie/wp-content/uploads/2015/06/Charlestown-Aerial-View.jpg
END:VEVENT
BEGIN:VEVENT
DTSTART;TZID=Europe/Dublin:20240825T110000
DTEND;TZID=Europe/Dublin:20240825T130000
DTSTAMP:20260424T094136
CREATED:20240819T221324Z
LAST-MODIFIED:20240819T221324Z
UID:10001054-1724583600-1724590800@charlestown.ie
SUMMARY:LGFA - Seniors Div 2 Final v Swinford K ( away)
DESCRIPTION:
URL:https://charlestown.ie/event/lgfa-seniors-div-2-final-v-swinford-k-away/
LOCATION:COE\, Bekan\, Co Mayo
ATTACH;FMTTYPE=image/jpeg:https://charlestown.ie/wp-content/uploads/2015/06/Charlestown-Aerial-View.jpg
END:VEVENT
BEGIN:VEVENT
DTSTART;TZID=Europe/Dublin:20240823T190000
DTEND;TZID=Europe/Dublin:20240823T200000
DTSTAMP:20260424T094136
CREATED:20240819T215908Z
LAST-MODIFIED:20240819T215908Z
UID:10001053-1724439600-1724443200@charlestown.ie
SUMMARY:LGFA - U15 League v Westport (Home)
DESCRIPTION:
URL:https://charlestown.ie/event/lgfa-u15-league-v-westport-home/
CATEGORIES:GAA- LGFA
ATTACH;FMTTYPE=image/jpeg:https://charlestown.ie/wp-content/uploads/2015/06/Charlestown-Aerial-View.jpg
END:VEVENT
BEGIN:VEVENT
DTSTART;TZID=Europe/Dublin:20240820T190000
DTEND;TZID=Europe/Dublin:20240820T200000
DTSTAMP:20260424T094136
CREATED:20240819T215747Z
LAST-MODIFIED:20240819T215747Z
UID:10001052-1724180400-1724184000@charlestown.ie
SUMMARY:LGFA - U15 League v Kilmovee(away)
DESCRIPTION:
URL:https://charlestown.ie/event/lgfa-u15-league-v-kilmoveeaway/
CATEGORIES:Community,Sport
ATTACH;FMTTYPE=image/jpeg:https://charlestown.ie/wp-content/uploads/2015/06/Charlestown-Aerial-View.jpg
END:VEVENT
BEGIN:VEVENT
DTSTART;TZID=Europe/Dublin:20240814T190000
DTEND;TZID=Europe/Dublin:20240814T203000
DTSTAMP:20260424T094136
CREATED:20240811T203549Z
LAST-MODIFIED:20240811T203812Z
UID:10001039-1723662000-1723667400@charlestown.ie
SUMMARY:LGFA - U18 Championship v Knockmore (away)
DESCRIPTION:
URL:https://charlestown.ie/event/lgfa-u18-championship-v-knockmore/
ATTACH;FMTTYPE=image/jpeg:https://charlestown.ie/wp-content/uploads/2015/06/Charlestown-Aerial-View.jpg
END:VEVENT
BEGIN:VEVENT
DTSTART;TZID=Europe/Dublin:20240814T190000
DTEND;TZID=Europe/Dublin:20240814T200000
DTSTAMP:20260424T094136
CREATED:20240811T203442Z
LAST-MODIFIED:20240811T203442Z
UID:10001038-1723662000-1723665600@charlestown.ie
SUMMARY:LGFA - U13 League v Hollymount (away)
DESCRIPTION:
URL:https://charlestown.ie/event/lgfa-u13-league-v-hollymount-away-2/
ATTACH;FMTTYPE=image/jpeg:https://charlestown.ie/wp-content/uploads/2015/06/Charlestown-Aerial-View.jpg
END:VEVENT
BEGIN:VEVENT
DTSTART;TZID=Europe/Dublin:20240729T193000
DTEND;TZID=Europe/Dublin:20240729T203000
DTSTAMP:20260424T094136
CREATED:20240727T193246Z
LAST-MODIFIED:20240727T193246Z
UID:10001032-1722281400-1722285000@charlestown.ie
SUMMARY:LGFA - U13 League v Castlebar Mitchels B (Away)
DESCRIPTION:
URL:https://charlestown.ie/event/lgfa-u13-league-v-castlebar-mitchels-b-away/
CATEGORIES:GAA- LGFA,Sport
ATTACH;FMTTYPE=image/jpeg:https://charlestown.ie/wp-content/uploads/2015/06/Charlestown-Aerial-View.jpg
END:VEVENT
BEGIN:VEVENT
DTSTART;TZID=Europe/Dublin:20240724T190000
DTEND;TZID=Europe/Dublin:20240724T200000
DTSTAMP:20260424T094136
CREATED:20240721T092951Z
LAST-MODIFIED:20240721T092951Z
UID:10001020-1721847600-1721851200@charlestown.ie
SUMMARY:LGFA - U13 League v Kilmoremoy (Colm's Pitch)
DESCRIPTION:
URL:https://charlestown.ie/event/lgfa-u13-league-v-kilmoremoy-colms-pitch/
LOCATION:Colm’s Pitch
CATEGORIES:GAA- LGFA,Sport
ATTACH;FMTTYPE=image/jpeg:https://charlestown.ie/wp-content/uploads/2015/06/Charlestown-Aerial-View.jpg
END:VEVENT
END:VCALENDAR