BEGIN:VCALENDAR
VERSION:2.0
PRODID:-//Charlestown - ECPv6.6.4.2//NONSGML v1.0//EN
CALSCALE:GREGORIAN
METHOD:PUBLISH
X-ORIGINAL-URL:https://charlestown.ie
X-WR-CALDESC:Events for Charlestown
REFRESH-INTERVAL;VALUE=DURATION:PT1H
X-Robots-Tag:noindex
X-PUBLISHED-TTL:PT1H
BEGIN:VTIMEZONE
TZID:Europe/Dublin
BEGIN:DAYLIGHT
TZOFFSETFROM:+0000
TZOFFSETTO:+0100
TZNAME:IST
DTSTART:20250330T010000
END:DAYLIGHT
BEGIN:STANDARD
TZOFFSETFROM:+0100
TZOFFSETTO:+0000
TZNAME:GMT
DTSTART:20251026T010000
END:STANDARD
END:VTIMEZONE
BEGIN:VEVENT
DTSTART;TZID=Europe/Dublin:20250718T190000
DTEND;TZID=Europe/Dublin:20250718T193000
DTSTAMP:20260424T050811
CREATED:20250713T175507Z
LAST-MODIFIED:20250713T175507Z
UID:10002098-1752865200-1752867000@charlestown.ie
SUMMARY:LGFA - U18 Div1 C'Ship Rd2 v Balla (away)
DESCRIPTION:
URL:https://charlestown.ie/event/lgfa-u18-div1-cship-rd2-v-balla-away/
CATEGORIES:GAA- LGFA
ATTACH;FMTTYPE=image/jpeg:https://charlestown.ie/wp-content/uploads/2024/09/LGFA-Gloves.jpg
END:VEVENT
BEGIN:VEVENT
DTSTART;TZID=Europe/Dublin:20250714T190000
DTEND;TZID=Europe/Dublin:20250714T203000
DTSTAMP:20260424T050811
CREATED:20250713T175119Z
LAST-MODIFIED:20250713T215842Z
UID:10002097-1752519600-1752525000@charlestown.ie
SUMMARY:LGFA - U15 Development League Rd1 v Westport (away)
DESCRIPTION:
URL:https://charlestown.ie/event/lgfa-u15-league-rd1-v-westport-away/
CATEGORIES:GAA- LGFA
ATTACH;FMTTYPE=image/jpeg:https://charlestown.ie/wp-content/uploads/2024/09/LGFA-Gloves.jpg
END:VEVENT
BEGIN:VEVENT
DTSTART;TZID=Europe/Dublin:20250713T110000
DTEND;TZID=Europe/Dublin:20250713T130000
DTSTAMP:20260424T050811
CREATED:20250708T213000Z
LAST-MODIFIED:20250708T213413Z
UID:10002088-1752404400-1752411600@charlestown.ie
SUMMARY:LGFA - Senior Ladies League v Hollymount (Home)
DESCRIPTION:
URL:https://charlestown.ie/event/lgfa-senior-ladies-league-v-hollymount-home/
LOCATION:Fr. O’ Hara Park\, Charlestown Sarsfields GAA Club\, Lowpark\, Charlestown\, Mayo
ATTACH;FMTTYPE=image/jpeg:https://charlestown.ie/wp-content/uploads/2024/09/LGFA-Gloves.jpg
END:VEVENT
BEGIN:VEVENT
DTSTART;TZID=Europe/Dublin:20250709T190000
DTEND;TZID=Europe/Dublin:20250709T200000
DTSTAMP:20260424T050811
CREATED:20250708T212654Z
LAST-MODIFIED:20250708T212654Z
UID:10002087-1752087600-1752091200@charlestown.ie
SUMMARY:LGFA - U14 'C' C'ship semi final v Knockmore ( away)
DESCRIPTION:
URL:https://charlestown.ie/event/lgfa-u14-c-cship-semi-final-v-knockmore-away/
ATTACH;FMTTYPE=image/jpeg:https://charlestown.ie/wp-content/uploads/2024/09/LGFA-Gloves.jpg
END:VEVENT
BEGIN:VEVENT
DTSTART;TZID=Europe/Dublin:20250702T190000
DTEND;TZID=Europe/Dublin:20250702T203000
DTSTAMP:20260424T050811
CREATED:20250701T184240Z
LAST-MODIFIED:20250701T184240Z
UID:10002084-1751482800-1751488200@charlestown.ie
SUMMARY:LGFA - U18 C'ship v Knockmore (home)
DESCRIPTION:
URL:https://charlestown.ie/event/lgfa-u18-cship-v-knockmore-home/
LOCATION:Fr. O’ Hara Park\, Charlestown Sarsfields GAA Club\, Lowpark\, Charlestown\, Mayo
CATEGORIES:GAA- LGFA
ATTACH;FMTTYPE=image/jpeg:https://charlestown.ie/wp-content/uploads/2024/09/LGFA-Gloves.jpg
END:VEVENT
BEGIN:VEVENT
DTSTART;TZID=Europe/Dublin:20250629T110000
DTEND;TZID=Europe/Dublin:20250629T130000
DTSTAMP:20260424T050811
CREATED:20250626T171836Z
LAST-MODIFIED:20250626T171836Z
UID:10002077-1751194800-1751202000@charlestown.ie
SUMMARY:LGFA - Senior Ladies v Burrishoole (home)
DESCRIPTION:
URL:https://charlestown.ie/event/lgfa-senior-ladies-v-burrishoole-home/
LOCATION:Fr. O’ Hara Park\, Charlestown Sarsfields GAA Club\, Lowpark\, Charlestown\, Mayo
CATEGORIES:GAA- LGFA
ATTACH;FMTTYPE=image/jpeg:https://charlestown.ie/wp-content/uploads/2023/05/LGFA-Logo.jpg
END:VEVENT
BEGIN:VEVENT
DTSTART;VALUE=DATE:20250628
DTEND;VALUE=DATE:20250629
DTSTAMP:20260424T050811
CREATED:20250624T090935Z
LAST-MODIFIED:20250624T090935Z
UID:10002075-1751068800-1751155199@charlestown.ie
SUMMARY:LGFA - U15 All Ireland Féile Competition ( Derry)
DESCRIPTION:
URL:https://charlestown.ie/event/lgfa-u15-all-ireland-feile-competition-derry/
CATEGORIES:GAA- LGFA
ATTACH;FMTTYPE=image/jpeg:https://charlestown.ie/wp-content/uploads/2025/06/Screenshot_20250624_100727_OneDrive.jpg
END:VEVENT
BEGIN:VEVENT
DTSTART;TZID=Europe/Dublin:20250618T190000
DTEND;TZID=Europe/Dublin:20250618T203000
DTSTAMP:20260424T050811
CREATED:20250615T235816Z
LAST-MODIFIED:20250615T235816Z
UID:10002070-1750273200-1750278600@charlestown.ie
SUMMARY:LGFA - U16 League Semi Final v Castlebar(away)
DESCRIPTION:
URL:https://charlestown.ie/event/lgfa-u16-league-semi-final-v-castlebaraway/
CATEGORIES:GAA- LGFA
ATTACH;FMTTYPE=image/jpeg:https://charlestown.ie/wp-content/uploads/2024/09/LGFA-Gloves.jpg
END:VEVENT
BEGIN:VEVENT
DTSTART;TZID=Europe/Dublin:20250618T190000
DTEND;TZID=Europe/Dublin:20250618T203000
DTSTAMP:20260424T050811
CREATED:20250615T235628Z
LAST-MODIFIED:20250615T235628Z
UID:10002069-1750273200-1750278600@charlestown.ie
SUMMARY:LGFA - U14 Championship v Burrishoole ( home)
DESCRIPTION:
URL:https://charlestown.ie/event/lgfa-u14-championship-v-burrishoole-home/
CATEGORIES:GAA- LGFA
ATTACH;FMTTYPE=image/jpeg:https://charlestown.ie/wp-content/uploads/2024/09/LGFA-Gloves.jpg
END:VEVENT
BEGIN:VEVENT
DTSTART;TZID=Europe/Dublin:20250528T190000
DTEND;TZID=Europe/Dublin:20250528T203000
DTSTAMP:20260424T050811
CREATED:20250527T063034Z
LAST-MODIFIED:20250527T063034Z
UID:10001978-1748458800-1748464200@charlestown.ie
SUMMARY:LGFA - U14 League Semi Final v Tourmakeady (away)
DESCRIPTION:
URL:https://charlestown.ie/event/lgfa-u14-league-semi-final-v-tourmakeady-away/
CATEGORIES:GAA- LGFA
ATTACH;FMTTYPE=image/jpeg:https://charlestown.ie/wp-content/uploads/2024/09/LGFA-Gloves.jpg
END:VEVENT
BEGIN:VEVENT
DTSTART;TZID=Europe/Dublin:20250528T180000
DTEND;TZID=Europe/Dublin:20250528T193000
DTSTAMP:20260424T050811
CREATED:20250527T071450Z
LAST-MODIFIED:20250527T071450Z
UID:10002050-1748455200-1748460600@charlestown.ie
SUMMARY:LGFA - U10 League v Claremorris(away)
DESCRIPTION:
URL:https://charlestown.ie/event/lgfa-u10-league-v-claremorrisaway/
CATEGORIES:GAA- LGFA
ATTACH;FMTTYPE=image/jpeg:https://charlestown.ie/wp-content/uploads/2024/09/LGFA-Gloves.jpg
END:VEVENT
BEGIN:VEVENT
DTSTART;TZID=Europe/Dublin:20250526T190000
DTEND;TZID=Europe/Dublin:20250526T203000
DTSTAMP:20260424T050811
CREATED:20250430T132727Z
LAST-MODIFIED:20250521T081142Z
UID:10001857-1748286000-1748291400@charlestown.ie
SUMMARY:LGFA - U16 League v Westport (home)
DESCRIPTION:
URL:https://charlestown.ie/event/lgfa-u16-league-v-westport-home/
LOCATION:Fr. O’ Hara Park\, Charlestown Sarsfields GAA Club\, Lowpark\, Charlestown\, Mayo
CATEGORIES:GAA- LGFA
ATTACH;FMTTYPE=image/jpeg:https://charlestown.ie/wp-content/uploads/2023/05/LGFA-Logo.jpg
END:VEVENT
BEGIN:VEVENT
DTSTART;TZID=Europe/Dublin:20250521T190000
DTEND;TZID=Europe/Dublin:20250521T203000
DTSTAMP:20260424T050811
CREATED:20250430T133300Z
LAST-MODIFIED:20250430T133300Z
UID:10001910-1747854000-1747859400@charlestown.ie
SUMMARY:LGFA - U16 League v MacHale Rovers (home)
DESCRIPTION:
URL:https://charlestown.ie/event/lgfa-u16-league-v-machale-rovers-home/
LOCATION:Colm’s Pitch\, Fr O Hara Park\, Charlestown\, Ireland
CATEGORIES:GAA- LGFA
ATTACH;FMTTYPE=image/jpeg:https://charlestown.ie/wp-content/uploads/2023/05/LGFA-Logo.jpg
END:VEVENT
BEGIN:VEVENT
DTSTART;TZID=Europe/Dublin:20250521T180000
DTEND;TZID=Europe/Dublin:20250521T193000
DTSTAMP:20260424T050811
CREATED:20250519T144712Z
LAST-MODIFIED:20250521T080055Z
UID:10001973-1747850400-1747855800@charlestown.ie
SUMMARY:LGFA - U10 League v Moy Davitts (home)
DESCRIPTION:
URL:https://charlestown.ie/event/lgfa-u10-league-v-moy-davitts-home/
LOCATION:Fr. O’ Hara Park\, Charlestown Sarsfields GAA Club\, Lowpark\, Charlestown\, Mayo
CATEGORIES:GAA- LGFA
ATTACH;FMTTYPE=image/jpeg:https://charlestown.ie/wp-content/uploads/2024/09/LGFA-Gloves.jpg
END:VEVENT
BEGIN:VEVENT
DTSTART;VALUE=DATE:20250518
DTEND;VALUE=DATE:20250519
DTSTAMP:20260424T050811
CREATED:20250516T100645Z
LAST-MODIFIED:20250516T100645Z
UID:10001967-1747526400-1747612799@charlestown.ie
SUMMARY:LGFA - U15 Feile Charlestown Division 1 Competition (Tourmakeady)
DESCRIPTION:Feile competition taking place this Sunday 18th May in Tourmakeady \nWinnrs of Div1 represent Mayo in the National Feile competition.
URL:https://charlestown.ie/event/lgfa-u15-feile-charlestown-division-1-competition-tourmakeady/
CATEGORIES:GAA- LGFA
ATTACH;FMTTYPE=image/jpeg:https://charlestown.ie/wp-content/uploads/2024/09/LGFA-Gloves.jpg
END:VEVENT
BEGIN:VEVENT
DTSTART;TZID=Europe/Dublin:20250516T200000
DTEND;TZID=Europe/Dublin:20250516T210000
DTSTAMP:20260424T050811
CREATED:20250512T175308Z
LAST-MODIFIED:20250512T175308Z
UID:10001963-1747425600-1747429200@charlestown.ie
SUMMARY:LGFA - Senior Ladies v Parke(home)
DESCRIPTION:
URL:https://charlestown.ie/event/lgfa-senior-ladies-v-parkehome/
LOCATION:Colm’s Pitch\, Fr O Hara Park\, Charlestown\, Ireland
CATEGORIES:GAA- LGFA
ATTACH;FMTTYPE=image/jpeg:https://charlestown.ie/wp-content/uploads/2023/05/LGFA-Logo.jpg
END:VEVENT
BEGIN:VEVENT
DTSTART;TZID=Europe/Dublin:20250514T190000
DTEND;TZID=Europe/Dublin:20250514T203000
DTSTAMP:20260424T050811
CREATED:20250430T133137Z
LAST-MODIFIED:20250430T133137Z
UID:10001909-1747249200-1747254600@charlestown.ie
SUMMARY:LGFA U16 League v Swinford (away)
DESCRIPTION:
URL:https://charlestown.ie/event/lgfa-u16-league-v-swinford-away/
CATEGORIES:GAA- LGFA
ATTACH;FMTTYPE=image/jpeg:https://charlestown.ie/wp-content/uploads/2023/05/LGFA-Logo.jpg
END:VEVENT
BEGIN:VEVENT
DTSTART;TZID=Europe/Dublin:20250512T190000
DTEND;TZID=Europe/Dublin:20250512T203000
DTSTAMP:20260424T050811
CREATED:20250403T211332Z
LAST-MODIFIED:20250430T202929Z
UID:10001854-1747076400-1747081800@charlestown.ie
SUMMARY:LGFA - U14 League v Louisburg (away)
DESCRIPTION:
URL:https://charlestown.ie/event/lgfa-u14-league-v-louisburg-away/
ATTACH;FMTTYPE=image/jpeg:https://charlestown.ie/wp-content/uploads/2024/09/LGFA-Gloves.jpg
END:VEVENT
BEGIN:VEVENT
DTSTART;TZID=Europe/Dublin:20250512T183000
DTEND;TZID=Europe/Dublin:20250512T193000
DTSTAMP:20260424T050811
CREATED:20250511T203007Z
LAST-MODIFIED:20250511T203007Z
UID:10001962-1747074600-1747078200@charlestown.ie
SUMMARY:LGFA - U12 League v Aghamore(away)
DESCRIPTION:
URL:https://charlestown.ie/event/lgfa-u12-league-v-aghamoreaway/
CATEGORIES:GAA- LGFA
ATTACH;FMTTYPE=image/jpeg:https://charlestown.ie/wp-content/uploads/2024/09/LGFA-Gloves.jpg
END:VEVENT
BEGIN:VEVENT
DTSTART;TZID=Europe/Dublin:20250511T110000
DTEND;TZID=Europe/Dublin:20250511T123000
DTSTAMP:20260424T050811
CREATED:20250508T225913Z
LAST-MODIFIED:20250508T225913Z
UID:10001960-1746961200-1746966600@charlestown.ie
SUMMARY:LGFA - Seniors Ladies League v Swinford (away)
DESCRIPTION:
URL:https://charlestown.ie/event/lgfa-seniors-ladies-league-v-swinford-away/
CATEGORIES:GAA- LGFA
ATTACH;FMTTYPE=image/jpeg:https://charlestown.ie/wp-content/uploads/2023/05/LGFA-Logo.jpg
END:VEVENT
BEGIN:VEVENT
DTSTART;TZID=Europe/Dublin:20250504T110000
DTEND;TZID=Europe/Dublin:20250504T130000
DTSTAMP:20260424T050811
CREATED:20250430T133504Z
LAST-MODIFIED:20250430T133504Z
UID:10001948-1746356400-1746363600@charlestown.ie
SUMMARY:LGFA Snr Ladies League v Kilmovee (away)
DESCRIPTION:
URL:https://charlestown.ie/event/lgfa-snr-ladies-league-v-kilmovee-away/
CATEGORIES:GAA- LGFA
ATTACH;FMTTYPE=image/jpeg:https://charlestown.ie/wp-content/uploads/2023/05/LGFA-Logo.jpg
END:VEVENT
BEGIN:VEVENT
DTSTART;TZID=Europe/Dublin:20250430T190000
DTEND;TZID=Europe/Dublin:20250430T200000
DTSTAMP:20260424T050811
CREATED:20250430T132952Z
LAST-MODIFIED:20250430T132952Z
UID:10001856-1746039600-1746043200@charlestown.ie
SUMMARY:LGFA - U12 League v Balla(home)
DESCRIPTION:
URL:https://charlestown.ie/event/lgfa-u12-league-v-ballahome/
LOCATION:Fr. O’ Hara Park\, Charlestown Sarsfields GAA Club\, Lowpark\, Charlestown\, Mayo
CATEGORIES:GAA- LGFA
ATTACH;FMTTYPE=image/jpeg:https://charlestown.ie/wp-content/uploads/2024/09/LGFA-Gloves.jpg
END:VEVENT
BEGIN:VEVENT
DTSTART;TZID=Europe/Dublin:20250423T183000
DTEND;TZID=Europe/Dublin:20250423T200000
DTSTAMP:20260424T050811
CREATED:20250403T211241Z
LAST-MODIFIED:20250403T211241Z
UID:10001853-1745433000-1745438400@charlestown.ie
SUMMARY:LGFA - U14 League v Kilmovee (home)
DESCRIPTION:
URL:https://charlestown.ie/event/lgfa-u14-league-v-kilmovee-home/
LOCATION:Colm’s Pitch\, Fr O Hara Park\, Charlestown\, Ireland
CATEGORIES:GAA- LGFA
ATTACH;FMTTYPE=image/jpeg:https://charlestown.ie/wp-content/uploads/2024/09/LGFA-Gloves.jpg
END:VEVENT
BEGIN:VEVENT
DTSTART;TZID=Europe/Dublin:20250421T160000
DTEND;TZID=Europe/Dublin:20250421T173000
DTSTAMP:20260424T050811
CREATED:20250407T151431Z
LAST-MODIFIED:20250407T151854Z
UID:10001938-1745251200-1745256600@charlestown.ie
SUMMARY:LGFA U16 Connacht C'ship Mayo v Sligo (Colm's Pitch)
DESCRIPTION:
URL:https://charlestown.ie/event/lgfa-connacht-cship-mayo-v-sligo-colms-pitch/
LOCATION:Colm’s Pitch\, Fr O Hara Park\, Charlestown\, Ireland
CATEGORIES:GAA- LGFA
ATTACH;FMTTYPE=image/jpeg:https://charlestown.ie/wp-content/uploads/2025/04/Screenshot_20250406_151340_Facebook.jpg
END:VEVENT
BEGIN:VEVENT
DTSTART;TZID=Europe/Dublin:20250420T110000
DTEND;TZID=Europe/Dublin:20250420T143000
DTSTAMP:20260424T050811
CREATED:20250417T072438Z
LAST-MODIFIED:20250417T072438Z
UID:10001944-1745146800-1745159400@charlestown.ie
SUMMARY:LGFA - Seniors v Burrishoole ( home)
DESCRIPTION:
URL:https://charlestown.ie/event/lgfa-seniors-v-burrishoole-home/
LOCATION:Colm’s Pitch\, Fr O Hara Park\, Charlestown\, Ireland
ATTACH;FMTTYPE=image/jpeg:https://charlestown.ie/wp-content/uploads/2023/05/LGFA-Logo.jpg
END:VEVENT
BEGIN:VEVENT
DTSTART;TZID=Europe/Dublin:20250413T110000
DTEND;TZID=Europe/Dublin:20250413T130000
DTSTAMP:20260424T050811
CREATED:20250323T125936Z
LAST-MODIFIED:20250412T221751Z
UID:10001850-1744542000-1744549200@charlestown.ie
SUMMARY:LGFA - Seniors League v Westport (away)
DESCRIPTION:
URL:https://charlestown.ie/event/lgfa-pj-loftus-seniors-league-v-westport-away/
CATEGORIES:GAA- LGFA
ATTACH;FMTTYPE=image/jpeg:https://charlestown.ie/wp-content/uploads/2023/05/LGFA-Logo.jpg
END:VEVENT
BEGIN:VEVENT
DTSTART;TZID=Europe/Dublin:20250409T190000
DTEND;TZID=Europe/Dublin:20250409T203000
DTSTAMP:20260424T050811
CREATED:20250406T141737Z
LAST-MODIFIED:20250406T141737Z
UID:10001930-1744225200-1744230600@charlestown.ie
SUMMARY:LGFA - Connacht Minor C'Ship Mayo v Leitrim ( Colm's Pitch)
DESCRIPTION:
URL:https://charlestown.ie/event/lgfa-connacht-minor-cship-mayo-v-leitrim-colms-pitch/
LOCATION:Colm’s Pitch\, Fr O Hara Park\, Charlestown\, Ireland
CATEGORIES:GAA- LGFA
ATTACH;FMTTYPE=image/jpeg:https://charlestown.ie/wp-content/uploads/2025/04/Screenshot_20250406_151340_Facebook.jpg
END:VEVENT
BEGIN:VEVENT
DTSTART;TZID=Europe/Dublin:20250409T183000
DTEND;TZID=Europe/Dublin:20250409T193000
DTSTAMP:20260424T050811
CREATED:20250403T211053Z
LAST-MODIFIED:20250407T173505Z
UID:10001852-1744223400-1744227000@charlestown.ie
SUMMARY:LGFA - U14 League v Westport B (away)
DESCRIPTION:
URL:https://charlestown.ie/event/lgfa-u14-league-v-westport-b-away/
CATEGORIES:GAA- LGFA
ATTACH;FMTTYPE=image/jpeg:https://charlestown.ie/wp-content/uploads/2024/09/LGFA-Gloves.jpg
END:VEVENT
BEGIN:VEVENT
DTSTART;TZID=Europe/Dublin:20250406T110000
DTEND;TZID=Europe/Dublin:20250406T130000
DTSTAMP:20260424T050811
CREATED:20250323T125826Z
LAST-MODIFIED:20250323T125826Z
UID:10001849-1743937200-1743944400@charlestown.ie
SUMMARY:LGFA - PJ Loftus Seniors League v Castlebar A (home)
DESCRIPTION:
URL:https://charlestown.ie/event/lgfa-pj-loftus-seniors-league-v-castlebar-a-home/
LOCATION:Charlestown Sarsfields GAA grounds\, Lowpark\, Charlestown\, Co. Mayo\, Ireland
CATEGORIES:GAA- LGFA
ATTACH;FMTTYPE=image/jpeg:https://charlestown.ie/wp-content/uploads/2023/05/LGFA-Logo.jpg
END:VEVENT
BEGIN:VEVENT
DTSTART;TZID=Europe/Dublin:20250404T183000
DTEND;TZID=Europe/Dublin:20250404T200000
DTSTAMP:20260424T050811
CREATED:20250317T195214Z
LAST-MODIFIED:20250317T195214Z
UID:10001846-1743791400-1743796800@charlestown.ie
SUMMARY:LGFA - U16 Star League v Swinford (home)
DESCRIPTION:
URL:https://charlestown.ie/event/lgfa-u16-star-league-v-swinford-home/
LOCATION:Charlestown Sarsfields GAA grounds\, Lowpark\, Charlestown\, Co. Mayo\, Ireland
CATEGORIES:GAA- LGFA
ATTACH;FMTTYPE=image/jpeg:https://charlestown.ie/wp-content/uploads/2024/09/LGFA-Gloves.jpg
END:VEVENT
END:VCALENDAR