BEGIN:VCALENDAR
VERSION:2.0
PRODID:-//Charlestown - ECPv6.6.4.2//NONSGML v1.0//EN
CALSCALE:GREGORIAN
METHOD:PUBLISH
X-ORIGINAL-URL:https://charlestown.ie
X-WR-CALDESC:Events for Charlestown
REFRESH-INTERVAL;VALUE=DURATION:PT1H
X-Robots-Tag:noindex
X-PUBLISHED-TTL:PT1H
BEGIN:VTIMEZONE
TZID:Europe/Dublin
BEGIN:DAYLIGHT
TZOFFSETFROM:+0000
TZOFFSETTO:+0100
TZNAME:IST
DTSTART:20230326T010000
END:DAYLIGHT
BEGIN:STANDARD
TZOFFSETFROM:+0100
TZOFFSETTO:+0000
TZNAME:GMT
DTSTART:20231029T010000
END:STANDARD
END:VTIMEZONE
BEGIN:VEVENT
DTSTART;TZID=Europe/Dublin:20230520T110000
DTEND;TZID=Europe/Dublin:20230520T120000
DTSTAMP:20260424T202723
CREATED:20230515T170359Z
LAST-MODIFIED:20230517T131057Z
UID:10000616-1684580400-1684584000@charlestown.ie
SUMMARY:LGFA - U14 League D1 v Knockmore(home)
DESCRIPTION:
URL:https://charlestown.ie/event/lgfa-u14-d1-v-knockmorehome/
LOCATION:Charlestown Sarsfields GAA grounds\, Lowpark\, Charlestown\, Co. Mayo\, Ireland
CATEGORIES:Children,GAA- LGFA,Sport
END:VEVENT
BEGIN:VEVENT
DTSTART;TZID=Europe/Dublin:20230517T190000
DTEND;TZID=Europe/Dublin:20230517T200000
DTSTAMP:20260424T202723
CREATED:20230515T165521Z
LAST-MODIFIED:20230515T165521Z
UID:10000612-1684350000-1684353600@charlestown.ie
SUMMARY:LGFA - U14 League v Hollymount (away)
DESCRIPTION:
URL:https://charlestown.ie/event/lgfa-u14-league-v-hollymount-away/
CATEGORIES:Children,GAA- LGFA,Sport
END:VEVENT
BEGIN:VEVENT
DTSTART;TZID=Europe/Dublin:20230503T190000
DTEND;TZID=Europe/Dublin:20230503T200000
DTSTAMP:20260424T202723
CREATED:20230430T210755Z
LAST-MODIFIED:20230501T122910Z
UID:10000597-1683140400-1683144000@charlestown.ie
SUMMARY:LGFA - U12 League v Moy Davitts (home)
DESCRIPTION:
URL:https://charlestown.ie/event/lgfa-u12-league-v-moy-davitts-home/
LOCATION:Charlestown Sarsfields GAA grounds\, Lowpark\, Charlestown\, Co. Mayo\, Ireland
CATEGORIES:GAA- LGFA,Sport
ATTACH;FMTTYPE=image/jpeg:https://charlestown.ie/wp-content/uploads/2023/04/LGFA-Logo.jpg
END:VEVENT
BEGIN:VEVENT
DTSTART;TZID=Europe/Dublin:20230430T110000
DTEND;TZID=Europe/Dublin:20230430T120000
DTSTAMP:20260424T202723
CREATED:20230424T171158Z
LAST-MODIFIED:20230424T171158Z
UID:10000593-1682852400-1682856000@charlestown.ie
SUMMARY:LGFA - Senior Ladies v Burrishoole A (home)
DESCRIPTION:PJ Loftus Memorial League \nSunday 30/04/2023 \nFr O Hara Pitch\, Charlestown \n11am \n 
URL:https://charlestown.ie/event/lgfa-senior-ladies-v-burrishoole-a-home/
LOCATION:Charlestown Sarsfields GAA grounds\, Lowpark\, Charlestown\, Co. Mayo\, Ireland
CATEGORIES:Adult Sport,GAA- LGFA
ATTACH;FMTTYPE=image/jpeg:https://charlestown.ie/wp-content/uploads/2023/04/LGFA-Logo.jpg
END:VEVENT
BEGIN:VEVENT
DTSTART;TZID=Europe/Dublin:20230423T123000
DTEND;TZID=Europe/Dublin:20230423T140000
DTSTAMP:20260424T202723
CREATED:20230421T151525Z
LAST-MODIFIED:20230421T151525Z
UID:10000589-1682253000-1682258400@charlestown.ie
SUMMARY:LGFA - U16 League Final v Balla (away)
DESCRIPTION:Venue:  COE\, Bekan \nDate : Sunday 23rd April \nTime: 12.30pm \n 
URL:https://charlestown.ie/event/lgfa-u16-league-final-v-balla-away/
LOCATION:Centre of Excellence\, Bekan
CATEGORIES:Children,GAA- LGFA,Sport
ATTACH;FMTTYPE=image/jpeg:https://charlestown.ie/wp-content/uploads/2023/04/LGFA-Logo.jpg
END:VEVENT
BEGIN:VEVENT
DTSTART;TZID=Europe/Dublin:20230419T183000
DTEND;TZID=Europe/Dublin:20230419T193000
DTSTAMP:20260424T202723
CREATED:20230414T180409Z
LAST-MODIFIED:20230414T180409Z
UID:10000580-1681929000-1681932600@charlestown.ie
SUMMARY:LGFA - U16 Division 2 Semi Final v Knockmore (home)
DESCRIPTION:Date: Wednesday 19th April \nTime: 6.30pm \nVenue : Fr O Hara Park\, Charlestown
URL:https://charlestown.ie/event/lgfa-u16-division-2-semi-final-v-knockmore-home/
LOCATION:Charlestown Sarsfields GAA grounds\, Lowpark\, Charlestown\, Co. Mayo\, Ireland
END:VEVENT
BEGIN:VEVENT
DTSTART;TZID=Europe/Dublin:20230417T183000
DTEND;TZID=Europe/Dublin:20230417T203000
DTSTAMP:20260424T202723
CREATED:20230414T180109Z
LAST-MODIFIED:20230414T180109Z
UID:10000579-1681756200-1681763400@charlestown.ie
SUMMARY:LGFA - U12 League v Kilmovee (away)
DESCRIPTION:Venue  – Ballaghaderreen Pitch \nTime: 6.30pm \nDate : Monday 17th April
URL:https://charlestown.ie/event/lgfa-u12-league-v-kilmovee-away/
END:VEVENT
BEGIN:VEVENT
DTSTART;TZID=Europe/Dublin:20230415T180000
DTEND;TZID=Europe/Dublin:20230415T193000
DTSTAMP:20260424T202723
CREATED:20230414T074638Z
LAST-MODIFIED:20230414T074638Z
UID:10000578-1681581600-1681587000@charlestown.ie
SUMMARY:LGFA - U18 Minor Final v Swinford (away)
DESCRIPTION:Date: Saturday 15th April \nTime: 6pm \nVenue : Swinford Amenity Pitch \n 
URL:https://charlestown.ie/event/lgfa-u18-minor-final-v-swinford-away/
END:VEVENT
BEGIN:VEVENT
DTSTART;TZID=Europe/Dublin:20230412T183000
DTEND;TZID=Europe/Dublin:20230412T200000
DTSTAMP:20260424T202723
CREATED:20230410T191408Z
LAST-MODIFIED:20230412T130513Z
UID:10000577-1681324200-1681329600@charlestown.ie
SUMMARY:LGFA - U16 League Semi Final v Knockmore (home)** POSTPONED**
DESCRIPTION:** POST PONED DUE TO WATERLOGGED PITCH** \nNew Date to be organised \n  \n  \nFr O Hara Park \n6.30pm \nWednesday 12th April \n  \n 
URL:https://charlestown.ie/event/lgfa-u16-league-semi-final-v-knockmore-home/
LOCATION:Charlestown Sarsfields GAA grounds\, Lowpark\, Charlestown\, Co. Mayo\, Ireland
END:VEVENT
BEGIN:VEVENT
DTSTART;TZID=Europe/Dublin:20230405T183000
DTEND;TZID=Europe/Dublin:20230405T203000
DTSTAMP:20260424T202723
CREATED:20230403T220528Z
LAST-MODIFIED:20230403T220528Z
UID:10000574-1680719400-1680726600@charlestown.ie
SUMMARY:LGFA U18 League Semi Final v Belmullet (away)
DESCRIPTION:League Semi Final v Belmullet \nWednesday 5th April \n6.30pm
URL:https://charlestown.ie/event/lgfa-u18-league-semi-final-v-belmullet-away/
CATEGORIES:Children,GAA- LGFA,Sport
END:VEVENT
BEGIN:VEVENT
DTSTART;TZID=Europe/Dublin:20230401T173000
DTEND;TZID=Europe/Dublin:20230401T173000
DTSTAMP:20260424T202723
CREATED:20230329T104726Z
LAST-MODIFIED:20230401T072103Z
UID:10000567-1680370200-1680370200@charlestown.ie
SUMMARY:LGFA - U16 League v St Brigids (home)
DESCRIPTION:Fr O Hara Park \nU16 League v St Brigids – 11am – Sunday 02 April \n 
URL:https://charlestown.ie/event/lgfa-u16-league-v-st-brigids-home/
END:VEVENT
BEGIN:VEVENT
DTSTART;TZID=Europe/Dublin:20230329T173000
DTEND;TZID=Europe/Dublin:20230329T183000
DTSTAMP:20260424T202723
CREATED:20230329T111009Z
LAST-MODIFIED:20230329T111009Z
UID:10000568-1680111000-1680114600@charlestown.ie
SUMMARY:LGFA - U18 League v Kilmeena (home)
DESCRIPTION:
URL:https://charlestown.ie/event/lgfa-u18-league-v-kilmeena-home/
LOCATION:Charlestown Sarsfields GAA grounds\, Lowpark\, Charlestown\, Co. Mayo\, Ireland
END:VEVENT
END:VCALENDAR