BEGIN:VCALENDAR
VERSION:2.0
PRODID:-//Charlestown - ECPv6.6.4.2//NONSGML v1.0//EN
CALSCALE:GREGORIAN
METHOD:PUBLISH
X-ORIGINAL-URL:https://charlestown.ie
X-WR-CALDESC:Events for Charlestown
REFRESH-INTERVAL;VALUE=DURATION:PT1H
X-Robots-Tag:noindex
X-PUBLISHED-TTL:PT1H
BEGIN:VTIMEZONE
TZID:Europe/Dublin
BEGIN:DAYLIGHT
TZOFFSETFROM:+0000
TZOFFSETTO:+0100
TZNAME:IST
DTSTART:20230326T010000
END:DAYLIGHT
BEGIN:STANDARD
TZOFFSETFROM:+0100
TZOFFSETTO:+0000
TZNAME:GMT
DTSTART:20231029T010000
END:STANDARD
END:VTIMEZONE
BEGIN:VEVENT
DTSTART;TZID=Europe/Dublin:20230804T190000
DTEND;TZID=Europe/Dublin:20230804T203000
DTSTAMP:20260424T174921
CREATED:20230714T201844Z
LAST-MODIFIED:20230731T205543Z
UID:10000686-1691175600-1691181000@charlestown.ie
SUMMARY:LGFA - U16 Championship Rd 3 v Parke KC (away)
DESCRIPTION:
URL:https://charlestown.ie/event/lgfa-u16-championship-round-3-v-parke-kc-away-time-tbc/
CATEGORIES:Children,Community,GAA- LGFA,Sport
END:VEVENT
BEGIN:VEVENT
DTSTART;TZID=Europe/Dublin:20230802T190000
DTEND;TZID=Europe/Dublin:20230802T203000
DTSTAMP:20260424T174921
CREATED:20230722T194531Z
LAST-MODIFIED:20230731T205429Z
UID:10000709-1691002800-1691008200@charlestown.ie
SUMMARY:LGFA - U18 Div 1 Championship v Claremorris (home)
DESCRIPTION:
URL:https://charlestown.ie/event/lgfa-u18-div-1-championship-v-claremorris-home-time-tbc/
LOCATION:Charlestown Sarsfields GAA grounds\, Lowpark\, Charlestown\, Co. Mayo\, Ireland
CATEGORIES:Children,Community,GAA- LGFA,Sport
END:VEVENT
BEGIN:VEVENT
DTSTART;TZID=Europe/Dublin:20230731T190000
DTEND;TZID=Europe/Dublin:20230731T200000
DTSTAMP:20260424T174921
CREATED:20230731T125046Z
LAST-MODIFIED:20230731T125046Z
UID:10000718-1690830000-1690833600@charlestown.ie
SUMMARY:LGFA - U13 League v Hollymount (away)
DESCRIPTION:
URL:https://charlestown.ie/event/lgfa-u13-league-v-hollymount-away/
CATEGORIES:Children,Family Event,GAA- LGFA,Sport
END:VEVENT
BEGIN:VEVENT
DTSTART;TZID=Europe/Dublin:20230728T190000
DTEND;TZID=Europe/Dublin:20230728T203000
DTSTAMP:20260424T174921
CREATED:20230722T194312Z
LAST-MODIFIED:20230724T094231Z
UID:10000708-1690570800-1690576200@charlestown.ie
SUMMARY:LGFA  - U18 Div 1 Championship v Westport (home)
DESCRIPTION:
URL:https://charlestown.ie/event/lgfa-u18-div-1-championship-v-westport-home-time-tbc/
LOCATION:Charlestown Sarsfields GAA grounds\, Lowpark\, Charlestown\, Co. Mayo\, Ireland
CATEGORIES:Children,Community,GAA- LGFA,Sport
END:VEVENT
BEGIN:VEVENT
DTSTART;TZID=Europe/Dublin:20230724T190000
DTEND;TZID=Europe/Dublin:20230724T203000
DTSTAMP:20260424T174921
CREATED:20230722T193456Z
LAST-MODIFIED:20230722T193456Z
UID:10000706-1690225200-1690230600@charlestown.ie
SUMMARY:LGFA - U18 Division 1 Championship v Parke (away)
DESCRIPTION:
URL:https://charlestown.ie/event/lgfa-u18-division-1-championship-v-parke-away/
CATEGORIES:Children,Community,GAA- LGFA,Sport
END:VEVENT
BEGIN:VEVENT
DTSTART;TZID=Europe/Dublin:20230723T123000
DTEND;TZID=Europe/Dublin:20230723T140000
DTSTAMP:20260424T174921
CREATED:20230717T142329Z
LAST-MODIFIED:20230720T192640Z
UID:10000700-1690115400-1690120800@charlestown.ie
SUMMARY:LGFA - U14 Div 1 Championship Final v Westport (away)
DESCRIPTION:Finals held in Bekan\, COE \nSunday 23 July \n12.30pm \n  \n€5 Admission Fee
URL:https://charlestown.ie/event/lgfa-u14-div-1-championship-final-v-westport-away/
CATEGORIES:Children,Community,GAA- LGFA,Sport
END:VEVENT
BEGIN:VEVENT
DTSTART;TZID=Europe/Dublin:20230719T190000
DTEND;TZID=Europe/Dublin:20230719T203000
DTSTAMP:20260424T174921
CREATED:20230714T201751Z
LAST-MODIFIED:20230717T142135Z
UID:10000685-1689793200-1689798600@charlestown.ie
SUMMARY:LGFA - U16 Championship (Round 2) v Westport A (home)
DESCRIPTION:
URL:https://charlestown.ie/event/lgfa-u16-championship-round-2-v-westport-a-home-time-tbc/
LOCATION:Charlestown Sarsfields GAA grounds\, Lowpark\, Charlestown\, Co. Mayo\, Ireland
CATEGORIES:Children,Community,GAA- LGFA,Sport
END:VEVENT
BEGIN:VEVENT
DTSTART;TZID=Europe/Dublin:20230714T190000
DTEND;TZID=Europe/Dublin:20230714T203000
DTSTAMP:20260424T174921
CREATED:20230707T124045Z
LAST-MODIFIED:20230711T103012Z
UID:10000691-1689361200-1689366600@charlestown.ie
SUMMARY:LGFA - U14 Championship Semi Final v Castlebar Mitchels (home)
DESCRIPTION:
URL:https://charlestown.ie/event/lgfa-u14-championship-v-castlebar-mitchels-home/
LOCATION:Charlestown Sarsfields GAA grounds\, Lowpark\, Charlestown\, Co. Mayo\, Ireland
CATEGORIES:Children,Family Event,GAA- LGFA,Sport
END:VEVENT
BEGIN:VEVENT
DTSTART;TZID=Europe/Dublin:20230714T190000
DTEND;TZID=Europe/Dublin:20230714T200000
DTSTAMP:20260424T174921
CREATED:20230702T150505Z
LAST-MODIFIED:20230702T160029Z
UID:10000675-1689361200-1689364800@charlestown.ie
SUMMARY:LGFA - Memorial League Senior Ladies v Carnacon A (away)
DESCRIPTION:
URL:https://charlestown.ie/event/lgfa-senior-ladies-v-carnacon-a-away/
CATEGORIES:Community,GAA- LGFA,Sport
END:VEVENT
BEGIN:VEVENT
DTSTART;TZID=Europe/Dublin:20230709T180000
DTEND;TZID=Europe/Dublin:20230709T190000
DTSTAMP:20260424T174921
CREATED:20230703T155646Z
LAST-MODIFIED:20230703T160112Z
UID:10000684-1688925600-1688929200@charlestown.ie
SUMMARY:LGFA - U16 Championship (Round 1) v Swinford (away)
DESCRIPTION:
URL:https://charlestown.ie/event/lgfa-u16-championship-v-swinford-away/
CATEGORIES:Children,Community,GAA- LGFA,Sport
END:VEVENT
BEGIN:VEVENT
DTSTART;TZID=Europe/Dublin:20230707T193000
DTEND;TZID=Europe/Dublin:20230707T203000
DTSTAMP:20260424T174921
CREATED:20230623T083435Z
LAST-MODIFIED:20230623T083435Z
UID:10000656-1688758200-1688761800@charlestown.ie
SUMMARY:LGFA - Memorial League Senior Ladies v Knockmore (away)
DESCRIPTION:
URL:https://charlestown.ie/event/lgfa-memorial-league-senior-ladies-v-knockmore-away/
CATEGORIES:Adult Sport,Children,GAA- LGFA,Sport
END:VEVENT
BEGIN:VEVENT
DTSTART;TZID=Europe/Dublin:20230706T201500
DTEND;TZID=Europe/Dublin:20230706T213000
DTSTAMP:20260424T174921
CREATED:20230703T084030Z
LAST-MODIFIED:20230703T084030Z
UID:10000676-1688674500-1688679000@charlestown.ie
SUMMARY:LGFA - U14 Championship v Hollymount (home)
DESCRIPTION:
URL:https://charlestown.ie/event/lgfa-u14-championship-v-hollymount-home/
LOCATION:Charlestown Sarsfields GAA grounds\, Lowpark\, Charlestown\, Co. Mayo\, Ireland
END:VEVENT
BEGIN:VEVENT
DTSTART;TZID=Europe/Dublin:20230630T180000
DTEND;TZID=Europe/Dublin:20230630T200000
DTSTAMP:20260424T174921
CREATED:20230629T151206Z
LAST-MODIFIED:20230629T151206Z
UID:10000674-1688148000-1688155200@charlestown.ie
SUMMARY:LGFA - U8 & U10s Game v Swinford (away)
DESCRIPTION:U8 @ 6PM \nU10 @7PM \n  \nSwinford Amenity Pitch
URL:https://charlestown.ie/event/lgfa-u8-u10s-game-v-swinford-away/
END:VEVENT
BEGIN:VEVENT
DTSTART;TZID=Europe/Dublin:20230628T190000
DTEND;TZID=Europe/Dublin:20230628T203000
DTSTAMP:20260424T174921
CREATED:20230626T104108Z
LAST-MODIFIED:20230626T104108Z
UID:10000666-1687978800-1687984200@charlestown.ie
SUMMARY:LGFA - U14 Div 1 Championship v Swinford (away)
DESCRIPTION:Venue – Swinford
URL:https://charlestown.ie/event/lgfa-u14-div-1-championship-v-swinford-away/
CATEGORIES:Children,Community,GAA- LGFA,Sport
END:VEVENT
BEGIN:VEVENT
DTSTART;TZID=Europe/Dublin:20230621T190000
DTEND;TZID=Europe/Dublin:20230621T203000
DTSTAMP:20260424T174921
CREATED:20230619T154701Z
LAST-MODIFIED:20230619T154701Z
UID:10000650-1687374000-1687379400@charlestown.ie
SUMMARY:LGFA - U14 Championship - Charlestown v MacHale Rovers (home)
DESCRIPTION:
URL:https://charlestown.ie/event/lgfa-u14-championship-charlestown-v-machale-rovers-home/
LOCATION:Charlestown Sarsfields GAA grounds\, Lowpark\, Charlestown\, Co. Mayo\, Ireland
CATEGORIES:Children,GAA- LGFA,Sport
END:VEVENT
BEGIN:VEVENT
DTSTART;TZID=Europe/Dublin:20230617T170000
DTEND;TZID=Europe/Dublin:20230617T183000
DTSTAMP:20260424T174921
CREATED:20230613T225458Z
LAST-MODIFIED:20230613T225458Z
UID:10000646-1687021200-1687026600@charlestown.ie
SUMMARY:LGFA - Memorial League (Senior Ladies) v Louisburg (home)
DESCRIPTION:
URL:https://charlestown.ie/event/lgfa-memorial-league-senior-ladies-v-louisburg-home/
LOCATION:Charlestown Sarsfields GAA grounds\, Lowpark\, Charlestown\, Co. Mayo\, Ireland
CATEGORIES:GAA- LGFA,Sport
END:VEVENT
BEGIN:VEVENT
DTSTART;TZID=Europe/Dublin:20230531T190000
DTEND;TZID=Europe/Dublin:20230531T200000
DTSTAMP:20260424T174921
CREATED:20230531T064301Z
LAST-MODIFIED:20230531T064301Z
UID:10000633-1685559600-1685563200@charlestown.ie
SUMMARY:LGFA - U14 League Semi Final v Belmullet (home)
DESCRIPTION:
URL:https://charlestown.ie/event/lgfa-u14-league-semi-final-v-belmullet-home/
LOCATION:Charlestown Sarsfields GAA grounds\, Lowpark\, Charlestown\, Co. Mayo\, Ireland
CATEGORIES:Children,GAA- LGFA,Sport
ATTACH;FMTTYPE=image/jpeg:https://charlestown.ie/wp-content/uploads/2023/05/LGFA-Logo.jpg
END:VEVENT
BEGIN:VEVENT
DTSTART;TZID=Europe/Dublin:20230524T193000
DTEND;TZID=Europe/Dublin:20230524T203000
DTSTAMP:20260424T174921
CREATED:20230521T200544Z
LAST-MODIFIED:20230521T200544Z
UID:10000620-1684956600-1684960200@charlestown.ie
SUMMARY:LGFA - U12 Grading League 2 v Belmullet (home)
DESCRIPTION:
URL:https://charlestown.ie/event/lgfa-u12-grading-league-2-v-belmullet-home/
LOCATION:Charlestown Sarsfields GAA grounds\, Lowpark\, Charlestown\, Co. Mayo\, Ireland
CATEGORIES:Children,GAA- LGFA,Sport
ATTACH;FMTTYPE=image/jpeg:https://charlestown.ie/wp-content/uploads/2023/05/LGFA-Logo.jpg
END:VEVENT
BEGIN:VEVENT
DTSTART;TZID=Europe/Dublin:20230524T183000
DTEND;TZID=Europe/Dublin:20230524T193000
DTSTAMP:20260424T174921
CREATED:20230522T121952Z
LAST-MODIFIED:20230522T121952Z
UID:10000621-1684953000-1684956600@charlestown.ie
SUMMARY:LGFA - U10 Challenge v Swinford (home)
DESCRIPTION:
URL:https://charlestown.ie/event/lgfa-u10-challenge-v-swinford-home/
LOCATION:Charlestown Sarsfields GAA grounds\, Lowpark\, Charlestown\, Co. Mayo\, Ireland
CATEGORIES:Children,GAA- LGFA,Sport
ATTACH;FMTTYPE=image/jpeg:https://charlestown.ie/wp-content/uploads/2023/05/LGFA-Logo.jpg
END:VEVENT
BEGIN:VEVENT
DTSTART;TZID=Europe/Dublin:20230522T190000
DTEND;TZID=Europe/Dublin:20230522T200000
DTSTAMP:20260424T174921
CREATED:20230521T200217Z
LAST-MODIFIED:20230521T200217Z
UID:10000619-1684782000-1684785600@charlestown.ie
SUMMARY:LGFA - U12 Grading League 2 v Ballinrobe (away)
DESCRIPTION:
URL:https://charlestown.ie/event/lgfa-u12-grading-league-2-v-ballinrobe-away/
CATEGORIES:Children,GAA- LGFA,Sport
ATTACH;FMTTYPE=image/jpeg:https://charlestown.ie/wp-content/uploads/2023/05/LGFA-Logo.jpg
END:VEVENT
BEGIN:VEVENT
DTSTART;TZID=Europe/Dublin:20230520T110000
DTEND;TZID=Europe/Dublin:20230520T120000
DTSTAMP:20260424T174921
CREATED:20230515T170359Z
LAST-MODIFIED:20230517T131057Z
UID:10000616-1684580400-1684584000@charlestown.ie
SUMMARY:LGFA - U14 League D1 v Knockmore(home)
DESCRIPTION:
URL:https://charlestown.ie/event/lgfa-u14-d1-v-knockmorehome/
LOCATION:Charlestown Sarsfields GAA grounds\, Lowpark\, Charlestown\, Co. Mayo\, Ireland
CATEGORIES:Children,GAA- LGFA,Sport
END:VEVENT
BEGIN:VEVENT
DTSTART;TZID=Europe/Dublin:20230517T190000
DTEND;TZID=Europe/Dublin:20230517T200000
DTSTAMP:20260424T174921
CREATED:20230515T165521Z
LAST-MODIFIED:20230515T165521Z
UID:10000612-1684350000-1684353600@charlestown.ie
SUMMARY:LGFA - U14 League v Hollymount (away)
DESCRIPTION:
URL:https://charlestown.ie/event/lgfa-u14-league-v-hollymount-away/
CATEGORIES:Children,GAA- LGFA,Sport
END:VEVENT
BEGIN:VEVENT
DTSTART;TZID=Europe/Dublin:20230503T190000
DTEND;TZID=Europe/Dublin:20230503T200000
DTSTAMP:20260424T174921
CREATED:20230430T210755Z
LAST-MODIFIED:20230501T122910Z
UID:10000597-1683140400-1683144000@charlestown.ie
SUMMARY:LGFA - U12 League v Moy Davitts (home)
DESCRIPTION:
URL:https://charlestown.ie/event/lgfa-u12-league-v-moy-davitts-home/
LOCATION:Charlestown Sarsfields GAA grounds\, Lowpark\, Charlestown\, Co. Mayo\, Ireland
CATEGORIES:GAA- LGFA,Sport
ATTACH;FMTTYPE=image/jpeg:https://charlestown.ie/wp-content/uploads/2023/04/LGFA-Logo.jpg
END:VEVENT
BEGIN:VEVENT
DTSTART;TZID=Europe/Dublin:20230430T110000
DTEND;TZID=Europe/Dublin:20230430T120000
DTSTAMP:20260424T174921
CREATED:20230424T171158Z
LAST-MODIFIED:20230424T171158Z
UID:10000593-1682852400-1682856000@charlestown.ie
SUMMARY:LGFA - Senior Ladies v Burrishoole A (home)
DESCRIPTION:PJ Loftus Memorial League \nSunday 30/04/2023 \nFr O Hara Pitch\, Charlestown \n11am \n 
URL:https://charlestown.ie/event/lgfa-senior-ladies-v-burrishoole-a-home/
LOCATION:Charlestown Sarsfields GAA grounds\, Lowpark\, Charlestown\, Co. Mayo\, Ireland
CATEGORIES:Adult Sport,GAA- LGFA
ATTACH;FMTTYPE=image/jpeg:https://charlestown.ie/wp-content/uploads/2023/04/LGFA-Logo.jpg
END:VEVENT
BEGIN:VEVENT
DTSTART;TZID=Europe/Dublin:20230423T123000
DTEND;TZID=Europe/Dublin:20230423T140000
DTSTAMP:20260424T174921
CREATED:20230421T151525Z
LAST-MODIFIED:20230421T151525Z
UID:10000589-1682253000-1682258400@charlestown.ie
SUMMARY:LGFA - U16 League Final v Balla (away)
DESCRIPTION:Venue:  COE\, Bekan \nDate : Sunday 23rd April \nTime: 12.30pm \n 
URL:https://charlestown.ie/event/lgfa-u16-league-final-v-balla-away/
LOCATION:Centre of Excellence\, Bekan
CATEGORIES:Children,GAA- LGFA,Sport
ATTACH;FMTTYPE=image/jpeg:https://charlestown.ie/wp-content/uploads/2023/04/LGFA-Logo.jpg
END:VEVENT
BEGIN:VEVENT
DTSTART;TZID=Europe/Dublin:20230419T183000
DTEND;TZID=Europe/Dublin:20230419T193000
DTSTAMP:20260424T174921
CREATED:20230414T180409Z
LAST-MODIFIED:20230414T180409Z
UID:10000580-1681929000-1681932600@charlestown.ie
SUMMARY:LGFA - U16 Division 2 Semi Final v Knockmore (home)
DESCRIPTION:Date: Wednesday 19th April \nTime: 6.30pm \nVenue : Fr O Hara Park\, Charlestown
URL:https://charlestown.ie/event/lgfa-u16-division-2-semi-final-v-knockmore-home/
LOCATION:Charlestown Sarsfields GAA grounds\, Lowpark\, Charlestown\, Co. Mayo\, Ireland
END:VEVENT
BEGIN:VEVENT
DTSTART;TZID=Europe/Dublin:20230417T183000
DTEND;TZID=Europe/Dublin:20230417T203000
DTSTAMP:20260424T174921
CREATED:20230414T180109Z
LAST-MODIFIED:20230414T180109Z
UID:10000579-1681756200-1681763400@charlestown.ie
SUMMARY:LGFA - U12 League v Kilmovee (away)
DESCRIPTION:Venue  – Ballaghaderreen Pitch \nTime: 6.30pm \nDate : Monday 17th April
URL:https://charlestown.ie/event/lgfa-u12-league-v-kilmovee-away/
END:VEVENT
BEGIN:VEVENT
DTSTART;TZID=Europe/Dublin:20230415T180000
DTEND;TZID=Europe/Dublin:20230415T193000
DTSTAMP:20260424T174921
CREATED:20230414T074638Z
LAST-MODIFIED:20230414T074638Z
UID:10000578-1681581600-1681587000@charlestown.ie
SUMMARY:LGFA - U18 Minor Final v Swinford (away)
DESCRIPTION:Date: Saturday 15th April \nTime: 6pm \nVenue : Swinford Amenity Pitch \n 
URL:https://charlestown.ie/event/lgfa-u18-minor-final-v-swinford-away/
END:VEVENT
BEGIN:VEVENT
DTSTART;TZID=Europe/Dublin:20230412T183000
DTEND;TZID=Europe/Dublin:20230412T200000
DTSTAMP:20260424T174921
CREATED:20230410T191408Z
LAST-MODIFIED:20230412T130513Z
UID:10000577-1681324200-1681329600@charlestown.ie
SUMMARY:LGFA - U16 League Semi Final v Knockmore (home)** POSTPONED**
DESCRIPTION:** POST PONED DUE TO WATERLOGGED PITCH** \nNew Date to be organised \n  \n  \nFr O Hara Park \n6.30pm \nWednesday 12th April \n  \n 
URL:https://charlestown.ie/event/lgfa-u16-league-semi-final-v-knockmore-home/
LOCATION:Charlestown Sarsfields GAA grounds\, Lowpark\, Charlestown\, Co. Mayo\, Ireland
END:VEVENT
BEGIN:VEVENT
DTSTART;TZID=Europe/Dublin:20230405T183000
DTEND;TZID=Europe/Dublin:20230405T203000
DTSTAMP:20260424T174921
CREATED:20230403T220528Z
LAST-MODIFIED:20230403T220528Z
UID:10000574-1680719400-1680726600@charlestown.ie
SUMMARY:LGFA U18 League Semi Final v Belmullet (away)
DESCRIPTION:League Semi Final v Belmullet \nWednesday 5th April \n6.30pm
URL:https://charlestown.ie/event/lgfa-u18-league-semi-final-v-belmullet-away/
CATEGORIES:Children,GAA- LGFA,Sport
END:VEVENT
END:VCALENDAR