BEGIN:VCALENDAR
VERSION:2.0
PRODID:-//Charlestown - ECPv6.6.4.2//NONSGML v1.0//EN
CALSCALE:GREGORIAN
METHOD:PUBLISH
X-WR-CALNAME:Charlestown
X-ORIGINAL-URL:https://charlestown.ie
X-WR-CALDESC:Events for Charlestown
REFRESH-INTERVAL;VALUE=DURATION:PT1H
X-Robots-Tag:noindex
X-PUBLISHED-TTL:PT1H
BEGIN:VTIMEZONE
TZID:Europe/Dublin
BEGIN:DAYLIGHT
TZOFFSETFROM:+0000
TZOFFSETTO:+0100
TZNAME:IST
DTSTART:20250330T010000
END:DAYLIGHT
BEGIN:STANDARD
TZOFFSETFROM:+0100
TZOFFSETTO:+0000
TZNAME:GMT
DTSTART:20251026T010000
END:STANDARD
END:VTIMEZONE
BEGIN:VEVENT
DTSTART;TZID=Europe/Dublin:20250710T190000
DTEND;TZID=Europe/Dublin:20250710T203000
DTSTAMP:20260424T044631
CREATED:20250708T213333Z
LAST-MODIFIED:20250708T213333Z
UID:10002089-1752174000-1752179400@charlestown.ie
SUMMARY:GAA - U14 East Mayo Development Final v Swinford ( away)
DESCRIPTION:
URL:https://charlestown.ie/event/gaa-u14-east-mayo-development-final-v-swinford-away/
LOCATION:Centre of Excellence\, Bekan
ATTACH;FMTTYPE=image/jpeg:https://charlestown.ie/wp-content/uploads/2015/06/Charlestown-Aerial-View.jpg
END:VEVENT
BEGIN:VEVENT
DTSTART;TZID=Europe/Dublin:20250704T190000
DTEND;TZID=Europe/Dublin:20250704T203000
DTSTAMP:20260424T044631
CREATED:20250630T164122Z
LAST-MODIFIED:20250630T164122Z
UID:10002082-1751655600-1751661000@charlestown.ie
SUMMARY:GAA - U14 East Mayo C'ship v Ballaghaderreen (Home)
DESCRIPTION:
URL:https://charlestown.ie/event/gaa-u14-east-mayo-cship-v-ballaghaderreen-home/
LOCATION:Fr. O’ Hara Park\, Charlestown Sarsfields GAA Club\, Lowpark\, Charlestown\, Mayo
CATEGORIES:GAA- LGFA
ATTACH;FMTTYPE=image/jpeg:https://charlestown.ie/wp-content/uploads/2024/09/Screenshot_20240923_154557_Adobe-Acrobat.jpg
END:VEVENT
BEGIN:VEVENT
DTSTART;TZID=Europe/Dublin:20250703T190000
DTEND;TZID=Europe/Dublin:20250703T203000
DTSTAMP:20260424T044631
CREATED:20250630T163730Z
LAST-MODIFIED:20250630T163730Z
UID:10002081-1751569200-1751574600@charlestown.ie
SUMMARY:GAA - U16 "A" East Mayo C'Ship v Swinford (Home)
DESCRIPTION:
URL:https://charlestown.ie/event/gaa-u16-a-east-mayo-cship-v-swinford-home/
LOCATION:Colm’s Pitch
CATEGORIES:GAA- LGFA
ATTACH;FMTTYPE=image/jpeg:https://charlestown.ie/wp-content/uploads/2024/09/Screenshot_20240923_154557_Adobe-Acrobat.jpg
END:VEVENT
BEGIN:VEVENT
DTSTART;TZID=Europe/Dublin:20250628T110000
DTEND;TZID=Europe/Dublin:20250628T130000
DTSTAMP:20260424T044631
CREATED:20250624T090445Z
LAST-MODIFIED:20250624T090445Z
UID:10002074-1751108400-1751115600@charlestown.ie
SUMMARY:GAA - U14 Dev C'ship v Kilmovee (home)
DESCRIPTION:
URL:https://charlestown.ie/event/gaa-u14-dev-cship-v-kilmovee-home/
LOCATION:Fr. O’ Hara Park\, Charlestown Sarsfields GAA Club\, Lowpark\, Charlestown\, Mayo
CATEGORIES:GAA- LGFA
ATTACH;FMTTYPE=image/jpeg:https://charlestown.ie/wp-content/uploads/2024/09/Screenshot_20240923_154557_Adobe-Acrobat.jpg
END:VEVENT
BEGIN:VEVENT
DTSTART;TZID=Europe/Dublin:20250626T190000
DTEND;TZID=Europe/Dublin:20250626T203000
DTSTAMP:20260424T044631
CREATED:20250615T235325Z
LAST-MODIFIED:20250615T235325Z
UID:10002068-1750964400-1750969800@charlestown.ie
SUMMARY:GAA - U16 A Championship v Ballaghadereen/Kilmovee (away)
DESCRIPTION:
URL:https://charlestown.ie/event/gaa-u16-a-championship-v-ballaghadereen-kilmovee-away/
CATEGORIES:GAA- LGFA
ATTACH;FMTTYPE=image/jpeg:https://charlestown.ie/wp-content/uploads/2024/09/Screenshot_20240923_154557_Adobe-Acrobat.jpg
END:VEVENT
BEGIN:VEVENT
DTSTART;TZID=Europe/Dublin:20250625T190000
DTEND;TZID=Europe/Dublin:20250625T203000
DTSTAMP:20260424T044631
CREATED:20250615T235049Z
LAST-MODIFIED:20250615T235049Z
UID:10002067-1750878000-1750883400@charlestown.ie
SUMMARY:GAA - U12 Div1 Summer League v Westport ( home)
DESCRIPTION:
URL:https://charlestown.ie/event/gaa-u12-div1-summer-league-v-westport-home/
LOCATION:Fr. O’ Hara Park\, Charlestown Sarsfields GAA Club\, Lowpark\, Charlestown\, Mayo
CATEGORIES:GAA- LGFA
ATTACH;FMTTYPE=image/jpeg:https://charlestown.ie/wp-content/uploads/2024/09/Screenshot_20240923_154557_Adobe-Acrobat.jpg
END:VEVENT
BEGIN:VEVENT
DTSTART;TZID=Europe/Dublin:20250624T190000
DTEND;TZID=Europe/Dublin:20250624T203000
DTSTAMP:20260424T044631
CREATED:20250615T234723Z
LAST-MODIFIED:20250615T234723Z
UID:10002066-1750791600-1750797000@charlestown.ie
SUMMARY:GAA - U18 Minor B Championship v Swinford (Away)
DESCRIPTION:
URL:https://charlestown.ie/event/gaa-u18-minor-b-championship-v-swinford-away/
CATEGORIES:GAA- LGFA
ATTACH;FMTTYPE=image/jpeg:https://charlestown.ie/wp-content/uploads/2024/09/Screenshot_20240923_154557_Adobe-Acrobat.jpg
END:VEVENT
BEGIN:VEVENT
DTSTART;TZID=Europe/Dublin:20250623T190000
DTEND;TZID=Europe/Dublin:20250623T203000
DTSTAMP:20260424T044631
CREATED:20250615T231110Z
LAST-MODIFIED:20250615T231110Z
UID:10002065-1750705200-1750710600@charlestown.ie
SUMMARY:GAA - U14 A Championship v Swinford (Away)
DESCRIPTION:
URL:https://charlestown.ie/event/gaa-u14-a-championship-v-swinford-away/
CATEGORIES:GAA- LGFA
ATTACH;FMTTYPE=image/jpeg:https://charlestown.ie/wp-content/uploads/2015/06/Charlestown-Aerial-View.jpg
END:VEVENT
BEGIN:VEVENT
DTSTART;TZID=Europe/Dublin:20250618T190000
DTEND;TZID=Europe/Dublin:20250618T203000
DTSTAMP:20260424T044631
CREATED:20250615T230626Z
LAST-MODIFIED:20250615T230626Z
UID:10002064-1750273200-1750278600@charlestown.ie
SUMMARY:GAA - U12 Summer League Div1 v Castlebar (Away)
DESCRIPTION:
URL:https://charlestown.ie/event/gaa-u12-summer-league-div1-v-castlebar-away/
CATEGORIES:GAA- LGFA
ATTACH;FMTTYPE=image/jpeg:https://charlestown.ie/wp-content/uploads/2024/09/Screenshot_20240923_154557_Adobe-Acrobat.jpg
END:VEVENT
BEGIN:VEVENT
DTSTART;TZID=Europe/Dublin:20250616T190000
DTEND;TZID=Europe/Dublin:20250616T203000
DTSTAMP:20260424T044631
CREATED:20250615T230425Z
LAST-MODIFIED:20250615T230940Z
UID:10002063-1750100400-1750105800@charlestown.ie
SUMMARY:GAA - U14 A Championship v Moy Davitts ( Home)
DESCRIPTION:
URL:https://charlestown.ie/event/gaa-u14-league-v-moy-davitts-home/
LOCATION:Fr. O’ Hara Park\, Charlestown Sarsfields GAA Club\, Lowpark\, Charlestown\, Mayo
CATEGORIES:GAA- LGFA
ATTACH;FMTTYPE=image/jpeg:https://charlestown.ie/wp-content/uploads/2024/09/Screenshot_20240923_154557_Adobe-Acrobat.jpg
END:VEVENT
BEGIN:VEVENT
DTSTART;TZID=Europe/Dublin:20250609T190000
DTEND;TZID=Europe/Dublin:20250609T203000
DTSTAMP:20260424T044631
CREATED:20250606T095652Z
LAST-MODIFIED:20250606T095652Z
UID:10002060-1749495600-1749501000@charlestown.ie
SUMMARY:GAA - U14 Div 3 League Final v Louisburg (away)
DESCRIPTION:
URL:https://charlestown.ie/event/gaa-u14-div-3-league-final-v-louisburg-away/
CATEGORIES:GAA- LGFA
ATTACH;FMTTYPE=image/jpeg:https://charlestown.ie/wp-content/uploads/2024/09/Screenshot_20240923_154557_Adobe-Acrobat.jpg
END:VEVENT
BEGIN:VEVENT
DTSTART;TZID=Europe/Dublin:20250602T190000
DTEND;TZID=Europe/Dublin:20250602T203000
DTSTAMP:20260424T044631
CREATED:20250530T213731Z
LAST-MODIFIED:20250530T213731Z
UID:10002051-1748890800-1748896200@charlestown.ie
SUMMARY:GAA - U14 Div3 League Semi Final v Ardnaree (Home)
DESCRIPTION:
URL:https://charlestown.ie/event/gaa-u14-div3-league-semi-final-v-ardnaree-home/
LOCATION:Fr. O’ Hara Park\, Charlestown Sarsfields GAA Club\, Lowpark\, Charlestown\, Mayo
CATEGORIES:GAA- LGFA
ATTACH;FMTTYPE=image/jpeg:https://charlestown.ie/wp-content/uploads/2024/09/Screenshot_20240923_154557_Adobe-Acrobat.jpg
END:VEVENT
BEGIN:VEVENT
DTSTART;TZID=Europe/Dublin:20250529T190000
DTEND;TZID=Europe/Dublin:20250529T203000
DTSTAMP:20260424T044631
CREATED:20250527T063459Z
LAST-MODIFIED:20250527T063459Z
UID:10001980-1748545200-1748550600@charlestown.ie
SUMMARY:GAA - U16 Div2 League Final v Ballinrobe(away)
DESCRIPTION:
URL:https://charlestown.ie/event/gaa-u16-div2-league-final-v-ballinrobeaway/
CATEGORIES:GAA- LGFA
ATTACH;FMTTYPE=image/jpeg:https://charlestown.ie/wp-content/uploads/2024/09/Screenshot_20240923_154557_Adobe-Acrobat.jpg
END:VEVENT
BEGIN:VEVENT
DTSTART;TZID=Europe/Dublin:20250528T190000
DTEND;TZID=Europe/Dublin:20250528T203000
DTSTAMP:20260424T044631
CREATED:20250521T210754Z
LAST-MODIFIED:20250521T210754Z
UID:10001975-1748458800-1748464200@charlestown.ie
SUMMARY:GAA - U12 Spring League v Aghamore (home)
DESCRIPTION:
URL:https://charlestown.ie/event/gaa-u12-spring-league-v-aghamore-home-2/
LOCATION:Fr. O’ Hara Park\, Charlestown Sarsfields GAA Club\, Lowpark\, Charlestown\, Mayo
CATEGORIES:GAA- LGFA
ATTACH;FMTTYPE=image/jpeg:https://charlestown.ie/wp-content/uploads/2024/09/Screenshot_20240923_154557_Adobe-Acrobat.jpg
END:VEVENT
BEGIN:VEVENT
DTSTART;TZID=Europe/Dublin:20250528T190000
DTEND;TZID=Europe/Dublin:20250528T200000
DTSTAMP:20260424T044631
CREATED:20250527T063308Z
LAST-MODIFIED:20250527T063308Z
UID:10001979-1748458800-1748462400@charlestown.ie
SUMMARY:GAA - U12 Spring League v Aghamore (home)
DESCRIPTION:
URL:https://charlestown.ie/event/gaa-u12-spring-league-v-aghamore-home-3/
LOCATION:Fr. O’ Hara Park\, Charlestown Sarsfields GAA Club\, Lowpark\, Charlestown\, Mayo
CATEGORIES:GAA- LGFA
ATTACH;FMTTYPE=image/jpeg:https://charlestown.ie/wp-content/uploads/2024/09/Screenshot_20240923_154557_Adobe-Acrobat.jpg
END:VEVENT
BEGIN:VEVENT
DTSTART;TZID=Europe/Dublin:20250522T190000
DTEND;TZID=Europe/Dublin:20250522T203000
DTSTAMP:20260424T044631
CREATED:20250518T213604Z
LAST-MODIFIED:20250521T210201Z
UID:10001971-1747940400-1747945800@charlestown.ie
SUMMARY:GAA - U16 League Div3 Cup Semi - Final v St Jarlaths (home)
DESCRIPTION:
URL:https://charlestown.ie/event/gaa-u16-league-div3-cup-final-v-st-jarlaths-home/
LOCATION:Fr. O’ Hara Park\, Charlestown Sarsfields GAA Club\, Lowpark\, Charlestown\, Mayo
CATEGORIES:GAA- LGFA
ATTACH;FMTTYPE=image/jpeg:https://charlestown.ie/wp-content/uploads/2024/09/Screenshot_20240923_154557_Adobe-Acrobat.jpg
END:VEVENT
BEGIN:VEVENT
DTSTART;TZID=Europe/Dublin:20250521T190000
DTEND;TZID=Europe/Dublin:20250521T203000
DTSTAMP:20260424T044631
CREATED:20250518T213331Z
LAST-MODIFIED:20250521T075044Z
UID:10001968-1747854000-1747859400@charlestown.ie
SUMMARY:GAA - U12 Spring League v Carras (away)
DESCRIPTION:
URL:https://charlestown.ie/event/gaa-u12-spring-league-v-carras-away/
CATEGORIES:GAA- LGFA
ATTACH;FMTTYPE=image/jpeg:https://charlestown.ie/wp-content/uploads/2024/09/Screenshot_20240923_154557_Adobe-Acrobat.jpg
END:VEVENT
BEGIN:VEVENT
DTSTART;TZID=Europe/Dublin:20250520T190000
DTEND;TZID=Europe/Dublin:20250520T203000
DTSTAMP:20260424T044631
CREATED:20250518T213131Z
LAST-MODIFIED:20250521T075847Z
UID:10001969-1747767600-1747773000@charlestown.ie
SUMMARY:GAA - U16 Dev League v Belmullet (home)
DESCRIPTION:
URL:https://charlestown.ie/event/gaa-u16-dev-league-v-belmullet-home/
LOCATION:Fr. O’ Hara Park\, Charlestown Sarsfields GAA Club\, Lowpark\, Charlestown\, Mayo
CATEGORIES:GAA- LGFA
ATTACH;FMTTYPE=image/jpeg:https://charlestown.ie/wp-content/uploads/2024/09/Screenshot_20240923_154557_Adobe-Acrobat.jpg
END:VEVENT
BEGIN:VEVENT
DTSTART;TZID=Europe/Dublin:20250518T120000
DTEND;TZID=Europe/Dublin:20250518T130000
DTSTAMP:20260424T044631
CREATED:20250513T104049Z
LAST-MODIFIED:20250513T104049Z
UID:10001966-1747569600-1747573200@charlestown.ie
SUMMARY:GAA - U16 Dev League v Naomh Padraig ( away)
DESCRIPTION:
URL:https://charlestown.ie/event/gaa-u16-dev-league-v-naomh-padraig-away/
CATEGORIES:GAA- LGFA
ATTACH;FMTTYPE=image/jpeg:https://charlestown.ie/wp-content/uploads/2024/09/Screenshot_20240923_154557_Adobe-Acrobat.jpg
END:VEVENT
BEGIN:VEVENT
DTSTART;TZID=Europe/Dublin:20250517T110000
DTEND;TZID=Europe/Dublin:20250517T123000
DTSTAMP:20260424T044631
CREATED:20250513T103727Z
LAST-MODIFIED:20250513T103727Z
UID:10001965-1747479600-1747485000@charlestown.ie
SUMMARY:GAA - U14 Dev League v Claremorris (away)
DESCRIPTION:
URL:https://charlestown.ie/event/gaa-u14-dev-league-v-claremorris-away/
CATEGORIES:GAA- LGFA
ATTACH;FMTTYPE=image/jpeg:https://charlestown.ie/wp-content/uploads/2024/09/Screenshot_20240923_154557_Adobe-Acrobat.jpg
END:VEVENT
BEGIN:VEVENT
DTSTART;TZID=Europe/Dublin:20250514T190000
DTEND;TZID=Europe/Dublin:20250514T200000
DTSTAMP:20260424T044631
CREATED:20250513T103556Z
LAST-MODIFIED:20250513T103556Z
UID:10001964-1747249200-1747252800@charlestown.ie
SUMMARY:GAA - U12 v Kilmeena ( home)
DESCRIPTION:
URL:https://charlestown.ie/event/gaa-u12-v-kilmeena-home/
LOCATION:Colm’s Pitch\, Fr O Hara Park\, Charlestown\, Ireland
CATEGORIES:GAA- LGFA
ATTACH;FMTTYPE=image/jpeg:https://charlestown.ie/wp-content/uploads/2024/09/Screenshot_20240923_154557_Adobe-Acrobat.jpg
END:VEVENT
BEGIN:VEVENT
DTSTART;TZID=Europe/Dublin:20250511T110000
DTEND;TZID=Europe/Dublin:20250511T130000
DTSTAMP:20260424T044631
CREATED:20250508T225346Z
LAST-MODIFIED:20250508T225346Z
UID:10001957-1746961200-1746968400@charlestown.ie
SUMMARY:GAA - U16 Dev League Rd 3 v Belmullet ( home)
DESCRIPTION:
URL:https://charlestown.ie/event/gaa-u16-dev-league-rd-3-v-belmullet-home/
LOCATION:Colm’s Pitch\, Fr O Hara Park\, Charlestown\, Ireland
CATEGORIES:GAA- LGFA
ATTACH;FMTTYPE=image/jpeg:https://charlestown.ie/wp-content/uploads/2024/09/Screenshot_20240923_154557_Adobe-Acrobat.jpg
END:VEVENT
BEGIN:VEVENT
DTSTART;TZID=Europe/Dublin:20250510T123000
DTEND;TZID=Europe/Dublin:20250510T133000
DTSTAMP:20260424T044631
CREATED:20250508T225656Z
LAST-MODIFIED:20250508T225656Z
UID:10001959-1746880200-1746883800@charlestown.ie
SUMMARY:GAA - U15 Féile v Kiltimagh (home)
DESCRIPTION:
URL:https://charlestown.ie/event/gaa-u15-feile-v-kiltimagh-home/
LOCATION:Colm’s Pitch\, Fr O Hara Park\, Charlestown\, Ireland
CATEGORIES:GAA- LGFA
ATTACH;FMTTYPE=image/jpeg:https://charlestown.ie/wp-content/uploads/2024/09/Screenshot_20240923_154557_Adobe-Acrobat.jpg
END:VEVENT
BEGIN:VEVENT
DTSTART;TZID=Europe/Dublin:20250510T110000
DTEND;TZID=Europe/Dublin:20250510T123000
DTSTAMP:20260424T044631
CREATED:20250508T225518Z
LAST-MODIFIED:20250508T225518Z
UID:10001958-1746874800-1746880200@charlestown.ie
SUMMARY:GAA - U15 Féile v Hollymount (home)
DESCRIPTION:
URL:https://charlestown.ie/event/gaa-u15-feile-v-hollymount-home/
LOCATION:Colm’s Pitch\, Fr O Hara Park\, Charlestown\, Ireland
CATEGORIES:GAA- LGFA
ATTACH;FMTTYPE=image/jpeg:https://charlestown.ie/wp-content/uploads/2024/09/Screenshot_20240923_154557_Adobe-Acrobat.jpg
END:VEVENT
BEGIN:VEVENT
DTSTART;TZID=Europe/Dublin:20250501T190000
DTEND;TZID=Europe/Dublin:20250501T203000
DTSTAMP:20260424T044631
CREATED:20250430T133957Z
LAST-MODIFIED:20250430T133957Z
UID:10001950-1746126000-1746131400@charlestown.ie
SUMMARY:GAA - U16 League Div2 v St Jarlaths ( away)
DESCRIPTION:
URL:https://charlestown.ie/event/gaa-u16-league-div2-v-st-jarlaths-away/
CATEGORIES:GAA- LGFA
ATTACH;FMTTYPE=image/jpeg:https://charlestown.ie/wp-content/uploads/2024/09/Screenshot_20240923_154557_Adobe-Acrobat.jpg
END:VEVENT
BEGIN:VEVENT
DTSTART;TZID=Europe/Dublin:20250430T190000
DTEND;TZID=Europe/Dublin:20250430T190000
DTSTAMP:20260424T044631
CREATED:20250430T133734Z
LAST-MODIFIED:20250430T133734Z
UID:10001949-1746039600-1746039600@charlestown.ie
SUMMARY:GAA - U12 Spring League v Burrishoole (away)
DESCRIPTION:
URL:https://charlestown.ie/event/gaa-u12-spring-league-v-burrishoole-away/
CATEGORIES:GAA- LGFA
ATTACH;FMTTYPE=image/jpeg:https://charlestown.ie/wp-content/uploads/2024/09/Screenshot_20240923_154557_Adobe-Acrobat.jpg
END:VEVENT
BEGIN:VEVENT
DTSTART;TZID=Europe/Dublin:20250415T190000
DTEND;TZID=Europe/Dublin:20250415T203000
DTSTAMP:20260424T044631
CREATED:20250317T173807Z
LAST-MODIFIED:20250317T173807Z
UID:10001844-1744743600-1744749000@charlestown.ie
SUMMARY:GAA - Minor League Div4 v Louisburg (home)
DESCRIPTION:
URL:https://charlestown.ie/event/gaa-minor-league-div4-v-louisburg-home/
LOCATION:Charlestown Sarsfields GAA grounds\, Lowpark\, Charlestown\, Co. Mayo\, Ireland
ATTACH;FMTTYPE=image/jpeg:https://charlestown.ie/wp-content/uploads/2024/09/Screenshot_20240923_154557_Adobe-Acrobat.jpg
END:VEVENT
BEGIN:VEVENT
DTSTART;TZID=Europe/Dublin:20250414T190000
DTEND;TZID=Europe/Dublin:20250414T203000
DTSTAMP:20260424T044631
CREATED:20250317T173623Z
LAST-MODIFIED:20250317T173623Z
UID:10001843-1744657200-1744662600@charlestown.ie
SUMMARY:GAA - U14 League Div3 v Shrule (home)
DESCRIPTION:
URL:https://charlestown.ie/event/gaa-u14-league-div3-v-shrule-home/
LOCATION:Charlestown Sarsfields GAA grounds\, Lowpark\, Charlestown\, Co. Mayo\, Ireland
ATTACH;FMTTYPE=image/jpeg:https://charlestown.ie/wp-content/uploads/2024/09/Screenshot_20240923_154557_Adobe-Acrobat.jpg
END:VEVENT
BEGIN:VEVENT
DTSTART;TZID=Europe/Dublin:20250413T110000
DTEND;TZID=Europe/Dublin:20250413T133000
DTSTAMP:20260424T044631
CREATED:20250317T173435Z
LAST-MODIFIED:20250317T173435Z
UID:10001842-1744542000-1744551000@charlestown.ie
SUMMARY:GAA - U16 Dev League v Swinford (home)
DESCRIPTION:
URL:https://charlestown.ie/event/gaa-u16-dev-league-v-swinford-home/
LOCATION:Charlestown Sarsfields GAA grounds\, Lowpark\, Charlestown\, Co. Mayo\, Ireland
ATTACH;FMTTYPE=image/jpeg:https://charlestown.ie/wp-content/uploads/2024/09/Screenshot_20240923_154557_Adobe-Acrobat.jpg
END:VEVENT
BEGIN:VEVENT
DTSTART;TZID=Europe/Dublin:20250412T110000
DTEND;TZID=Europe/Dublin:20250412T133000
DTSTAMP:20260424T044631
CREATED:20250317T173253Z
LAST-MODIFIED:20250317T173253Z
UID:10001841-1744455600-1744464600@charlestown.ie
SUMMARY:GAA - U14 Dev League v Kilmovee (home)
DESCRIPTION:
URL:https://charlestown.ie/event/gaa-u14-dev-league-v-kilmovee-home/
LOCATION:Charlestown Sarsfields GAA grounds\, Lowpark\, Charlestown\, Co. Mayo\, Ireland
ATTACH;FMTTYPE=image/jpeg:https://charlestown.ie/wp-content/uploads/2024/09/Screenshot_20240923_154557_Adobe-Acrobat.jpg
END:VEVENT
END:VCALENDAR