BEGIN:VCALENDAR
VERSION:2.0
PRODID:-//Charlestown - ECPv6.6.4.2//NONSGML v1.0//EN
CALSCALE:GREGORIAN
METHOD:PUBLISH
X-WR-CALNAME:Charlestown
X-ORIGINAL-URL:https://charlestown.ie
X-WR-CALDESC:Events for Charlestown
REFRESH-INTERVAL;VALUE=DURATION:PT1H
X-Robots-Tag:noindex
X-PUBLISHED-TTL:PT1H
BEGIN:VTIMEZONE
TZID:Europe/Dublin
BEGIN:DAYLIGHT
TZOFFSETFROM:+0000
TZOFFSETTO:+0100
TZNAME:IST
DTSTART:20230326T010000
END:DAYLIGHT
BEGIN:STANDARD
TZOFFSETFROM:+0100
TZOFFSETTO:+0000
TZNAME:GMT
DTSTART:20231029T010000
END:STANDARD
BEGIN:DAYLIGHT
TZOFFSETFROM:+0000
TZOFFSETTO:+0100
TZNAME:IST
DTSTART:20240331T010000
END:DAYLIGHT
BEGIN:STANDARD
TZOFFSETFROM:+0100
TZOFFSETTO:+0000
TZNAME:GMT
DTSTART:20241027T010000
END:STANDARD
END:VTIMEZONE
BEGIN:VEVENT
DTSTART;TZID=Europe/Dublin:20240507T070000
DTEND;TZID=Europe/Dublin:20240507T200000
DTSTAMP:20260424T131052
CREATED:20240506T215702Z
LAST-MODIFIED:20240506T215702Z
UID:10000948-1715065200-1715112000@charlestown.ie
SUMMARY:GAA - U18 League v Parke (home)
DESCRIPTION:
URL:https://charlestown.ie/event/gaa-u18-league-v-parke-home/
ATTACH;FMTTYPE=image/jpeg:https://charlestown.ie/wp-content/uploads/2015/06/Charlestown-Aerial-View.jpg
END:VEVENT
BEGIN:VEVENT
DTSTART;TZID=Europe/Dublin:20240323T110000
DTEND;TZID=Europe/Dublin:20240323T130000
DTSTAMP:20260424T131052
CREATED:20240319T000820Z
LAST-MODIFIED:20240319T000820Z
UID:10000899-1711191600-1711198800@charlestown.ie
SUMMARY:GAA - U14 (2) League - Rd 2 v Shrule (away)
DESCRIPTION:
URL:https://charlestown.ie/event/gaa-u14-2-league-rd-2-v-shrule-away/
CATEGORIES:Community,GAA- LGFA,Sport
ATTACH;FMTTYPE=image/jpeg:https://charlestown.ie/wp-content/uploads/2015/06/Charlestown-Aerial-View.jpg
END:VEVENT
BEGIN:VEVENT
DTSTART;TZID=Europe/Dublin:20231117T190000
DTEND;TZID=Europe/Dublin:20231117T203000
DTSTAMP:20260424T131052
CREATED:20231112T215429Z
LAST-MODIFIED:20231112T215429Z
UID:10000808-1700247600-1700253000@charlestown.ie
SUMMARY:Charlestown Bord Na N'Og AGM
DESCRIPTION:
URL:https://charlestown.ie/event/charlestown-bord-na-nog-agm/
LOCATION:Charlestown Arts Centre
CATEGORIES:Children,Community,GAA- LGFA,Sport
END:VEVENT
BEGIN:VEVENT
DTSTART;TZID=Europe/Dublin:20231107T200000
DTEND;TZID=Europe/Dublin:20231107T213000
DTSTAMP:20260424T131052
CREATED:20231106T200752Z
LAST-MODIFIED:20231106T200752Z
UID:10000804-1699387200-1699392600@charlestown.ie
SUMMARY:GAA - U21 Championship v Shrule Glencorrib (away)
DESCRIPTION:COE
URL:https://charlestown.ie/event/gaa-u21-championship-v-shrule-glencorrib-away/
LOCATION:Centre of Excellence\, Bekan
CATEGORIES:Children,Community,GAA- LGFA,Sport
END:VEVENT
BEGIN:VEVENT
DTSTART;TZID=Europe/Dublin:20231104T140000
DTEND;TZID=Europe/Dublin:20231104T153000
DTSTAMP:20260424T131052
CREATED:20231102T183932Z
LAST-MODIFIED:20231102T183932Z
UID:10000802-1699106400-1699111800@charlestown.ie
SUMMARY:GAA - U13 D Grading League Final v Burrishoole (home)
DESCRIPTION:
URL:https://charlestown.ie/event/gaa-u13-d-grading-league-final-v-burrishoole-home/
LOCATION:Charlestown Sarsfields GAA grounds\, Lowpark\, Charlestown\, Co. Mayo\, Ireland
CATEGORIES:Children,Community,GAA- LGFA,Sport
END:VEVENT
BEGIN:VEVENT
DTSTART;TZID=Europe/Dublin:20231022T110000
DTEND;TZID=Europe/Dublin:20231022T123000
DTSTAMP:20260424T131052
CREATED:20231017T195304Z
LAST-MODIFIED:20231017T195304Z
UID:10000785-1697972400-1697977800@charlestown.ie
SUMMARY:GAA - U15 Group B Grading League v St Jarlaths (away)
DESCRIPTION:
URL:https://charlestown.ie/event/gaa-u15-group-b-grading-league-v-st-jarlaths-away/
CATEGORIES:Children,Community,GAA- LGFA,Sport
END:VEVENT
BEGIN:VEVENT
DTSTART;TZID=Europe/Dublin:20231021T110000
DTEND;TZID=Europe/Dublin:20231021T123000
DTSTAMP:20260424T131052
CREATED:20231017T195056Z
LAST-MODIFIED:20231017T195056Z
UID:10000784-1697886000-1697891400@charlestown.ie
SUMMARY:GAA U13 Grading League v Burrishoole (away)
DESCRIPTION:
URL:https://charlestown.ie/event/gaa-u13-grading-league-v-burrishoole-away/
CATEGORIES:Children,Community,GAA- LGFA,Sport
END:VEVENT
BEGIN:VEVENT
DTSTART;TZID=Europe/Dublin:20231008T110000
DTEND;TZID=Europe/Dublin:20231008T110000
DTSTAMP:20260424T131052
CREATED:20231004T105109Z
LAST-MODIFIED:20231004T135205Z
UID:10000773-1696762800-1696762800@charlestown.ie
SUMMARY:GAA U-15 B Group 2 Grading League v Ballinrobe (away)
DESCRIPTION:Venue: Ballinrobe
URL:https://charlestown.ie/event/u-15-b-group-2-grading-league-v-ballinrobe-away/
CATEGORIES:Community,Sport
END:VEVENT
BEGIN:VEVENT
DTSTART;TZID=Europe/Dublin:20231007T160000
DTEND;TZID=Europe/Dublin:20231007T160000
DTSTAMP:20260424T131052
CREATED:20231004T104650Z
LAST-MODIFIED:20231004T135236Z
UID:10000772-1696694400-1696694400@charlestown.ie
SUMMARY:GAA U-13 Development Grading League v Swinford (home)
DESCRIPTION:
URL:https://charlestown.ie/event/u-13-development-grading-league-v-swinford-home/
LOCATION:Fr. O’ Hara Park\, Charlestown Sarsfields GAA Club\, Lowpark\, Charlestown\, Mayo
CATEGORIES:Community,Sport
END:VEVENT
BEGIN:VEVENT
DTSTART;TZID=Europe/Dublin:20230930T100000
DTEND;TZID=Europe/Dublin:20230930T123000
DTSTAMP:20260424T131052
CREATED:20230920T080738Z
LAST-MODIFIED:20230920T080738Z
UID:10000763-1696068000-1696077000@charlestown.ie
SUMMARY:GAA -U13 Championship v Aghamore (home)
DESCRIPTION:
URL:https://charlestown.ie/event/gaa-u13-championship-v-aghamore-home/
LOCATION:Charlestown Sarsfields GAA grounds\, Lowpark\, Charlestown\, Co. Mayo\, Ireland
CATEGORIES:Children,Community,Family Event,GAA- LGFA,Sport
END:VEVENT
BEGIN:VEVENT
DTSTART;TZID=Europe/Dublin:20230908T183000
DTEND;TZID=Europe/Dublin:20230908T193000
DTSTAMP:20260424T131052
CREATED:20230906T211145Z
LAST-MODIFIED:20230907T131940Z
UID:10000753-1694197800-1694201400@charlestown.ie
SUMMARY:GAA - East Mayo U18 B Final v Kilmovee (COE\, Bekan)
DESCRIPTION:
URL:https://charlestown.ie/event/gaa-east-mayo-u18-b-final-v-kilmovee-coe-bekan/
CATEGORIES:Children,Community,Family Event,GAA- LGFA,Sport
END:VEVENT
BEGIN:VEVENT
DTSTART;TZID=Europe/Dublin:20230831T183000
DTEND;TZID=Europe/Dublin:20230831T193000
DTSTAMP:20260424T131052
CREATED:20230828T131637Z
LAST-MODIFIED:20230831T131928Z
UID:10000744-1693506600-1693510200@charlestown.ie
SUMMARY:GAA - U14 East Mayo C Championship Final v Kilmovee (away)
DESCRIPTION:Venue – TBC
URL:https://charlestown.ie/event/gaa-u14-east-mayo-c-championship-final-v-kilmovee-away/
CATEGORIES:Children,Community,GAA- LGFA,Sport
END:VEVENT
BEGIN:VEVENT
DTSTART;TZID=Europe/Dublin:20230828T190000
DTEND;TZID=Europe/Dublin:20230828T203000
DTSTAMP:20260424T131052
CREATED:20230828T091247Z
LAST-MODIFIED:20230828T131753Z
UID:10000743-1693249200-1693254600@charlestown.ie
SUMMARY:GAA - U14 East Mayo A Championship Final v St Jarlaths (away)
DESCRIPTION:Game in Bekan
URL:https://charlestown.ie/event/gaa-u14-east-mayo-a-championship-ship-final-v-st-jarlaths-away/
CATEGORIES:Children,Community,GAA- LGFA,Sport
END:VEVENT
BEGIN:VEVENT
DTSTART;TZID=Europe/Dublin:20230828T190000
DTEND;TZID=Europe/Dublin:20230828T200000
DTSTAMP:20260424T131052
CREATED:20230827T041206Z
LAST-MODIFIED:20230827T041206Z
UID:10000740-1693249200-1693252800@charlestown.ie
SUMMARY:GAA - U10 v Knockmore (away)
DESCRIPTION:
URL:https://charlestown.ie/event/gaa-u10-v-knockmore-away/
CATEGORIES:Children,Community,GAA- LGFA,Sport
END:VEVENT
BEGIN:VEVENT
DTSTART;TZID=Europe/Dublin:20230816T190000
DTEND;TZID=Europe/Dublin:20230816T200000
DTSTAMP:20260424T131052
CREATED:20230815T171934Z
LAST-MODIFIED:20230815T171934Z
UID:10000729-1692212400-1692216000@charlestown.ie
SUMMARY:GAA - U10 League v Claremorris (home)
DESCRIPTION:
URL:https://charlestown.ie/event/gaa-u10-league-v-claremorris-home/
LOCATION:Charlestown Sarsfields GAA grounds\, Lowpark\, Charlestown\, Co. Mayo\, Ireland
CATEGORIES:Children,Community,GAA- LGFA,Sport
END:VEVENT
BEGIN:VEVENT
DTSTART;TZID=Europe/Dublin:20230729T100000
DTEND;TZID=Europe/Dublin:20230729T123000
DTSTAMP:20260424T131052
CREATED:20230724T192822Z
LAST-MODIFIED:20230724T192822Z
UID:10000715-1690624800-1690633800@charlestown.ie
SUMMARY:GAA - U10 Blitz with 6 Clubs (home)
DESCRIPTION:Aghamore \nBallintubber \nKnockmore \nTourmakeady \nSwinford \nParke
URL:https://charlestown.ie/event/gaa-u10-blitz-with-6-clubs-home/
LOCATION:Charlestown Sarsfields GAA grounds\, Lowpark\, Charlestown\, Co. Mayo\, Ireland
CATEGORIES:Children,Community,GAA- LGFA,Sport
END:VEVENT
BEGIN:VEVENT
DTSTART;TZID=Europe/Dublin:20230727T190000
DTEND;TZID=Europe/Dublin:20230727T203000
DTSTAMP:20260424T131052
CREATED:20230724T124535Z
LAST-MODIFIED:20230724T124535Z
UID:10000711-1690484400-1690489800@charlestown.ie
SUMMARY:GAA - U16 D Shield Final v Moy Davitts (away)
DESCRIPTION:Venue  – Swinford GAA Pitch
URL:https://charlestown.ie/event/gaa-u16-d-shield-final-v-moy-davitts-away/
CATEGORIES:Children,Community,GAA- LGFA,Sport
END:VEVENT
BEGIN:VEVENT
DTSTART;TZID=Europe/Dublin:20230726T190000
DTEND;TZID=Europe/Dublin:20230726T203000
DTSTAMP:20260424T131052
CREATED:20230724T192107Z
LAST-MODIFIED:20230724T192107Z
UID:10000713-1690398000-1690403400@charlestown.ie
SUMMARY:GAA - U12 Summer League D v Burrishoole (home)
DESCRIPTION:
URL:https://charlestown.ie/event/gaa-u12-summer-league-d-v-burrishoole-home/
CATEGORIES:Children,Community,GAA- LGFA,Sport
END:VEVENT
BEGIN:VEVENT
DTSTART;TZID=Europe/Dublin:20230725T191500
DTEND;TZID=Europe/Dublin:20230725T203000
DTSTAMP:20260424T131052
CREATED:20230724T192415Z
LAST-MODIFIED:20230725T162245Z
UID:10000714-1690312500-1690317000@charlestown.ie
SUMMARY:GAA - U18 Championship Rd 3 v Carras (away)
DESCRIPTION:Ballindine
URL:https://charlestown.ie/event/gaa-u18-championship-rd-3-v-carras/
CATEGORIES:Children,Community,GAA- LGFA,Sport
END:VEVENT
BEGIN:VEVENT
DTSTART;TZID=Europe/Dublin:20230722T110000
DTEND;TZID=Europe/Dublin:20230722T123000
DTSTAMP:20260424T131052
CREATED:20230711T103745Z
LAST-MODIFIED:20230717T141951Z
UID:10000693-1690023600-1690029000@charlestown.ie
SUMMARY:GAA - U14 Dev League v Burrishoole (away)
DESCRIPTION:
URL:https://charlestown.ie/event/gaa-u14-dev-league-v-balla-home/
CATEGORIES:Children,Family Event,GAA- LGFA,Sport
END:VEVENT
BEGIN:VEVENT
DTSTART;TZID=Europe/Dublin:20230720T190000
DTEND;TZID=Europe/Dublin:20230720T200000
DTSTAMP:20260424T131052
CREATED:20230716T195020Z
LAST-MODIFIED:20230716T195020Z
UID:10000699-1689879600-1689883200@charlestown.ie
SUMMARY:GAA - U16 D Shield Final v Westport (home)
DESCRIPTION:
URL:https://charlestown.ie/event/gaa-u16-d-shield-final-v-westport-home/
LOCATION:Charlestown Sarsfields GAA grounds\, Lowpark\, Charlestown\, Co. Mayo\, Ireland
CATEGORIES:Children,Community,GAA- LGFA,Sport
END:VEVENT
BEGIN:VEVENT
DTSTART;TZID=Europe/Dublin:20230718T183000
DTEND;TZID=Europe/Dublin:20230718T203000
DTSTAMP:20260424T131052
CREATED:20230716T194725Z
LAST-MODIFIED:20230717T142048Z
UID:10000698-1689705000-1689712200@charlestown.ie
SUMMARY:GAA - U12 Summer League v Aghamore (home)
DESCRIPTION:
URL:https://charlestown.ie/event/gaa-u12-summer-league-v-aghamore-home/
LOCATION:Charlestown Sarsfields GAA grounds\, Lowpark\, Charlestown\, Co. Mayo\, Ireland
CATEGORIES:Children,Community,GAA- LGFA,Sport
END:VEVENT
BEGIN:VEVENT
DTSTART;TZID=Europe/Dublin:20230717T193000
DTEND;TZID=Europe/Dublin:20230717T203000
DTSTAMP:20260424T131052
CREATED:20230716T194429Z
LAST-MODIFIED:20230716T194429Z
UID:10000697-1689622200-1689625800@charlestown.ie
SUMMARY:GAA - U18 Championship Group 1 v Belmullet (away)
DESCRIPTION:
URL:https://charlestown.ie/event/gaa-u18-championship-group-1-v-belmullet-away/
CATEGORIES:Children,Community,GAA- LGFA,Sport
END:VEVENT
BEGIN:VEVENT
DTSTART;TZID=Europe/Dublin:20230717T190000
DTEND;TZID=Europe/Dublin:20230717T203000
DTSTAMP:20260424T131052
CREATED:20230716T194023Z
LAST-MODIFIED:20230716T194235Z
UID:10000696-1689620400-1689625800@charlestown.ie
SUMMARY:GAA - U14 B Championship Shield Final v The Neale (home)
DESCRIPTION:
URL:https://charlestown.ie/event/gaa-u14-b-championship-shield-final-v-the-neale-venue-tbc/
CATEGORIES:Children,GAA- LGFA,Sport
END:VEVENT
BEGIN:VEVENT
DTSTART;TZID=Europe/Dublin:20230712T190000
DTEND;TZID=Europe/Dublin:20230712T203000
DTSTAMP:20260424T131052
CREATED:20230711T103445Z
LAST-MODIFIED:20230711T103445Z
UID:10000692-1689188400-1689193800@charlestown.ie
SUMMARY:GAA - U12 Spring League v Shrule (away)
DESCRIPTION:
URL:https://charlestown.ie/event/gaa-u12-spring-league-v-shrule-away/
CATEGORIES:Children,Family Event,GAA- LGFA,Sport
END:VEVENT
BEGIN:VEVENT
DTSTART;TZID=Europe/Dublin:20230711T200000
DTEND;TZID=Europe/Dublin:20230711T213000
DTSTAMP:20260424T131052
CREATED:20230703T153546Z
LAST-MODIFIED:20230703T153546Z
UID:10000678-1689105600-1689111000@charlestown.ie
SUMMARY:GAA - Minor C Championship v Crossmolina (home)
DESCRIPTION:
URL:https://charlestown.ie/event/gaa-minor-c-championship-v-crossmolina-home/
LOCATION:Charlestown Sarsfields GAA grounds\, Lowpark\, Charlestown\, Co. Mayo\, Ireland
END:VEVENT
BEGIN:VEVENT
DTSTART;TZID=Europe/Dublin:20230708T110000
DTEND;TZID=Europe/Dublin:20230708T123000
DTSTAMP:20260424T131052
CREATED:20230703T153836Z
LAST-MODIFIED:20230703T153836Z
UID:10000680-1688814000-1688819400@charlestown.ie
SUMMARY:GAA - U14 Development League v Crossmolina (away)
DESCRIPTION:
URL:https://charlestown.ie/event/gaa-u14-development-league-v-crossmolina-away/
CATEGORIES:Children,Community,GAA- LGFA,Sport
END:VEVENT
BEGIN:VEVENT
DTSTART;TZID=Europe/Dublin:20230706T190000
DTEND;TZID=Europe/Dublin:20230706T203000
DTSTAMP:20260424T131052
CREATED:20230703T155352Z
LAST-MODIFIED:20230703T160701Z
UID:10000683-1688670000-1688675400@charlestown.ie
SUMMARY:GAA - U16 D Championship v Davitts (home)
DESCRIPTION:
URL:https://charlestown.ie/event/gaa-u16-d-championship-v-davitts-venue-tbc/
LOCATION:Charlestown Sarsfields GAA grounds\, Lowpark\, Charlestown\, Co. Mayo\, Ireland
CATEGORIES:Children,Community,GAA- LGFA,Sport
END:VEVENT
BEGIN:VEVENT
DTSTART;TZID=Europe/Dublin:20230706T190000
DTEND;TZID=Europe/Dublin:20230706T203000
DTSTAMP:20260424T131052
CREATED:20230703T153718Z
LAST-MODIFIED:20230703T160553Z
UID:10000679-1688670000-1688675400@charlestown.ie
SUMMARY:GAA - U14 Development Team Championship v Ballina (away)
DESCRIPTION:
URL:https://charlestown.ie/event/gaa-u14-development-league-v-ballina-home/
CATEGORIES:Children,Community,GAA- LGFA,Sport
END:VEVENT
BEGIN:VEVENT
DTSTART;TZID=Europe/Dublin:20230705T180000
DTEND;TZID=Europe/Dublin:20230705T193000
DTSTAMP:20260424T131052
CREATED:20230703T154341Z
LAST-MODIFIED:20230704T224559Z
UID:10000682-1688580000-1688585400@charlestown.ie
SUMMARY:GAA - U12 Summer League v Ballyhaunis (home)
DESCRIPTION:
URL:https://charlestown.ie/event/gaa-u12-summer-league-v-ballyhaunis-venue-tbc/
LOCATION:Charlestown Sarsfields GAA grounds\, Lowpark\, Charlestown\, Co. Mayo\, Ireland
CATEGORIES:Children,Community,Family Event,GAA- LGFA,Sport
END:VEVENT
END:VCALENDAR