BEGIN:VCALENDAR
VERSION:2.0
PRODID:-//Charlestown - ECPv6.6.4.2//NONSGML v1.0//EN
CALSCALE:GREGORIAN
METHOD:PUBLISH
X-ORIGINAL-URL:https://charlestown.ie
X-WR-CALDESC:Events for Charlestown
REFRESH-INTERVAL;VALUE=DURATION:PT1H
X-Robots-Tag:noindex
X-PUBLISHED-TTL:PT1H
BEGIN:VTIMEZONE
TZID:Europe/Dublin
BEGIN:DAYLIGHT
TZOFFSETFROM:+0000
TZOFFSETTO:+0100
TZNAME:IST
DTSTART:20230326T010000
END:DAYLIGHT
BEGIN:STANDARD
TZOFFSETFROM:+0100
TZOFFSETTO:+0000
TZNAME:GMT
DTSTART:20231029T010000
END:STANDARD
BEGIN:DAYLIGHT
TZOFFSETFROM:+0000
TZOFFSETTO:+0100
TZNAME:IST
DTSTART:20240331T010000
END:DAYLIGHT
BEGIN:STANDARD
TZOFFSETFROM:+0100
TZOFFSETTO:+0000
TZNAME:GMT
DTSTART:20241027T010000
END:STANDARD
BEGIN:DAYLIGHT
TZOFFSETFROM:+0000
TZOFFSETTO:+0100
TZNAME:IST
DTSTART:20250330T010000
END:DAYLIGHT
BEGIN:STANDARD
TZOFFSETFROM:+0100
TZOFFSETTO:+0000
TZNAME:GMT
DTSTART:20251026T010000
END:STANDARD
END:VTIMEZONE
BEGIN:VEVENT
DTSTART;TZID=Europe/Dublin:20251211T190000
DTEND;TZID=Europe/Dublin:20251211T200000
DTSTAMP:20260424T005911
CREATED:20251128T154347Z
LAST-MODIFIED:20251128T154347Z
UID:10003219-1765479600-1765483200@charlestown.ie
SUMMARY:Charlestown Athletic F.C - AGM
DESCRIPTION:
URL:https://charlestown.ie/event/charlestown-athletic-f-c-agm-2/
CATEGORIES:Soccer
ATTACH;FMTTYPE=image/jpeg:https://charlestown.ie/wp-content/uploads/2025/11/Screenshot_20251128_153949_Facebook.jpg
END:VEVENT
BEGIN:VEVENT
DTSTART;TZID=Europe/Dublin:20251101T140000
DTEND;TZID=Europe/Dublin:20251101T150000
DTSTAMP:20260424T005911
CREATED:20251031T102843Z
LAST-MODIFIED:20251031T102843Z
UID:10002984-1762005600-1762009200@charlestown.ie
SUMMARY:Connaught Cup - U14 v Straide & Foxford (away)
DESCRIPTION:
URL:https://charlestown.ie/event/connaught-cup-u14-v-straide-foxford-away/
CATEGORIES:Soccer
ATTACH;FMTTYPE=image/jpeg:https://charlestown.ie/wp-content/uploads/2021/04/soccer-490669_640.jpg
END:VEVENT
BEGIN:VEVENT
DTSTART;TZID=Europe/Dublin:20250827T190000
DTEND;TZID=Europe/Dublin:20250827T203000
DTSTAMP:20260424T005911
CREATED:20250819T201325Z
LAST-MODIFIED:20250819T201325Z
UID:10002152-1756321200-1756326600@charlestown.ie
SUMMARY:Soccer - U14 Div 2B v Ballyglass(home)
DESCRIPTION:
URL:https://charlestown.ie/event/soccer-u14-div-2b-v-ballyglasshome/
LOCATION:Bellaghy Soccer Pitch\, Bellaghy\, Charlestown\, Mayo\, Ireland
CATEGORIES:Soccer
ATTACH;FMTTYPE=image/jpeg:https://charlestown.ie/wp-content/uploads/2021/04/soccer-490669_640.jpg
END:VEVENT
BEGIN:VEVENT
DTSTART;TZID=Europe/Dublin:20250820T193000
DTEND;TZID=Europe/Dublin:20250820T203000
DTSTAMP:20260424T005911
CREATED:20250819T201026Z
LAST-MODIFIED:20250819T201026Z
UID:10002151-1755718200-1755721800@charlestown.ie
SUMMARY:Soccer - U14 Div 5B v Claremorris F(home)
DESCRIPTION:
URL:https://charlestown.ie/event/soccer-u14-div-5b-v-claremorris-fhome/
LOCATION:Bellaghy Soccer Pitch\, Bellaghy\, Charlestown\, Mayo\, Ireland
CATEGORIES:Soccer
ATTACH;FMTTYPE=image/jpeg:https://charlestown.ie/wp-content/uploads/2021/04/soccer-490669_640.jpg
END:VEVENT
BEGIN:VEVENT
DTSTART;TZID=Europe/Dublin:20250820T180000
DTEND;TZID=Europe/Dublin:20250820T193000
DTSTAMP:20260424T005911
CREATED:20250819T200702Z
LAST-MODIFIED:20250819T201125Z
UID:10002150-1755712800-1755718200@charlestown.ie
SUMMARY:Soccer - U14 Div 2B v Swinford (home)
DESCRIPTION:
URL:https://charlestown.ie/event/soccer-u14-div-2b-v-swinford-home/
LOCATION:Bellaghy Soccer Pitch\, Bellaghy\, Charlestown\, Mayo\, Ireland
CATEGORIES:Soccer
ATTACH;FMTTYPE=image/jpeg:https://charlestown.ie/wp-content/uploads/2021/04/soccer-490669_640.jpg
END:VEVENT
BEGIN:VEVENT
DTSTART;TZID=Europe/Dublin:20250806T190000
DTEND;TZID=Europe/Dublin:20250806T203000
DTSTAMP:20260424T005911
CREATED:20250801T191156Z
LAST-MODIFIED:20250801T191156Z
UID:10002129-1754506800-1754512200@charlestown.ie
SUMMARY:Soccer - U14 2B League v Castlebar F.C (home)
DESCRIPTION:
URL:https://charlestown.ie/event/soccer-u14-2b-league-v-castlebar-f-c-home/
LOCATION:Bellaghy Soccer Pitch\, Bellaghy\, Charlestown\, Mayo\, Ireland
CATEGORIES:Soccer
ATTACH;FMTTYPE=image/jpeg:https://charlestown.ie/wp-content/uploads/2021/04/soccer-490669_640.jpg
END:VEVENT
BEGIN:VEVENT
DTSTART;TZID=Europe/Dublin:20250801T190000
DTEND;TZID=Europe/Dublin:20250801T203000
DTSTAMP:20260424T005911
CREATED:20250801T190943Z
LAST-MODIFIED:20250801T190943Z
UID:10002127-1754074800-1754080200@charlestown.ie
SUMMARY:Soccer - U14 Shield v Conn Rangers (away)
DESCRIPTION:
URL:https://charlestown.ie/event/soccer-u14-shield-v-conn-rangers-away/
CATEGORIES:Soccer
ATTACH;FMTTYPE=image/jpeg:https://charlestown.ie/wp-content/uploads/2021/04/soccer-490669_640.jpg
END:VEVENT
BEGIN:VEVENT
DTSTART;TZID=Europe/Dublin:20250702T190000
DTEND;TZID=Europe/Dublin:20250702T203000
DTSTAMP:20260424T005911
CREATED:20250630T162939Z
LAST-MODIFIED:20250630T162939Z
UID:10002079-1751482800-1751488200@charlestown.ie
SUMMARY:Soccer - U14 Division 5B v Westport Utd F (away)
DESCRIPTION:
URL:https://charlestown.ie/event/soccer-u14-division-5b-v-westport-utd-f-away/
CATEGORIES:Soccer
ATTACH;FMTTYPE=image/jpeg:https://charlestown.ie/wp-content/uploads/2021/04/soccer-490669_640.jpg
END:VEVENT
BEGIN:VEVENT
DTSTART;TZID=Europe/Dublin:20250702T190000
DTEND;TZID=Europe/Dublin:20250702T203000
DTSTAMP:20260424T005911
CREATED:20250630T162658Z
LAST-MODIFIED:20250630T162658Z
UID:10002078-1751482800-1751488200@charlestown.ie
SUMMARY:Soccer - U14 Division 2B v Castlebar (away)
DESCRIPTION:
URL:https://charlestown.ie/event/soccer-u14-division-2b-v-castlebar-away/
CATEGORIES:Soccer
ATTACH;FMTTYPE=image/jpeg:https://charlestown.ie/wp-content/uploads/2021/04/soccer-490669_640.jpg
END:VEVENT
BEGIN:VEVENT
DTSTART;TZID=Europe/Dublin:20250606T190000
DTEND;TZID=Europe/Dublin:20250606T203000
DTSTAMP:20260424T005911
CREATED:20250604T091923Z
LAST-MODIFIED:20250604T091923Z
UID:10002055-1749236400-1749241800@charlestown.ie
SUMMARY:Soccer - U13 Div2B League v Ballyheane (home)
DESCRIPTION:
URL:https://charlestown.ie/event/soccer-u13-div2b-league-v-ballyheane-home/
LOCATION:Bellaghy Soccer Pitch\, Bellaghy\, Charlestown\, Mayo\, Ireland
CATEGORIES:Soccer
ATTACH;FMTTYPE=image/jpeg:https://charlestown.ie/wp-content/uploads/2021/07/chaos-soccer-gear-Cjfl8r_eYxY-unsplash.jpg
END:VEVENT
BEGIN:VEVENT
DTSTART;TZID=Europe/Dublin:20250523T190000
DTEND;TZID=Europe/Dublin:20250523T203000
DTSTAMP:20260424T005911
CREATED:20250521T073619Z
LAST-MODIFIED:20250521T073619Z
UID:10001970-1748026800-1748032200@charlestown.ie
SUMMARY:Soccer - U13 Div2B v Ballyhaunis (home)
DESCRIPTION:
URL:https://charlestown.ie/event/soccer-u13-div2b-v-ballyhaunis-home/
LOCATION:Bellaghy Soccer Pitch\, Bellaghy\, Charlestown\, Mayo\, Ireland
CATEGORIES:GAA- LGFA
ATTACH;FMTTYPE=image/jpeg:https://charlestown.ie/wp-content/uploads/2021/07/chaos-soccer-gear-Cjfl8r_eYxY-unsplash.jpg
END:VEVENT
BEGIN:VEVENT
DTSTART;TZID=Europe/Dublin:20250422T100000
DTEND;TZID=Europe/Dublin:20250424T140000
DTSTAMP:20260424T005911
CREATED:20250401T212638Z
LAST-MODIFIED:20250401T212638Z
UID:10001926-1745316000-1745503200@charlestown.ie
SUMMARY:Easter Soccer Camp - Charlestown AFC
DESCRIPTION:
URL:https://charlestown.ie/event/easter-soccer-camp-charlestown-afc/
LOCATION:Bellaghy Soccer Pitch\, Bellaghy\, Charlestown\, Mayo\, Ireland
CATEGORIES:Soccer
ATTACH;FMTTYPE=image/jpeg:https://charlestown.ie/wp-content/uploads/2025/04/Screenshot_20250401_222255_Facebook.jpg
END:VEVENT
BEGIN:VEVENT
DTSTART;TZID=Europe/Dublin:20250418T190000
DTEND;TZID=Europe/Dublin:20250418T203000
DTSTAMP:20260424T005911
CREATED:20250413T103911Z
LAST-MODIFIED:20250413T103911Z
UID:10001942-1745002800-1745008200@charlestown.ie
SUMMARY:Soccer - U13 League Div2B v Ballyhaunis ( away)
DESCRIPTION:
URL:https://charlestown.ie/event/soccer-u13-league-div2b-v-ballyhaunis-away/
ATTACH;FMTTYPE=image/jpeg:https://charlestown.ie/wp-content/uploads/2021/07/chaos-soccer-gear-Cjfl8r_eYxY-unsplash.jpg
END:VEVENT
BEGIN:VEVENT
DTSTART;TZID=Europe/Dublin:20250416T183000
DTEND;TZID=Europe/Dublin:20250416T200000
DTSTAMP:20260424T005911
CREATED:20250413T103729Z
LAST-MODIFIED:20250413T103729Z
UID:10001941-1744828200-1744833600@charlestown.ie
SUMMARY:Soccer - U15 League Div2B v Snugboro ( home)
DESCRIPTION:
URL:https://charlestown.ie/event/soccer-u15-league-div2b-v-snugboro-home/
LOCATION:Bellaghy Soccer Pitch\, Bellaghy\, Charlestown\, Mayo\, Ireland
ATTACH;FMTTYPE=image/jpeg:https://charlestown.ie/wp-content/uploads/2021/04/soccer-490669_640.jpg
END:VEVENT
BEGIN:VEVENT
DTSTART;TZID=Europe/Dublin:20250415T183000
DTEND;TZID=Europe/Dublin:20250415T200000
DTSTAMP:20260424T005911
CREATED:20250413T103553Z
LAST-MODIFIED:20250413T103553Z
UID:10001940-1744741800-1744747200@charlestown.ie
SUMMARY:Soccer - U13 Boys Shield v Fahy Rovers ( home)
DESCRIPTION:
URL:https://charlestown.ie/event/soccer-u13-boys-shield-v-fahy-rovers-home/
LOCATION:Bellaghy Soccer Pitch\, Bellaghy\, Charlestown\, Mayo\, Ireland
CATEGORIES:Soccer
ATTACH;FMTTYPE=image/jpeg:https://charlestown.ie/wp-content/uploads/2021/07/chaos-soccer-gear-Cjfl8r_eYxY-unsplash.jpg
END:VEVENT
BEGIN:VEVENT
DTSTART;TZID=Europe/Dublin:20250404T190000
DTEND;TZID=Europe/Dublin:20250404T200000
DTSTAMP:20260424T005911
CREATED:20250402T081732Z
LAST-MODIFIED:20250402T081732Z
UID:10001927-1743793200-1743796800@charlestown.ie
SUMMARY:Soccer - U13 v Snugboro (Home)
DESCRIPTION:
URL:https://charlestown.ie/event/soccer-u13-v-snugboro-home/
LOCATION:Bellaghy Soccer Pitch\, Bellaghy\, Charlestown\, Mayo\, Ireland
CATEGORIES:Soccer
ATTACH;FMTTYPE=image/jpeg:https://charlestown.ie/wp-content/uploads/2021/07/chaos-soccer-gear-Cjfl8r_eYxY-unsplash.jpg
END:VEVENT
BEGIN:VEVENT
DTSTART;TZID=Europe/Dublin:20241214T140000
DTEND;TZID=Europe/Dublin:20241214T150000
DTSTAMP:20260424T005911
CREATED:20241120T233814Z
LAST-MODIFIED:20241203T081206Z
UID:10001492-1734184800-1734188400@charlestown.ie
SUMMARY:Soccer - U12 Boys SFAI Subway Cup v Castlerea Celtic ( home)
DESCRIPTION:
URL:https://charlestown.ie/event/soccer-u12-boys-sfai-subway-cup-v-castlerea-celtic-home/
LOCATION:Bellaghy Soccer Pitch\, Bellaghy\, Charlestown\, Mayo\, Ireland
CATEGORIES:Soccer
ATTACH;FMTTYPE=image/jpeg:https://charlestown.ie/wp-content/uploads/2024/09/Screenshot_20240914_075607_Facebook.jpg
END:VEVENT
BEGIN:VEVENT
DTSTART;TZID=Europe/Dublin:20241109T120000
DTEND;TZID=Europe/Dublin:20241109T130000
DTSTAMP:20260424T005911
CREATED:20241103T152232Z
LAST-MODIFIED:20241103T152232Z
UID:10001449-1731153600-1731157200@charlestown.ie
SUMMARY:Soccer - U12 Boys SFAI Cup v Moyne Villa (Headford) - Away
DESCRIPTION:
URL:https://charlestown.ie/event/soccer-u12-boys-sfai-cup-v-moyne-villa-headford-away/
CATEGORIES:Soccer
ATTACH;FMTTYPE=image/jpeg:https://charlestown.ie/wp-content/uploads/2021/07/chaos-soccer-gear-Cjfl8r_eYxY-unsplash.jpg
END:VEVENT
BEGIN:VEVENT
DTSTART;TZID=Europe/Dublin:20241026T150000
DTEND;TZID=Europe/Dublin:20241026T163000
DTSTAMP:20260424T005911
CREATED:20241022T200458Z
LAST-MODIFIED:20241022T200458Z
UID:10001327-1729954800-1729960200@charlestown.ie
SUMMARY:U12 Boys Connacht Cup v St Bernards (home)
DESCRIPTION:
URL:https://charlestown.ie/event/u12-boys-connacht-cup-v-st-bernards-home/
LOCATION:Bellaghy Soccer Pitch\, Bellaghy\, Charlestown\, Mayo\, Ireland
CATEGORIES:GAA- LGFA
ATTACH;FMTTYPE=image/jpeg:https://charlestown.ie/wp-content/uploads/2024/09/Screenshot_20240914_075607_Facebook.jpg
END:VEVENT
BEGIN:VEVENT
DTSTART;TZID=Europe/Dublin:20241019T140000
DTEND;TZID=Europe/Dublin:20241019T160000
DTSTAMP:20260424T005911
CREATED:20241016T094315Z
LAST-MODIFIED:20241016T094315Z
UID:10001320-1729346400-1729353600@charlestown.ie
SUMMARY:Soccer - U12 Shield Final v Ballyhaunis A (away)
DESCRIPTION:
URL:https://charlestown.ie/event/soccer-u12-shield-final-v-ballyhaunis-a-away/
ATTACH;FMTTYPE=image/jpeg:https://charlestown.ie/wp-content/uploads/2024/09/Screenshot_20240914_075607_Facebook.jpg
END:VEVENT
BEGIN:VEVENT
DTSTART;TZID=Europe/Dublin:20241013T170000
DTEND;TZID=Europe/Dublin:20241013T190000
DTSTAMP:20260424T005911
CREATED:20241011T045746Z
LAST-MODIFIED:20241011T045746Z
UID:10001308-1728838800-1728846000@charlestown.ie
SUMMARY:Soccer - U12 SFAI Subway Cup v Salthill Devon(away)
DESCRIPTION:
URL:https://charlestown.ie/event/soccer-u12-sfai-subway-cup-v-salthill-devonaway/
ATTACH;FMTTYPE=image/jpeg:https://charlestown.ie/wp-content/uploads/2024/10/Screenshot_20241011_055324_Chrome.jpg
END:VEVENT
BEGIN:VEVENT
DTSTART;TZID=Europe/Dublin:20240928T120000
DTEND;TZID=Europe/Dublin:20240928T130000
DTSTAMP:20260424T005911
CREATED:20240923T105317Z
LAST-MODIFIED:20240923T105317Z
UID:10001258-1727524800-1727528400@charlestown.ie
SUMMARY:Soccer - U12 SFAI Cup v Yeats Utd (home)
DESCRIPTION:
URL:https://charlestown.ie/event/soccer-u12-sfai-cup-v-yeats-utd-home/
LOCATION:Bellaghy Soccer Pitch\, Bellaghy\, Charlestown\, Mayo\, Ireland
CATEGORIES:Sport
ATTACH;FMTTYPE=image/jpeg:https://charlestown.ie/wp-content/uploads/2024/09/Screenshot_20240914_075607_Facebook.jpg
END:VEVENT
BEGIN:VEVENT
DTSTART;TZID=Europe/Dublin:20240917T180000
DTEND;TZID=Europe/Dublin:20240917T190000
DTSTAMP:20260424T005911
CREATED:20240916T161148Z
LAST-MODIFIED:20240916T161148Z
UID:10001154-1726596000-1726599600@charlestown.ie
SUMMARY:Soccer - U12 Div2B v Newport (home)
DESCRIPTION:
URL:https://charlestown.ie/event/soccer-u12-div2b-v-newport-home/
LOCATION:Bellaghy Soccer Pitch\, Bellaghy\, Charlestown\, Mayo\, Ireland
ATTACH;FMTTYPE=image/jpeg:https://charlestown.ie/wp-content/uploads/2015/06/Charlestown-Aerial-View.jpg
END:VEVENT
BEGIN:VEVENT
DTSTART;TZID=Europe/Dublin:20240915T120000
DTEND;TZID=Europe/Dublin:20240915T140000
DTSTAMP:20260424T005911
CREATED:20240914T065921Z
LAST-MODIFIED:20240914T065921Z
UID:10001144-1726401600-1726408800@charlestown.ie
SUMMARY:Soccer - U12 Connacht Cup Rd1 v Kilkerrin Utd (away)
DESCRIPTION:
URL:https://charlestown.ie/event/soccer-u12-connacht-cup-rd1-v-kilkerrin-utd-away/
ATTACH;FMTTYPE=image/jpeg:https://charlestown.ie/wp-content/uploads/2024/09/Screenshot_20240914_075607_Facebook.jpg
END:VEVENT
BEGIN:VEVENT
DTSTART;TZID=Europe/Dublin:20240402T100000
DTEND;TZID=Europe/Dublin:20240405T140000
DTSTAMP:20260424T005911
CREATED:20240318T080526Z
LAST-MODIFIED:20240318T080526Z
UID:10000895-1712052000-1712325600@charlestown.ie
SUMMARY:Charlestown AFC - Soccer Camp
DESCRIPTION:9
URL:https://charlestown.ie/event/charlestown-afc-soccer-camp/
LOCATION:Bellaghy Soccer Pitch\, Bellaghy\, Charlestown\, Mayo\, Ireland
CATEGORIES:Children,Community,Sport
ATTACH;FMTTYPE=image/jpeg:https://charlestown.ie/wp-content/uploads/2015/06/Charlestown-Aerial-View.jpg
END:VEVENT
BEGIN:VEVENT
DTSTART;TZID=Europe/Dublin:20231128T200000
DTEND;TZID=Europe/Dublin:20231128T213000
DTSTAMP:20260424T005911
CREATED:20231114T070909Z
LAST-MODIFIED:20231114T070909Z
UID:10000811-1701201600-1701207000@charlestown.ie
SUMMARY:Charlestown Athletic Football Club - AGM
DESCRIPTION:
URL:https://charlestown.ie/event/charlestown-athletic-football-club-agm/
LOCATION:Charlestown Arts Centre
CATEGORIES:Children,Community,Sport
END:VEVENT
BEGIN:VEVENT
DTSTART;TZID=Europe/Dublin:20230902T123000
DTEND;TZID=Europe/Dublin:20230902T140000
DTSTAMP:20260424T005911
CREATED:20230831T133306Z
LAST-MODIFIED:20230831T133306Z
UID:10000752-1693657800-1693663200@charlestown.ie
SUMMARY:Soccer - U12 Div 5B v Ballyvary (away)
DESCRIPTION:
URL:https://charlestown.ie/event/soccer-u12-div-5b-v-ballyvary-away/
CATEGORIES:Community,Soccer,Sport
END:VEVENT
BEGIN:VEVENT
DTSTART;TZID=Europe/Dublin:20230901T193000
DTEND;TZID=Europe/Dublin:20230901T203000
DTSTAMP:20260424T005911
CREATED:20230831T131042Z
LAST-MODIFIED:20230831T131042Z
UID:10000751-1693596600-1693600200@charlestown.ie
SUMMARY:Soccer - U12 Div 5B v Erris (home)
DESCRIPTION:
URL:https://charlestown.ie/event/soccer-u12-div-5b-v-erris-home/
LOCATION:Bellaghy Soccer Pitch\, Bellaghy\, Charlestown\, Mayo\, Ireland
END:VEVENT
BEGIN:VEVENT
DTSTART;TZID=Europe/Dublin:20230829T193000
DTEND;TZID=Europe/Dublin:20230829T203000
DTSTAMP:20260424T005911
CREATED:20230829T070157Z
LAST-MODIFIED:20230829T070157Z
UID:10000745-1693337400-1693341000@charlestown.ie
SUMMARY:Soccer - U12 Shield v Partry (away)
DESCRIPTION:In Partry
URL:https://charlestown.ie/event/soccer-u12-shield-v-partry-away/
CATEGORIES:Children,Community,Soccer,Sport
END:VEVENT
BEGIN:VEVENT
DTSTART;TZID=Europe/Dublin:20230818T173000
DTEND;TZID=Europe/Dublin:20230818T183000
DTSTAMP:20260424T005911
CREATED:20230818T094126Z
LAST-MODIFIED:20230818T094126Z
UID:10000730-1692379800-1692383400@charlestown.ie
SUMMARY:Soccer - U12 Div 5 B v Claremorris (home)
DESCRIPTION:
URL:https://charlestown.ie/event/soccer-u12-div-5-b-v-claremorris-home/
LOCATION:Bellaghy Soccer Pitch\, Bellaghy\, Charlestown\, Mayo\, Ireland
CATEGORIES:Children,Community,Sport
END:VEVENT
END:VCALENDAR