BEGIN:VCALENDAR
VERSION:2.0
PRODID:-//Charlestown - ECPv6.6.4.2//NONSGML v1.0//EN
CALSCALE:GREGORIAN
METHOD:PUBLISH
X-WR-CALNAME:Charlestown
X-ORIGINAL-URL:https://charlestown.ie
X-WR-CALDESC:Events for Charlestown
REFRESH-INTERVAL;VALUE=DURATION:PT1H
X-Robots-Tag:noindex
X-PUBLISHED-TTL:PT1H
BEGIN:VTIMEZONE
TZID:Europe/Dublin
BEGIN:DAYLIGHT
TZOFFSETFROM:+0000
TZOFFSETTO:+0100
TZNAME:IST
DTSTART:20270328T010000
END:DAYLIGHT
BEGIN:STANDARD
TZOFFSETFROM:+0100
TZOFFSETTO:+0000
TZNAME:GMT
DTSTART:20271031T010000
END:STANDARD
BEGIN:DAYLIGHT
TZOFFSETFROM:+0000
TZOFFSETTO:+0100
TZNAME:IST
DTSTART:20280326T010000
END:DAYLIGHT
BEGIN:STANDARD
TZOFFSETFROM:+0100
TZOFFSETTO:+0000
TZNAME:GMT
DTSTART:20281029T010000
END:STANDARD
END:VTIMEZONE
BEGIN:VEVENT
DTSTART;TZID=Europe/Dublin:20270624T190000
DTEND;TZID=Europe/Dublin:20270624T200000
DTSTAMP:20260424T001846
CREATED:20260204T193609Z
LAST-MODIFIED:20260204T193609Z
UID:10003324-1813863600-1813867200@charlestown.ie
SUMMARY:Parish Choir
DESCRIPTION:
URL:https://charlestown.ie/event/parish-choir/2027-06-24/
LOCATION:St James Church\, Charlestown\, Church St\, Charlestown\, Co Mayo\, Ireland
ATTACH;FMTTYPE=image/jpeg:https://charlestown.ie/wp-content/uploads/2026/01/file_000000006b58720ab11c32110733255a.jpg
END:VEVENT
BEGIN:VEVENT
DTSTART;TZID=Europe/Dublin:20270701T190000
DTEND;TZID=Europe/Dublin:20270701T200000
DTSTAMP:20260424T001846
CREATED:20260204T193609Z
LAST-MODIFIED:20260204T193609Z
UID:10003325-1814468400-1814472000@charlestown.ie
SUMMARY:Parish Choir
DESCRIPTION:
URL:https://charlestown.ie/event/parish-choir/2027-07-01/
LOCATION:St James Church\, Charlestown\, Church St\, Charlestown\, Co Mayo\, Ireland
ATTACH;FMTTYPE=image/jpeg:https://charlestown.ie/wp-content/uploads/2026/01/file_000000006b58720ab11c32110733255a.jpg
END:VEVENT
BEGIN:VEVENT
DTSTART;TZID=Europe/Dublin:20270708T190000
DTEND;TZID=Europe/Dublin:20270708T200000
DTSTAMP:20260424T001846
CREATED:20260204T193609Z
LAST-MODIFIED:20260204T193609Z
UID:10003326-1815073200-1815076800@charlestown.ie
SUMMARY:Parish Choir
DESCRIPTION:
URL:https://charlestown.ie/event/parish-choir/2027-07-08/
LOCATION:St James Church\, Charlestown\, Church St\, Charlestown\, Co Mayo\, Ireland
ATTACH;FMTTYPE=image/jpeg:https://charlestown.ie/wp-content/uploads/2026/01/file_000000006b58720ab11c32110733255a.jpg
END:VEVENT
BEGIN:VEVENT
DTSTART;TZID=Europe/Dublin:20270715T190000
DTEND;TZID=Europe/Dublin:20270715T200000
DTSTAMP:20260424T001846
CREATED:20260204T193609Z
LAST-MODIFIED:20260204T193609Z
UID:10003327-1815678000-1815681600@charlestown.ie
SUMMARY:Parish Choir
DESCRIPTION:
URL:https://charlestown.ie/event/parish-choir/2027-07-15/
LOCATION:St James Church\, Charlestown\, Church St\, Charlestown\, Co Mayo\, Ireland
ATTACH;FMTTYPE=image/jpeg:https://charlestown.ie/wp-content/uploads/2026/01/file_000000006b58720ab11c32110733255a.jpg
END:VEVENT
BEGIN:VEVENT
DTSTART;TZID=Europe/Dublin:20270722T190000
DTEND;TZID=Europe/Dublin:20270722T200000
DTSTAMP:20260424T001846
CREATED:20260204T193609Z
LAST-MODIFIED:20260204T193609Z
UID:10003328-1816282800-1816286400@charlestown.ie
SUMMARY:Parish Choir
DESCRIPTION:
URL:https://charlestown.ie/event/parish-choir/2027-07-22/
LOCATION:St James Church\, Charlestown\, Church St\, Charlestown\, Co Mayo\, Ireland
ATTACH;FMTTYPE=image/jpeg:https://charlestown.ie/wp-content/uploads/2026/01/file_000000006b58720ab11c32110733255a.jpg
END:VEVENT
BEGIN:VEVENT
DTSTART;TZID=Europe/Dublin:20270729T190000
DTEND;TZID=Europe/Dublin:20270729T200000
DTSTAMP:20260424T001846
CREATED:20260204T193609Z
LAST-MODIFIED:20260204T193609Z
UID:10003329-1816887600-1816891200@charlestown.ie
SUMMARY:Parish Choir
DESCRIPTION:
URL:https://charlestown.ie/event/parish-choir/2027-07-29/
LOCATION:St James Church\, Charlestown\, Church St\, Charlestown\, Co Mayo\, Ireland
ATTACH;FMTTYPE=image/jpeg:https://charlestown.ie/wp-content/uploads/2026/01/file_000000006b58720ab11c32110733255a.jpg
END:VEVENT
BEGIN:VEVENT
DTSTART;TZID=Europe/Dublin:20270805T190000
DTEND;TZID=Europe/Dublin:20270805T200000
DTSTAMP:20260424T001846
CREATED:20260204T193609Z
LAST-MODIFIED:20260204T193609Z
UID:10003330-1817492400-1817496000@charlestown.ie
SUMMARY:Parish Choir
DESCRIPTION:
URL:https://charlestown.ie/event/parish-choir/2027-08-05/
LOCATION:St James Church\, Charlestown\, Church St\, Charlestown\, Co Mayo\, Ireland
ATTACH;FMTTYPE=image/jpeg:https://charlestown.ie/wp-content/uploads/2026/01/file_000000006b58720ab11c32110733255a.jpg
END:VEVENT
BEGIN:VEVENT
DTSTART;TZID=Europe/Dublin:20270812T190000
DTEND;TZID=Europe/Dublin:20270812T200000
DTSTAMP:20260424T001846
CREATED:20260204T193609Z
LAST-MODIFIED:20260204T193609Z
UID:10003331-1818097200-1818100800@charlestown.ie
SUMMARY:Parish Choir
DESCRIPTION:
URL:https://charlestown.ie/event/parish-choir/2027-08-12/
LOCATION:St James Church\, Charlestown\, Church St\, Charlestown\, Co Mayo\, Ireland
ATTACH;FMTTYPE=image/jpeg:https://charlestown.ie/wp-content/uploads/2026/01/file_000000006b58720ab11c32110733255a.jpg
END:VEVENT
BEGIN:VEVENT
DTSTART;TZID=Europe/Dublin:20270819T190000
DTEND;TZID=Europe/Dublin:20270819T200000
DTSTAMP:20260424T001846
CREATED:20260204T193609Z
LAST-MODIFIED:20260204T193609Z
UID:10003332-1818702000-1818705600@charlestown.ie
SUMMARY:Parish Choir
DESCRIPTION:
URL:https://charlestown.ie/event/parish-choir/2027-08-19/
LOCATION:St James Church\, Charlestown\, Church St\, Charlestown\, Co Mayo\, Ireland
ATTACH;FMTTYPE=image/jpeg:https://charlestown.ie/wp-content/uploads/2026/01/file_000000006b58720ab11c32110733255a.jpg
END:VEVENT
BEGIN:VEVENT
DTSTART;TZID=Europe/Dublin:20270826T190000
DTEND;TZID=Europe/Dublin:20270826T200000
DTSTAMP:20260424T001846
CREATED:20260204T193609Z
LAST-MODIFIED:20260204T193609Z
UID:10003333-1819306800-1819310400@charlestown.ie
SUMMARY:Parish Choir
DESCRIPTION:
URL:https://charlestown.ie/event/parish-choir/2027-08-26/
LOCATION:St James Church\, Charlestown\, Church St\, Charlestown\, Co Mayo\, Ireland
ATTACH;FMTTYPE=image/jpeg:https://charlestown.ie/wp-content/uploads/2026/01/file_000000006b58720ab11c32110733255a.jpg
END:VEVENT
BEGIN:VEVENT
DTSTART;TZID=Europe/Dublin:20270902T190000
DTEND;TZID=Europe/Dublin:20270902T200000
DTSTAMP:20260424T001846
CREATED:20260204T193609Z
LAST-MODIFIED:20260204T193609Z
UID:10003334-1819911600-1819915200@charlestown.ie
SUMMARY:Parish Choir
DESCRIPTION:
URL:https://charlestown.ie/event/parish-choir/2027-09-02/
LOCATION:St James Church\, Charlestown\, Church St\, Charlestown\, Co Mayo\, Ireland
ATTACH;FMTTYPE=image/jpeg:https://charlestown.ie/wp-content/uploads/2026/01/file_000000006b58720ab11c32110733255a.jpg
END:VEVENT
BEGIN:VEVENT
DTSTART;TZID=Europe/Dublin:20270909T190000
DTEND;TZID=Europe/Dublin:20270909T200000
DTSTAMP:20260424T001846
CREATED:20260204T193609Z
LAST-MODIFIED:20260204T193609Z
UID:10003335-1820516400-1820520000@charlestown.ie
SUMMARY:Parish Choir
DESCRIPTION:
URL:https://charlestown.ie/event/parish-choir/2027-09-09/
LOCATION:St James Church\, Charlestown\, Church St\, Charlestown\, Co Mayo\, Ireland
ATTACH;FMTTYPE=image/jpeg:https://charlestown.ie/wp-content/uploads/2026/01/file_000000006b58720ab11c32110733255a.jpg
END:VEVENT
BEGIN:VEVENT
DTSTART;TZID=Europe/Dublin:20270916T190000
DTEND;TZID=Europe/Dublin:20270916T200000
DTSTAMP:20260424T001846
CREATED:20260204T193609Z
LAST-MODIFIED:20260204T193609Z
UID:10003336-1821121200-1821124800@charlestown.ie
SUMMARY:Parish Choir
DESCRIPTION:
URL:https://charlestown.ie/event/parish-choir/2027-09-16/
LOCATION:St James Church\, Charlestown\, Church St\, Charlestown\, Co Mayo\, Ireland
ATTACH;FMTTYPE=image/jpeg:https://charlestown.ie/wp-content/uploads/2026/01/file_000000006b58720ab11c32110733255a.jpg
END:VEVENT
BEGIN:VEVENT
DTSTART;TZID=Europe/Dublin:20270923T190000
DTEND;TZID=Europe/Dublin:20270923T200000
DTSTAMP:20260424T001846
CREATED:20260204T193609Z
LAST-MODIFIED:20260204T193609Z
UID:10003337-1821726000-1821729600@charlestown.ie
SUMMARY:Parish Choir
DESCRIPTION:
URL:https://charlestown.ie/event/parish-choir/2027-09-23/
LOCATION:St James Church\, Charlestown\, Church St\, Charlestown\, Co Mayo\, Ireland
ATTACH;FMTTYPE=image/jpeg:https://charlestown.ie/wp-content/uploads/2026/01/file_000000006b58720ab11c32110733255a.jpg
END:VEVENT
BEGIN:VEVENT
DTSTART;TZID=Europe/Dublin:20270930T190000
DTEND;TZID=Europe/Dublin:20270930T200000
DTSTAMP:20260424T001846
CREATED:20260204T193609Z
LAST-MODIFIED:20260204T193609Z
UID:10003338-1822330800-1822334400@charlestown.ie
SUMMARY:Parish Choir
DESCRIPTION:
URL:https://charlestown.ie/event/parish-choir/2027-09-30/
LOCATION:St James Church\, Charlestown\, Church St\, Charlestown\, Co Mayo\, Ireland
ATTACH;FMTTYPE=image/jpeg:https://charlestown.ie/wp-content/uploads/2026/01/file_000000006b58720ab11c32110733255a.jpg
END:VEVENT
BEGIN:VEVENT
DTSTART;TZID=Europe/Dublin:20271007T190000
DTEND;TZID=Europe/Dublin:20271007T200000
DTSTAMP:20260424T001846
CREATED:20260204T193609Z
LAST-MODIFIED:20260204T193609Z
UID:10003339-1822935600-1822939200@charlestown.ie
SUMMARY:Parish Choir
DESCRIPTION:
URL:https://charlestown.ie/event/parish-choir/2027-10-07/
LOCATION:St James Church\, Charlestown\, Church St\, Charlestown\, Co Mayo\, Ireland
ATTACH;FMTTYPE=image/jpeg:https://charlestown.ie/wp-content/uploads/2026/01/file_000000006b58720ab11c32110733255a.jpg
END:VEVENT
BEGIN:VEVENT
DTSTART;TZID=Europe/Dublin:20271014T190000
DTEND;TZID=Europe/Dublin:20271014T200000
DTSTAMP:20260424T001846
CREATED:20260204T193609Z
LAST-MODIFIED:20260204T193609Z
UID:10003340-1823540400-1823544000@charlestown.ie
SUMMARY:Parish Choir
DESCRIPTION:
URL:https://charlestown.ie/event/parish-choir/2027-10-14/
LOCATION:St James Church\, Charlestown\, Church St\, Charlestown\, Co Mayo\, Ireland
ATTACH;FMTTYPE=image/jpeg:https://charlestown.ie/wp-content/uploads/2026/01/file_000000006b58720ab11c32110733255a.jpg
END:VEVENT
BEGIN:VEVENT
DTSTART;TZID=Europe/Dublin:20271021T190000
DTEND;TZID=Europe/Dublin:20271021T200000
DTSTAMP:20260424T001846
CREATED:20260204T193609Z
LAST-MODIFIED:20260204T193609Z
UID:10003341-1824145200-1824148800@charlestown.ie
SUMMARY:Parish Choir
DESCRIPTION:
URL:https://charlestown.ie/event/parish-choir/2027-10-21/
LOCATION:St James Church\, Charlestown\, Church St\, Charlestown\, Co Mayo\, Ireland
ATTACH;FMTTYPE=image/jpeg:https://charlestown.ie/wp-content/uploads/2026/01/file_000000006b58720ab11c32110733255a.jpg
END:VEVENT
BEGIN:VEVENT
DTSTART;TZID=Europe/Dublin:20271028T190000
DTEND;TZID=Europe/Dublin:20271028T200000
DTSTAMP:20260424T001846
CREATED:20260204T193609Z
LAST-MODIFIED:20260204T193609Z
UID:10003342-1824750000-1824753600@charlestown.ie
SUMMARY:Parish Choir
DESCRIPTION:
URL:https://charlestown.ie/event/parish-choir/2027-10-28/
LOCATION:St James Church\, Charlestown\, Church St\, Charlestown\, Co Mayo\, Ireland
ATTACH;FMTTYPE=image/jpeg:https://charlestown.ie/wp-content/uploads/2026/01/file_000000006b58720ab11c32110733255a.jpg
END:VEVENT
BEGIN:VEVENT
DTSTART;TZID=Europe/Dublin:20271104T190000
DTEND;TZID=Europe/Dublin:20271104T200000
DTSTAMP:20260424T001846
CREATED:20260204T193609Z
LAST-MODIFIED:20260204T193609Z
UID:10003343-1825354800-1825358400@charlestown.ie
SUMMARY:Parish Choir
DESCRIPTION:
URL:https://charlestown.ie/event/parish-choir/2027-11-04/
LOCATION:St James Church\, Charlestown\, Church St\, Charlestown\, Co Mayo\, Ireland
ATTACH;FMTTYPE=image/jpeg:https://charlestown.ie/wp-content/uploads/2026/01/file_000000006b58720ab11c32110733255a.jpg
END:VEVENT
BEGIN:VEVENT
DTSTART;TZID=Europe/Dublin:20271111T190000
DTEND;TZID=Europe/Dublin:20271111T200000
DTSTAMP:20260424T001846
CREATED:20260204T193609Z
LAST-MODIFIED:20260204T193609Z
UID:10003344-1825959600-1825963200@charlestown.ie
SUMMARY:Parish Choir
DESCRIPTION:
URL:https://charlestown.ie/event/parish-choir/2027-11-11/
LOCATION:St James Church\, Charlestown\, Church St\, Charlestown\, Co Mayo\, Ireland
ATTACH;FMTTYPE=image/jpeg:https://charlestown.ie/wp-content/uploads/2026/01/file_000000006b58720ab11c32110733255a.jpg
END:VEVENT
BEGIN:VEVENT
DTSTART;TZID=Europe/Dublin:20271118T190000
DTEND;TZID=Europe/Dublin:20271118T200000
DTSTAMP:20260424T001846
CREATED:20260204T193609Z
LAST-MODIFIED:20260204T193609Z
UID:10003345-1826564400-1826568000@charlestown.ie
SUMMARY:Parish Choir
DESCRIPTION:
URL:https://charlestown.ie/event/parish-choir/2027-11-18/
LOCATION:St James Church\, Charlestown\, Church St\, Charlestown\, Co Mayo\, Ireland
ATTACH;FMTTYPE=image/jpeg:https://charlestown.ie/wp-content/uploads/2026/01/file_000000006b58720ab11c32110733255a.jpg
END:VEVENT
BEGIN:VEVENT
DTSTART;TZID=Europe/Dublin:20271125T190000
DTEND;TZID=Europe/Dublin:20271125T200000
DTSTAMP:20260424T001846
CREATED:20260204T193609Z
LAST-MODIFIED:20260204T193609Z
UID:10003346-1827169200-1827172800@charlestown.ie
SUMMARY:Parish Choir
DESCRIPTION:
URL:https://charlestown.ie/event/parish-choir/2027-11-25/
LOCATION:St James Church\, Charlestown\, Church St\, Charlestown\, Co Mayo\, Ireland
ATTACH;FMTTYPE=image/jpeg:https://charlestown.ie/wp-content/uploads/2026/01/file_000000006b58720ab11c32110733255a.jpg
END:VEVENT
BEGIN:VEVENT
DTSTART;TZID=Europe/Dublin:20271202T190000
DTEND;TZID=Europe/Dublin:20271202T200000
DTSTAMP:20260424T001846
CREATED:20260204T193609Z
LAST-MODIFIED:20260204T193609Z
UID:10003347-1827774000-1827777600@charlestown.ie
SUMMARY:Parish Choir
DESCRIPTION:
URL:https://charlestown.ie/event/parish-choir/2027-12-02/
LOCATION:St James Church\, Charlestown\, Church St\, Charlestown\, Co Mayo\, Ireland
ATTACH;FMTTYPE=image/jpeg:https://charlestown.ie/wp-content/uploads/2026/01/file_000000006b58720ab11c32110733255a.jpg
END:VEVENT
BEGIN:VEVENT
DTSTART;TZID=Europe/Dublin:20271209T190000
DTEND;TZID=Europe/Dublin:20271209T200000
DTSTAMP:20260424T001846
CREATED:20260204T193609Z
LAST-MODIFIED:20260204T193609Z
UID:10003348-1828378800-1828382400@charlestown.ie
SUMMARY:Parish Choir
DESCRIPTION:
URL:https://charlestown.ie/event/parish-choir/2027-12-09/
LOCATION:St James Church\, Charlestown\, Church St\, Charlestown\, Co Mayo\, Ireland
ATTACH;FMTTYPE=image/jpeg:https://charlestown.ie/wp-content/uploads/2026/01/file_000000006b58720ab11c32110733255a.jpg
END:VEVENT
BEGIN:VEVENT
DTSTART;TZID=Europe/Dublin:20271216T190000
DTEND;TZID=Europe/Dublin:20271216T200000
DTSTAMP:20260424T001846
CREATED:20260204T193609Z
LAST-MODIFIED:20260204T193609Z
UID:10003349-1828983600-1828987200@charlestown.ie
SUMMARY:Parish Choir
DESCRIPTION:
URL:https://charlestown.ie/event/parish-choir/2027-12-16/
LOCATION:St James Church\, Charlestown\, Church St\, Charlestown\, Co Mayo\, Ireland
ATTACH;FMTTYPE=image/jpeg:https://charlestown.ie/wp-content/uploads/2026/01/file_000000006b58720ab11c32110733255a.jpg
END:VEVENT
BEGIN:VEVENT
DTSTART;TZID=Europe/Dublin:20271223T190000
DTEND;TZID=Europe/Dublin:20271223T200000
DTSTAMP:20260424T001846
CREATED:20260204T193609Z
LAST-MODIFIED:20260204T193609Z
UID:10003350-1829588400-1829592000@charlestown.ie
SUMMARY:Parish Choir
DESCRIPTION:
URL:https://charlestown.ie/event/parish-choir/2027-12-23/
LOCATION:St James Church\, Charlestown\, Church St\, Charlestown\, Co Mayo\, Ireland
ATTACH;FMTTYPE=image/jpeg:https://charlestown.ie/wp-content/uploads/2026/01/file_000000006b58720ab11c32110733255a.jpg
END:VEVENT
BEGIN:VEVENT
DTSTART;TZID=Europe/Dublin:20271230T190000
DTEND;TZID=Europe/Dublin:20271230T200000
DTSTAMP:20260424T001846
CREATED:20260204T193609Z
LAST-MODIFIED:20260204T193609Z
UID:10003351-1830193200-1830196800@charlestown.ie
SUMMARY:Parish Choir
DESCRIPTION:
URL:https://charlestown.ie/event/parish-choir/2027-12-30/
LOCATION:St James Church\, Charlestown\, Church St\, Charlestown\, Co Mayo\, Ireland
ATTACH;FMTTYPE=image/jpeg:https://charlestown.ie/wp-content/uploads/2026/01/file_000000006b58720ab11c32110733255a.jpg
END:VEVENT
BEGIN:VEVENT
DTSTART;TZID=Europe/Dublin:20280106T190000
DTEND;TZID=Europe/Dublin:20280106T200000
DTSTAMP:20260424T001846
CREATED:20260204T193609Z
LAST-MODIFIED:20260204T193609Z
UID:10003352-1830798000-1830801600@charlestown.ie
SUMMARY:Parish Choir
DESCRIPTION:
URL:https://charlestown.ie/event/parish-choir/2028-01-06/
LOCATION:St James Church\, Charlestown\, Church St\, Charlestown\, Co Mayo\, Ireland
ATTACH;FMTTYPE=image/jpeg:https://charlestown.ie/wp-content/uploads/2026/01/file_000000006b58720ab11c32110733255a.jpg
END:VEVENT
BEGIN:VEVENT
DTSTART;TZID=Europe/Dublin:20280113T190000
DTEND;TZID=Europe/Dublin:20280113T200000
DTSTAMP:20260424T001846
CREATED:20260204T193609Z
LAST-MODIFIED:20260204T193609Z
UID:10003353-1831402800-1831406400@charlestown.ie
SUMMARY:Parish Choir
DESCRIPTION:
URL:https://charlestown.ie/event/parish-choir/2028-01-13/
LOCATION:St James Church\, Charlestown\, Church St\, Charlestown\, Co Mayo\, Ireland
ATTACH;FMTTYPE=image/jpeg:https://charlestown.ie/wp-content/uploads/2026/01/file_000000006b58720ab11c32110733255a.jpg
END:VEVENT
END:VCALENDAR